Workbook
Name Clubs: 'Lookup Tables'!$B$43:$E$61
Name Competing_Clubs: 'Lookup Tables'!$B$43:$B$61
Name Strokes: 'Lookup Tables'!$B$4:$G$26
Name Venue_Info: 'Lookup Tables'!$B$30:$E$39
Name Venues: 'Lookup Tables'!$B$30:$B$39
Name Vwnue_Info: 'Lookup Tables'!$B$30:$E$39

Sheet Instructions
B2: ='Lookup Tables'!B64:D64 -> Derby and Notts Junior League - 2025
B4: Instructions
B6: PLEASE READ ALL OF THIS PAGE BEFORE YOU START
J7: =B77 -> v 2024.2
B8: Before You Start
B10: Please enter the "Age at" Date for the competition here (dd/mm/yy): | I10: 45815
B12: Please enter the competition Date here (dd/mm/yy): | I12: 45745
B14: Please enter the gala number here: | J14: 1
B16: Please enter the round number here: | J16: 1
B18: Number of teams competing in this gala: | J18: 6
B20: Please enter the gala venue here (use drop down, do not type):
B22: Please enter the License Number here (4EM24****): | I22: 4EM25****
B24: Please enter Teams for each lane below:
B26: PLEASE USE DROP DOWNS, DO NOT TYPE IN CELLS
B27: Lane 1: | E27: Lane 2: | H27: Lane 3:
B28: Lane 4: | E28: Lane 5: | H28: Lane 6:
B30: Before The Competition
B31: Please ensure the details above are correct. You will need to enter the swimmers names and Dates of birth on the corresponding Lane Sheet in this workbook and also the club / team name at the top of each sheet. These should be emailed over to you before the competition and then any changes should also be made on the night to reflect any changes that have been made to the teams. Please ensure that the dates of birth entered are in the format "dd/mm/yyyy". All of the names on these sheets will then populate on the corresponding lane on the results sheet and also show on the valedation sheet that should show you the swimmers age for the competition. If the swimmer is over age this will change to red to alert you, where the swim should then be for no points.
B40: During The Competition
B41: Entering Times
C42: to enter a time in seconds such as 24.44 seconds enter 24.44
C43: to enter a time in minutes and seconds such as 1 minute 24.44 seconds enter 124.44
B45: Equal Times
C46: If swimmers have equal times, use the placing judges reports to place them by adding 1/1000th of a second to the time.
C48: i.e. If swimmer a gets a time os 23.24 and swimmer b gets the same time but is deemed to have finished second of the two swimmers then enter swimmer b's time as 23.241
B52: Disqualification
C53: If a swimmers is to get disqualified for any reason please enter the disqualification in the following manner:
C54: "dq " followed by the reason code - dq 4.4***
D55: For example. A Disqualification for a faulty start "moving before the start signal given" would need to be in put as "dq 4.4"
E57: ***Please input some notes regarding the DQ in the Comments box. This can be the description on the DQ slip, just incase it goes missing.
B60: No Point/No Swim
C61: np = swum for no points
C62: dns = did not start/swim
B64: Placing Check
C65: In the columns following the results input there are some cells set up so you can easily check the input with the judges place slip. These cells will highlight in red if you have a joint placing.
B68: After The Competition
B69: After the gala has finished, please ensure a copy of this completed spreadsheet is emailed to the below email address as soon as possible so the league results can be upadted.
B72: League Manager: | D72: Paul Collins / Bobbie Gordon | G72: dnjs.league@btinternet.com
B74: Thank You for helping out at the gala.
B76: Derbyshire and Nottinghamshire Junior Swimming League Recorders Sheets
...

Sheet Lane 1 Team
A1: Team Name: | F1: =Instructions!C27 -> 0 | K1: =Instructions!$I$10 -> 45815 | L1: Total Number of Indiviual Events | M1: Individual Swims by Age Group
A2: Event | F2: Forename | G2: Surname | H2: Date of Birth | I2: SE Number | K2: Age | M2: 9 | N2: 10 | O2: 11 | P2: 12
A3: 1 | B3: Mixed | C3: 12/u | D3: 4 x 25m | E3: Medley Relay | F3: Relay
E4: Swimmer 1 | K4: =DATEDIF(H4,$K$1,"Y") -> 125
B5: 2 Open/Males and 2 Females (any order) | E5: Swimmer 2 | K5: =DATEDIF(H5,$K$1,"Y") -> 125
E6: Swimmer 3 | K6: =DATEDIF(H6,$K$1,"Y") -> 125
E7: Swimmer 4 | K7: =DATEDIF(H7,$K$1,"Y") -> 125
A8: 2 | B8: Mixed | C8: 9 yrs | D8: 4 x 25m | E8: Freestyle Relay | F8: Relay
E9: Swimmer 1 | K9: =DATEDIF(H9,$K$1,"Y") -> 125
B10: 2 Open/Males and 2 Females (any order) | E10: Swimmer 2 | K10: =DATEDIF(H10,$K$1,"Y") -> 125
E11: Swimmer 3 | K11: =DATEDIF(H11,$K$1,"Y") -> 125
E12: Swimmer 4 | K12: =DATEDIF(H12,$K$1,"Y") -> 125
A13: 3 | B13: Mixed | C13: 10/u | D13: 4 x 25m | E13: Medley Relay | F13: Relay
E14: Swimmer 1 | K14: =DATEDIF(H14,$K$1,"Y") -> 125
B15: 2 Open/Males and 2 Females (any order) | E15: Swimmer 2 | K15: =DATEDIF(H15,$K$1,"Y") -> 125
E16: Swimmer 3 | K16: =DATEDIF(H16,$K$1,"Y") -> 125
E17: Swimmer 4 | K17: =DATEDIF(H17,$K$1,"Y") -> 125
A18: 4 | B18: Mixed | C18: 11/u | D18: 4 x 25m | E18: Freestyle Relay | F18: Relay
E19: Swimmer 1 | K19: =DATEDIF(H19,$K$1,"Y") -> 125
B20: 2 Open/Males and 2 Females (any order) | E20: Swimmer 2 | K20: =DATEDIF(H20,$K$1,"Y") -> 125
E21: Swimmer 3 | K21: =DATEDIF(H21,$K$1,"Y") -> 125
E22: Swimmer 4 | K22: =DATEDIF(H22,$K$1,"Y") -> 125
A23: 5 | B23: Open/Male | C23: 9 yrs | D23: 25m | E23: Freestyle | K23: =DATEDIF(H23,$K$1,"Y") -> 125 | L23: =SUM(M23:P23) -> 0 | M23: =COUNTIF($I$23:$I$24,$I23)+COUNTIF($I$31:$I$32,$I23)+COUNTIF($I$39:$I$40,$I23)+COUNTIF($I$47:$I$48,$I23) -> 0 | N23: =COUNTIF($I$25:$I$26,$I23)+COUNTIF($I$33:$I$34,$I23)+COUNTIF($I$41:$I$42,$I23)+COUNTIF($I$49:$I$50,$I23) -> 0 | O23: =COUNTIF($I$27:$I$28,$I23)+COUNTIF($I$35:$I$36,$I23)+COUNTIF($I$43:$I$44,$I23)+COUNTIF($I$51:$I$52,$I23) -> 0 | P23: =COUNTIF($I$29:$I$30,$I23)+COUNTIF($I$37:$I$38,$I23)+COUNTIF($I$45:$I$46,$I23)+COUNTIF($I$53:$I$54,$I23) -> 0
A24: 6 | B24: Female | C24: 9 yrs | D24: 25m | E24: Freestyle | K24: =DATEDIF(H24,$K$1,"Y") -> 125 | L24: =SUM(M24:P24) -> 0 | M24: =COUNTIF($I$23:$I$24,$I24)+COUNTIF($I$31:$I$32,$I24)+COUNTIF($I$39:$I$40,$I24)+COUNTIF($I$47:$I$48,$I24) -> 0 | N24: =COUNTIF($I$25:$I$26,$I24)+COUNTIF($I$33:$I$34,$I24)+COUNTIF($I$41:$I$42,$I24)+COUNTIF($I$49:$I$50,$I24) -> 0 | O24: =COUNTIF($I$27:$I$28,$I24)+COUNTIF($I$35:$I$36,$I24)+COUNTIF($I$43:$I$44,$I24)+COUNTIF($I$51:$I$52,$I24) -> 0 | P24: =COUNTIF($I$29:$I$30,$I24)+COUNTIF($I$37:$I$38,$I24)+COUNTIF($I$45:$I$46,$I24)+COUNTIF($I$53:$I$54,$I24) -> 0
A25: 7 | B25: Open/Male | C25: 10 yrs | D25: 50m | E25: Breaststroke | K25: =DATEDIF(H25,$K$1,"Y") -> 125 | L25: =SUM(M25:P25) -> 0 | M25: =COUNTIF($I$23:$I$24,$I25)+COUNTIF($I$31:$I$32,$I25)+COUNTIF($I$39:$I$40,$I25)+COUNTIF($I$47:$I$48,$I25) -> 0 | N25: =COUNTIF($I$25:$I$26,$I25)+COUNTIF($I$33:$I$34,$I25)+COUNTIF($I$41:$I$42,$I25)+COUNTIF($I$49:$I$50,$I25) -> 0 | O25: =COUNTIF($I$27:$I$28,$I25)+COUNTIF($I$35:$I$36,$I25)+COUNTIF($I$43:$I$44,$I25)+COUNTIF($I$51:$I$52,$I25) -> 0 | P25: =COUNTIF($I$29:$I$30,$I25)+COUNTIF($I$37:$I$38,$I25)+COUNTIF($I$45:$I$46,$I25)+COUNTIF($I$53:$I$54,$I25) -> 0
A26: 8 | B26: Female | C26: 10 yrs | D26: 50m | E26: Breaststroke | K26: =DATEDIF(H26,$K$1,"Y") -> 125 | L26: =SUM(M26:P26) -> 0 | M26: =COUNTIF($I$23:$I$24,$I26)+COUNTIF($I$31:$I$32,$I26)+COUNTIF($I$39:$I$40,$I26)+COUNTIF($I$47:$I$48,$I26) -> 0 | N26: =COUNTIF($I$25:$I$26,$I26)+COUNTIF($I$33:$I$34,$I26)+COUNTIF($I$41:$I$42,$I26)+COUNTIF($I$49:$I$50,$I26) -> 0 | O26: =COUNTIF($I$27:$I$28,$I26)+COUNTIF($I$35:$I$36,$I26)+COUNTIF($I$43:$I$44,$I26)+COUNTIF($I$51:$I$52,$I26) -> 0 | P26: =COUNTIF($I$29:$I$30,$I26)+COUNTIF($I$37:$I$38,$I26)+COUNTIF($I$45:$I$46,$I26)+COUNTIF($I$53:$I$54,$I26) -> 0
A27: 9 | B27: Open/Male | C27: 11 yrs | D27: 50m | E27: Backstroke | K27: =DATEDIF(H27,$K$1,"Y") -> 125 | L27: =SUM(M27:P27) -> 0 | M27: =COUNTIF($I$23:$I$24,$I27)+COUNTIF($I$31:$I$32,$I27)+COUNTIF($I$39:$I$40,$I27)+COUNTIF($I$47:$I$48,$I27) -> 0 | N27: =COUNTIF($I$25:$I$26,$I27)+COUNTIF($I$33:$I$34,$I27)+COUNTIF($I$41:$I$42,$I27)+COUNTIF($I$49:$I$50,$I27) -> 0 | O27: =COUNTIF($I$27:$I$28,$I27)+COUNTIF($I$35:$I$36,$I27)+COUNTIF($I$43:$I$44,$I27)+COUNTIF($I$51:$I$52,$I27) -> 0 | P27: =COUNTIF($I$29:$I$30,$I27)+COUNTIF($I$37:$I$38,$I27)+COUNTIF($I$45:$I$46,$I27)+COUNTIF($I$53:$I$54,$I27) -> 0
A28: 10 | B28: Female | C28: 11 yrs | D28: 50m | E28: Backstroke | K28: =DATEDIF(H28,$K$1,"Y") -> 125 | L28: =SUM(M28:P28) -> 0 | M28: =COUNTIF($I$23:$I$24,$I28)+COUNTIF($I$31:$I$32,$I28)+COUNTIF($I$39:$I$40,$I28)+COUNTIF($I$47:$I$48,$I28) -> 0 | N28: =COUNTIF($I$25:$I$26,$I28)+COUNTIF($I$33:$I$34,$I28)+COUNTIF($I$41:$I$42,$I28)+COUNTIF($I$49:$I$50,$I28) -> 0 | O28: =COUNTIF($I$27:$I$28,$I28)+COUNTIF($I$35:$I$36,$I28)+COUNTIF($I$43:$I$44,$I28)+COUNTIF($I$51:$I$52,$I28) -> 0 | P28: =COUNTIF($I$29:$I$30,$I28)+COUNTIF($I$37:$I$38,$I28)+COUNTIF($I$45:$I$46,$I28)+COUNTIF($I$53:$I$54,$I28) -> 0
A29: 11 | B29: Open/Male | C29: 12 yrs | D29: 50m | E29: Butterfly | K29: =DATEDIF(H29,$K$1,"Y") -> 125 | L29: =SUM(M29:P29) -> 0 | M29: =COUNTIF($I$23:$I$24,$I29)+COUNTIF($I$31:$I$32,$I29)+COUNTIF($I$39:$I$40,$I29)+COUNTIF($I$47:$I$48,$I29) -> 0 | N29: =COUNTIF($I$25:$I$26,$I29)+COUNTIF($I$33:$I$34,$I29)+COUNTIF($I$41:$I$42,$I29)+COUNTIF($I$49:$I$50,$I29) -> 0 | O29: =COUNTIF($I$27:$I$28,$I29)+COUNTIF($I$35:$I$36,$I29)+COUNTIF($I$43:$I$44,$I29)+COUNTIF($I$51:$I$52,$I29) -> 0 | P29: =COUNTIF($I$29:$I$30,$I29)+COUNTIF($I$37:$I$38,$I29)+COUNTIF($I$45:$I$46,$I29)+COUNTIF($I$53:$I$54,$I29) -> 0
A30: 12 | B30: Female | C30: 12 yrs | D30: 50m | E30: Butterfly | K30: =DATEDIF(H30,$K$1,"Y") -> 125 | L30: =SUM(M30:P30) -> 0 | M30: =COUNTIF($I$23:$I$24,$I30)+COUNTIF($I$31:$I$32,$I30)+COUNTIF($I$39:$I$40,$I30)+COUNTIF($I$47:$I$48,$I30) -> 0 | N30: =COUNTIF($I$25:$I$26,$I30)+COUNTIF($I$33:$I$34,$I30)+COUNTIF($I$41:$I$42,$I30)+COUNTIF($I$49:$I$50,$I30) -> 0 | O30: =COUNTIF($I$27:$I$28,$I30)+COUNTIF($I$35:$I$36,$I30)+COUNTIF($I$43:$I$44,$I30)+COUNTIF($I$51:$I$52,$I30) -> 0 | P30: =COUNTIF($I$29:$I$30,$I30)+COUNTIF($I$37:$I$38,$I30)+COUNTIF($I$45:$I$46,$I30)+COUNTIF($I$53:$I$54,$I30) -> 0
A31: 13 | B31: Open/Male | C31: 9 yrs | D31: 25m | E31: Breaststroke | K31: =DATEDIF(H31,$K$1,"Y") -> 125 | L31: =SUM(M31:P31) -> 0 | M31: =COUNTIF($I$23:$I$24,$I31)+COUNTIF($I$31:$I$32,$I31)+COUNTIF($I$39:$I$40,$I31)+COUNTIF($I$47:$I$48,$I31) -> 0 | N31: =COUNTIF($I$25:$I$26,$I31)+COUNTIF($I$33:$I$34,$I31)+COUNTIF($I$41:$I$42,$I31)+COUNTIF($I$49:$I$50,$I31) -> 0 | O31: =COUNTIF($I$27:$I$28,$I31)+COUNTIF($I$35:$I$36,$I31)+COUNTIF($I$43:$I$44,$I31)+COUNTIF($I$51:$I$52,$I31) -> 0 | P31: =COUNTIF($I$29:$I$30,$I31)+COUNTIF($I$37:$I$38,$I31)+COUNTIF($I$45:$I$46,$I31)+COUNTIF($I$53:$I$54,$I31) -> 0
A32: 14 | B32: Female | C32: 9 yrs | D32: 25m | E32: Breaststroke | K32: =DATEDIF(H32,$K$1,"Y") -> 125 | L32: =SUM(M32:P32) -> 0 | M32: =COUNTIF($I$23:$I$24,$I32)+COUNTIF($I$31:$I$32,$I32)+COUNTIF($I$39:$I$40,$I32)+COUNTIF($I$47:$I$48,$I32) -> 0 | N32: =COUNTIF($I$25:$I$26,$I32)+COUNTIF($I$33:$I$34,$I32)+COUNTIF($I$41:$I$42,$I32)+COUNTIF($I$49:$I$50,$I32) -> 0 | O32: =COUNTIF($I$27:$I$28,$I32)+COUNTIF($I$35:$I$36,$I32)+COUNTIF($I$43:$I$44,$I32)+COUNTIF($I$51:$I$52,$I32) -> 0 | P32: =COUNTIF($I$29:$I$30,$I32)+COUNTIF($I$37:$I$38,$I32)+COUNTIF($I$45:$I$46,$I32)+COUNTIF($I$53:$I$54,$I32) -> 0
A33: 15 | B33: Open/Male | C33: 10 yrs | D33: 50m | E33: Backstroke | K33: =DATEDIF(H33,$K$1,"Y") -> 125 | L33: =SUM(M33:P33) -> 0 | M33: =COUNTIF($I$23:$I$24,$I33)+COUNTIF($I$31:$I$32,$I33)+COUNTIF($I$39:$I$40,$I33)+COUNTIF($I$47:$I$48,$I33) -> 0 | N33: =COUNTIF($I$25:$I$26,$I33)+COUNTIF($I$33:$I$34,$I33)+COUNTIF($I$41:$I$42,$I33)+COUNTIF($I$49:$I$50,$I33) -> 0 | O33: =COUNTIF($I$27:$I$28,$I33)+COUNTIF($I$35:$I$36,$I33)+COUNTIF($I$43:$I$44,$I33)+COUNTIF($I$51:$I$52,$I33) -> 0 | P33: =COUNTIF($I$29:$I$30,$I33)+COUNTIF($I$37:$I$38,$I33)+COUNTIF($I$45:$I$46,$I33)+COUNTIF($I$53:$I$54,$I33) -> 0
A34: 16 | B34: Female | C34: 10 yrs | D34: 50m | E34: Backstroke | K34: =DATEDIF(H34,$K$1,"Y") -> 125 | L34: =SUM(M34:P34) -> 0 | M34: =COUNTIF($I$23:$I$24,$I34)+COUNTIF($I$31:$I$32,$I34)+COUNTIF($I$39:$I$40,$I34)+COUNTIF($I$47:$I$48,$I34) -> 0 | N34: =COUNTIF($I$25:$I$26,$I34)+COUNTIF($I$33:$I$34,$I34)+COUNTIF($I$41:$I$42,$I34)+COUNTIF($I$49:$I$50,$I34) -> 0 | O34: =COUNTIF($I$27:$I$28,$I34)+COUNTIF($I$35:$I$36,$I34)+COUNTIF($I$43:$I$44,$I34)+COUNTIF($I$51:$I$52,$I34) -> 0 | P34: =COUNTIF($I$29:$I$30,$I34)+COUNTIF($I$37:$I$38,$I34)+COUNTIF($I$45:$I$46,$I34)+COUNTIF($I$53:$I$54,$I34) -> 0
... A54: 36 | B54: Female | C54: 12 yrs | D54: 50m | E54: Backstroke | K54: =DATEDIF(H54,$K$1,"Y") -> 125 | L54: =SUM(M54:P54) -> 0 | M54: =COUNTIF($I$23:$I$24,$I54)+COUNTIF($I$31:$I$32,$I54)+COUNTIF($I$39:$I$40,$I54)+COUNTIF($I$47:$I$48,$I54) -> 0 | N54: =COUNTIF($I$25:$I$26,$I54)+COUNTIF($I$33:$I$34,$I54)+COUNTIF($I$41:$I$42,$I54)+COUNTIF($I$49:$I$50,$I54) -> 0 | O54: =COUNTIF($I$27:$I$28,$I54)+COUNTIF($I$35:$I$36,$I54)+COUNTIF($I$43:$I$44,$I54)+COUNTIF($I$51:$I$52,$I54) -> 0 | P54: =COUNTIF($I$29:$I$30,$I54)+COUNTIF($I$37:$I$38,$I54)+COUNTIF($I$45:$I$46,$I54)+COUNTIF($I$53:$I$54,$I54) -> 0
A55: 37 | B55: Mixed | C55: 9 yrs | D55: 4 x 25m | E55: Medley Relay | F55: Relay
E56: Swimmer 1 | K56: =DATEDIF(H56,$K$1,"Y") -> 125
B57: 2 Open/Males and 2 Females (any order) | E57: Swimmer 2 | K57: =DATEDIF(H57,$K$1,"Y") -> 125
E58: Swimmer 3 | K58: =DATEDIF(H58,$K$1,"Y") -> 125
E59: Swimmer 4 | K59: =DATEDIF(H59,$K$1,"Y") -> 125
...

Sheet Lane 2 Team
A1: Team Name: | F1: =Instructions!F27 -> 0 | K1: =Instructions!$I$10 -> 45815 | L1: Total Number of Indiviual Events | M1: Individual Swims by Age Group
A2: Event | F2: Forename | G2: Surname | H2: Date of Birth | I2: SE Number | K2: Age | M2: 9 | N2: 10 | O2: 11 | P2: 12
A3: 1 | B3: Mixed | C3: 12/u | D3: 4 x 25m | E3: Medley Relay | F3: Relay
E4: Swimmer 1 | K4: =DATEDIF(H4,$K$1,"Y") -> 125
B5: 2 Open/Males and 2 Females (any order) | E5: Swimmer 2 | K5: =DATEDIF(H5,$K$1,"Y") -> 125
E6: Swimmer 3 | K6: =DATEDIF(H6,$K$1,"Y") -> 125
E7: Swimmer 4 | K7: =DATEDIF(H7,$K$1,"Y") -> 125
A8: 2 | B8: Mixed | C8: 9 yrs | D8: 4 x 25m | E8: Freestyle Relay | F8: Relay
E9: Swimmer 1 | K9: =DATEDIF(H9,$K$1,"Y") -> 125
B10: 2 Open/Males and 2 Females (any order) | E10: Swimmer 2 | K10: =DATEDIF(H10,$K$1,"Y") -> 125
E11: Swimmer 3 | K11: =DATEDIF(H11,$K$1,"Y") -> 125
E12: Swimmer 4 | K12: =DATEDIF(H12,$K$1,"Y") -> 125
A13: 3 | B13: Mixed | C13: 10/u | D13: 4 x 25m | E13: Medley Relay | F13: Relay
E14: Swimmer 1 | K14: =DATEDIF(H14,$K$1,"Y") -> 125
B15: 2 Open/Males and 2 Females (any order) | E15: Swimmer 2 | K15: =DATEDIF(H15,$K$1,"Y") -> 125
E16: Swimmer 3 | K16: =DATEDIF(H16,$K$1,"Y") -> 125
E17: Swimmer 4 | K17: =DATEDIF(H17,$K$1,"Y") -> 125
A18: 4 | B18: Mixed | C18: 11/u | D18: 4 x 25m | E18: Freestyle Relay | F18: Relay
E19: Swimmer 1 | K19: =DATEDIF(H19,$K$1,"Y") -> 125
B20: 2 Open/Males and 2 Females (any order) | E20: Swimmer 2 | K20: =DATEDIF(H20,$K$1,"Y") -> 125
E21: Swimmer 3 | K21: =DATEDIF(H21,$K$1,"Y") -> 125
E22: Swimmer 4 | K22: =DATEDIF(H22,$K$1,"Y") -> 125
A23: 5 | B23: Open/Male | C23: 9 yrs | D23: 25m | E23: Freestyle | K23: =DATEDIF(H23,$K$1,"Y") -> 125 | L23: =SUM(M23:P23) -> 0 | M23: =COUNTIF($I$23:$I$24,$I23)+COUNTIF($I$31:$I$32,$I23)+COUNTIF($I$39:$I$40,$I23)+COUNTIF($I$47:$I$48,$I23) -> 0 | N23: =COUNTIF($I$25:$I$26,$I23)+COUNTIF($I$33:$I$34,$I23)+COUNTIF($I$41:$I$42,$I23)+COUNTIF($I$49:$I$50,$I23) -> 0 | O23: =COUNTIF($I$27:$I$28,$I23)+COUNTIF($I$35:$I$36,$I23)+COUNTIF($I$43:$I$44,$I23)+COUNTIF($I$51:$I$52,$I23) -> 0 | P23: =COUNTIF($I$29:$I$30,$I23)+COUNTIF($I$37:$I$38,$I23)+COUNTIF($I$45:$I$46,$I23)+COUNTIF($I$53:$I$54,$I23) -> 0
A24: 6 | B24: Female | C24: 9 yrs | D24: 25m | E24: Freestyle | K24: =DATEDIF(H24,$K$1,"Y") -> 125 | L24: =SUM(M24:P24) -> 0 | M24: =COUNTIF($I$23:$I$24,$I24)+COUNTIF($I$31:$I$32,$I24)+COUNTIF($I$39:$I$40,$I24)+COUNTIF($I$47:$I$48,$I24) -> 0 | N24: =COUNTIF($I$25:$I$26,$I24)+COUNTIF($I$33:$I$34,$I24)+COUNTIF($I$41:$I$42,$I24)+COUNTIF($I$49:$I$50,$I24) -> 0 | O24: =COUNTIF($I$27:$I$28,$I24)+COUNTIF($I$35:$I$36,$I24)+COUNTIF($I$43:$I$44,$I24)+COUNTIF($I$51:$I$52,$I24) -> 0 | P24: =COUNTIF($I$29:$I$30,$I24)+COUNTIF($I$37:$I$38,$I24)+COUNTIF($I$45:$I$46,$I24)+COUNTIF($I$53:$I$54,$I24) -> 0
A25: 7 | B25: Open/Male | C25: 10 yrs | D25: 50m | E25: Breaststroke | K25: =DATEDIF(H25,$K$1,"Y") -> 125 | L25: =SUM(M25:P25) -> 0 | M25: =COUNTIF($I$23:$I$24,$I25)+COUNTIF($I$31:$I$32,$I25)+COUNTIF($I$39:$I$40,$I25)+COUNTIF($I$47:$I$48,$I25) -> 0 | N25: =COUNTIF($I$25:$I$26,$I25)+COUNTIF($I$33:$I$34,$I25)+COUNTIF($I$41:$I$42,$I25)+COUNTIF($I$49:$I$50,$I25) -> 0 | O25: =COUNTIF($I$27:$I$28,$I25)+COUNTIF($I$35:$I$36,$I25)+COUNTIF($I$43:$I$44,$I25)+COUNTIF($I$51:$I$52,$I25) -> 0 | P25: =COUNTIF($I$29:$I$30,$I25)+COUNTIF($I$37:$I$38,$I25)+COUNTIF($I$45:$I$46,$I25)+COUNTIF($I$53:$I$54,$I25) -> 0
A26: 8 | B26: Female | C26: 10 yrs | D26: 50m | E26: Breaststroke | K26: =DATEDIF(H26,$K$1,"Y") -> 125 | L26: =SUM(M26:P26) -> 0 | M26: =COUNTIF($I$23:$I$24,$I26)+COUNTIF($I$31:$I$32,$I26)+COUNTIF($I$39:$I$40,$I26)+COUNTIF($I$47:$I$48,$I26) -> 0 | N26: =COUNTIF($I$25:$I$26,$I26)+COUNTIF($I$33:$I$34,$I26)+COUNTIF($I$41:$I$42,$I26)+COUNTIF($I$49:$I$50,$I26) -> 0 | O26: =COUNTIF($I$27:$I$28,$I26)+COUNTIF($I$35:$I$36,$I26)+COUNTIF($I$43:$I$44,$I26)+COUNTIF($I$51:$I$52,$I26) -> 0 | P26: =COUNTIF($I$29:$I$30,$I26)+COUNTIF($I$37:$I$38,$I26)+COUNTIF($I$45:$I$46,$I26)+COUNTIF($I$53:$I$54,$I26) -> 0
A27: 9 | B27: Open/Male | C27: 11 yrs | D27: 50m | E27: Backstroke | K27: =DATEDIF(H27,$K$1,"Y") -> 125 | L27: =SUM(M27:P27) -> 0 | M27: =COUNTIF($I$23:$I$24,$I27)+COUNTIF($I$31:$I$32,$I27)+COUNTIF($I$39:$I$40,$I27)+COUNTIF($I$47:$I$48,$I27) -> 0 | N27: =COUNTIF($I$25:$I$26,$I27)+COUNTIF($I$33:$I$34,$I27)+COUNTIF($I$41:$I$42,$I27)+COUNTIF($I$49:$I$50,$I27) -> 0 | O27: =COUNTIF($I$27:$I$28,$I27)+COUNTIF($I$35:$I$36,$I27)+COUNTIF($I$43:$I$44,$I27)+COUNTIF($I$51:$I$52,$I27) -> 0 | P27: =COUNTIF($I$29:$I$30,$I27)+COUNTIF($I$37:$I$38,$I27)+COUNTIF($I$45:$I$46,$I27)+COUNTIF($I$53:$I$54,$I27) -> 0
A28: 10 | B28: Female | C28: 11 yrs | D28: 50m | E28: Backstroke | K28: =DATEDIF(H28,$K$1,"Y") -> 125 | L28: =SUM(M28:P28) -> 0 | M28: =COUNTIF($I$23:$I$24,$I28)+COUNTIF($I$31:$I$32,$I28)+COUNTIF($I$39:$I$40,$I28)+COUNTIF($I$47:$I$48,$I28) -> 0 | N28: =COUNTIF($I$25:$I$26,$I28)+COUNTIF($I$33:$I$34,$I28)+COUNTIF($I$41:$I$42,$I28)+COUNTIF($I$49:$I$50,$I28) -> 0 | O28: =COUNTIF($I$27:$I$28,$I28)+COUNTIF($I$35:$I$36,$I28)+COUNTIF($I$43:$I$44,$I28)+COUNTIF($I$51:$I$52,$I28) -> 0 | P28: =COUNTIF($I$29:$I$30,$I28)+COUNTIF($I$37:$I$38,$I28)+COUNTIF($I$45:$I$46,$I28)+COUNTIF($I$53:$I$54,$I28) -> 0
A29: 11 | B29: Open/Male | C29: 12 yrs | D29: 50m | E29: Butterfly | K29: =DATEDIF(H29,$K$1,"Y") -> 125 | L29: =SUM(M29:P29) -> 0 | M29: =COUNTIF($I$23:$I$24,$I29)+COUNTIF($I$31:$I$32,$I29)+COUNTIF($I$39:$I$40,$I29)+COUNTIF($I$47:$I$48,$I29) -> 0 | N29: =COUNTIF($I$25:$I$26,$I29)+COUNTIF($I$33:$I$34,$I29)+COUNTIF($I$41:$I$42,$I29)+COUNTIF($I$49:$I$50,$I29) -> 0 | O29: =COUNTIF($I$27:$I$28,$I29)+COUNTIF($I$35:$I$36,$I29)+COUNTIF($I$43:$I$44,$I29)+COUNTIF($I$51:$I$52,$I29) -> 0 | P29: =COUNTIF($I$29:$I$30,$I29)+COUNTIF($I$37:$I$38,$I29)+COUNTIF($I$45:$I$46,$I29)+COUNTIF($I$53:$I$54,$I29) -> 0
A30: 12 | B30: Female | C30: 12 yrs | D30: 50m | E30: Butterfly | K30: =DATEDIF(H30,$K$1,"Y") -> 125 | L30: =SUM(M30:P30) -> 0 | M30: =COUNTIF($I$23:$I$24,$I30)+COUNTIF($I$31:$I$32,$I30)+COUNTIF($I$39:$I$40,$I30)+COUNTIF($I$47:$I$48,$I30) -> 0 | N30: =COUNTIF($I$25:$I$26,$I30)+COUNTIF($I$33:$I$34,$I30)+COUNTIF($I$41:$I$42,$I30)+COUNTIF($I$49:$I$50,$I30) -> 0 | O30: =COUNTIF($I$27:$I$28,$I30)+COUNTIF($I$35:$I$36,$I30)+COUNTIF($I$43:$I$44,$I30)+COUNTIF($I$51:$I$52,$I30) -> 0 | P30: =COUNTIF($I$29:$I$30,$I30)+COUNTIF($I$37:$I$38,$I30)+COUNTIF($I$45:$I$46,$I30)+COUNTIF($I$53:$I$54,$I30) -> 0
A31: 13 | B31: Open/Male | C31: 9 yrs | D31: 25m | E31: Breaststroke | K31: =DATEDIF(H31,$K$1,"Y") -> 125 | L31: =SUM(M31:P31) -> 0 | M31: =COUNTIF($I$23:$I$24,$I31)+COUNTIF($I$31:$I$32,$I31)+COUNTIF($I$39:$I$40,$I31)+COUNTIF($I$47:$I$48,$I31) -> 0 | N31: =COUNTIF($I$25:$I$26,$I31)+COUNTIF($I$33:$I$34,$I31)+COUNTIF($I$41:$I$42,$I31)+COUNTIF($I$49:$I$50,$I31) -> 0 | O31: =COUNTIF($I$27:$I$28,$I31)+COUNTIF($I$35:$I$36,$I31)+COUNTIF($I$43:$I$44,$I31)+COUNTIF($I$51:$I$52,$I31) -> 0 | P31: =COUNTIF($I$29:$I$30,$I31)+COUNTIF($I$37:$I$38,$I31)+COUNTIF($I$45:$I$46,$I31)+COUNTIF($I$53:$I$54,$I31) -> 0
A32: 14 | B32: Female | C32: 9 yrs | D32: 25m | E32: Breaststroke | K32: =DATEDIF(H32,$K$1,"Y") -> 125 | L32: =SUM(M32:P32) -> 0 | M32: =COUNTIF($I$23:$I$24,$I32)+COUNTIF($I$31:$I$32,$I32)+COUNTIF($I$39:$I$40,$I32)+COUNTIF($I$47:$I$48,$I32) -> 0 | N32: =COUNTIF($I$25:$I$26,$I32)+COUNTIF($I$33:$I$34,$I32)+COUNTIF($I$41:$I$42,$I32)+COUNTIF($I$49:$I$50,$I32) -> 0 | O32: =COUNTIF($I$27:$I$28,$I32)+COUNTIF($I$35:$I$36,$I32)+COUNTIF($I$43:$I$44,$I32)+COUNTIF($I$51:$I$52,$I32) -> 0 | P32: =COUNTIF($I$29:$I$30,$I32)+COUNTIF($I$37:$I$38,$I32)+COUNTIF($I$45:$I$46,$I32)+COUNTIF($I$53:$I$54,$I32) -> 0
A33: 15 | B33: Open/Male | C33: 10 yrs | D33: 50m | E33: Backstroke | K33: =DATEDIF(H33,$K$1,"Y") -> 125 | L33: =SUM(M33:P33) -> 0 | M33: =COUNTIF($I$23:$I$24,$I33)+COUNTIF($I$31:$I$32,$I33)+COUNTIF($I$39:$I$40,$I33)+COUNTIF($I$47:$I$48,$I33) -> 0 | N33: =COUNTIF($I$25:$I$26,$I33)+COUNTIF($I$33:$I$34,$I33)+COUNTIF($I$41:$I$42,$I33)+COUNTIF($I$49:$I$50,$I33) -> 0 | O33: =COUNTIF($I$27:$I$28,$I33)+COUNTIF($I$35:$I$36,$I33)+COUNTIF($I$43:$I$44,$I33)+COUNTIF($I$51:$I$52,$I33) -> 0 | P33: =COUNTIF($I$29:$I$30,$I33)+COUNTIF($I$37:$I$38,$I33)+COUNTIF($I$45:$I$46,$I33)+COUNTIF($I$53:$I$54,$I33) -> 0
A34: 16 | B34: Female | C34: 10 yrs | D34: 50m | E34: Backstroke | K34: =DATEDIF(H34,$K$1,"Y") -> 125 | L34: =SUM(M34:P34) -> 0 | M34: =COUNTIF($I$23:$I$24,$I34)+COUNTIF($I$31:$I$32,$I34)+COUNTIF($I$39:$I$40,$I34)+COUNTIF($I$47:$I$48,$I34) -> 0 | N34: =COUNTIF($I$25:$I$26,$I34)+COUNTIF($I$33:$I$34,$I34)+COUNTIF($I$41:$I$42,$I34)+COUNTIF($I$49:$I$50,$I34) -> 0 | O34: =COUNTIF($I$27:$I$28,$I34)+COUNTIF($I$35:$I$36,$I34)+COUNTIF($I$43:$I$44,$I34)+COUNTIF($I$51:$I$52,$I34) -> 0 | P34: =COUNTIF($I$29:$I$30,$I34)+COUNTIF($I$37:$I$38,$I34)+COUNTIF($I$45:$I$46,$I34)+COUNTIF($I$53:$I$54,$I34) -> 0
... A54: 36 | B54: Female | C54: 12 yrs | D54: 50m | E54: Backstroke | K54: =DATEDIF(H54,$K$1,"Y") -> 125 | L54: =SUM(M54:P54) -> 0 | M54: =COUNTIF($I$23:$I$24,$I54)+COUNTIF($I$31:$I$32,$I54)+COUNTIF($I$39:$I$40,$I54)+COUNTIF($I$47:$I$48,$I54) -> 0 | N54: =COUNTIF($I$25:$I$26,$I54)+COUNTIF($I$33:$I$34,$I54)+COUNTIF($I$41:$I$42,$I54)+COUNTIF($I$49:$I$50,$I54) -> 0 | O54: =COUNTIF($I$27:$I$28,$I54)+COUNTIF($I$35:$I$36,$I54)+COUNTIF($I$43:$I$44,$I54)+COUNTIF($I$51:$I$52,$I54) -> 0 | P54: =COUNTIF($I$29:$I$30,$I54)+COUNTIF($I$37:$I$38,$I54)+COUNTIF($I$45:$I$46,$I54)+COUNTIF($I$53:$I$54,$I54) -> 0
A55: 37 | B55: Mixed | C55: 9 yrs | D55: 4 x 25m | E55: Medley Relay | F55: Relay
E56: Swimmer 1 | K56: =DATEDIF(H56,$K$1,"Y") -> 125
B57: 2 Open/Males and 2 Females (any order) | E57: Swimmer 2 | K57: =DATEDIF(H57,$K$1,"Y") -> 125
E58: Swimmer 3 | K58: =DATEDIF(H58,$K$1,"Y") -> 125
E59: Swimmer 4 | K59: =DATEDIF(H59,$K$1,"Y") -> 125
...

Sheet Lane 3 Team
A1: Team Name: | F1: =Instructions!I27 -> 0 | K1: =Instructions!$I$10 -> 45815 | L1: Total Number of Indiviual Events | M1: Individual Swims by Age Group
A2: Event | F2: Forename | G2: Surname | H2: Date of Birth | I2: SE Number | K2: Age | M2: 9 | N2: 10 | O2: 11 | P2: 12
A3: 1 | B3: Mixed | C3: 12/u | D3: 4 x 25m | E3: Medley Relay | F3: Relay
E4: Swimmer 1 | K4: =DATEDIF(H4,$K$1,"Y") -> 125
B5: 2 Open/Males and 2 Females (any order) | E5: Swimmer 2 | K5: =DATEDIF(H5,$K$1,"Y") -> 125
E6: Swimmer 3 | K6: =DATEDIF(H6,$K$1,"Y") -> 125
E7: Swimmer 4 | K7: =DATEDIF(H7,$K$1,"Y") -> 125
A8: 2 | B8: Mixed | C8: 9 yrs | D8: 4 x 25m | E8: Freestyle Relay | F8: Relay
E9: Swimmer 1 | K9: =DATEDIF(H9,$K$1,"Y") -> 125
B10: 2 Open/Males and 2 Females (any order) | E10: Swimmer 2 | K10: =DATEDIF(H10,$K$1,"Y") -> 125
E11: Swimmer 3 | K11: =DATEDIF(H11,$K$1,"Y") -> 125
E12: Swimmer 4 | K12: =DATEDIF(H12,$K$1,"Y") -> 125
A13: 3 | B13: Mixed | C13: 10/u | D13: 4 x 25m | E13: Medley Relay | F13: Relay
E14: Swimmer 1 | K14: =DATEDIF(H14,$K$1,"Y") -> 125
B15: 2 Open/Males and 2 Females (any order) | E15: Swimmer 2 | K15: =DATEDIF(H15,$K$1,"Y") -> 125
E16: Swimmer 3 | K16: =DATEDIF(H16,$K$1,"Y") -> 125
E17: Swimmer 4 | K17: =DATEDIF(H17,$K$1,"Y") -> 125
A18: 4 | B18: Mixed | C18: 11/u | D18: 4 x 25m | E18: Freestyle Relay | F18: Relay
E19: Swimmer 1 | K19: =DATEDIF(H19,$K$1,"Y") -> 125
B20: 2 Open/Males and 2 Females (any order) | E20: Swimmer 2 | K20: =DATEDIF(H20,$K$1,"Y") -> 125
E21: Swimmer 3 | K21: =DATEDIF(H21,$K$1,"Y") -> 125
E22: Swimmer 4 | K22: =DATEDIF(H22,$K$1,"Y") -> 125
A23: 5 | B23: Open/Male | C23: 9 yrs | D23: 25m | E23: Freestyle | K23: =DATEDIF(H23,$K$1,"Y") -> 125 | L23: =SUM(M23:P23) -> 0 | M23: =COUNTIF($I$23:$I$24,$I23)+COUNTIF($I$31:$I$32,$I23)+COUNTIF($I$39:$I$40,$I23)+COUNTIF($I$47:$I$48,$I23) -> 0 | N23: =COUNTIF($I$25:$I$26,$I23)+COUNTIF($I$33:$I$34,$I23)+COUNTIF($I$41:$I$42,$I23)+COUNTIF($I$49:$I$50,$I23) -> 0 | O23: =COUNTIF($I$27:$I$28,$I23)+COUNTIF($I$35:$I$36,$I23)+COUNTIF($I$43:$I$44,$I23)+COUNTIF($I$51:$I$52,$I23) -> 0 | P23: =COUNTIF($I$29:$I$30,$I23)+COUNTIF($I$37:$I$38,$I23)+COUNTIF($I$45:$I$46,$I23)+COUNTIF($I$53:$I$54,$I23) -> 0
A24: 6 | B24: Female | C24: 9 yrs | D24: 25m | E24: Freestyle | K24: =DATEDIF(H24,$K$1,"Y") -> 125 | L24: =SUM(M24:P24) -> 0 | M24: =COUNTIF($I$23:$I$24,$I24)+COUNTIF($I$31:$I$32,$I24)+COUNTIF($I$39:$I$40,$I24)+COUNTIF($I$47:$I$48,$I24) -> 0 | N24: =COUNTIF($I$25:$I$26,$I24)+COUNTIF($I$33:$I$34,$I24)+COUNTIF($I$41:$I$42,$I24)+COUNTIF($I$49:$I$50,$I24) -> 0 | O24: =COUNTIF($I$27:$I$28,$I24)+COUNTIF($I$35:$I$36,$I24)+COUNTIF($I$43:$I$44,$I24)+COUNTIF($I$51:$I$52,$I24) -> 0 | P24: =COUNTIF($I$29:$I$30,$I24)+COUNTIF($I$37:$I$38,$I24)+COUNTIF($I$45:$I$46,$I24)+COUNTIF($I$53:$I$54,$I24) -> 0
A25: 7 | B25: Open/Male | C25: 10 yrs | D25: 50m | E25: Breaststroke | K25: =DATEDIF(H25,$K$1,"Y") -> 125 | L25: =SUM(M25:P25) -> 0 | M25: =COUNTIF($I$23:$I$24,$I25)+COUNTIF($I$31:$I$32,$I25)+COUNTIF($I$39:$I$40,$I25)+COUNTIF($I$47:$I$48,$I25) -> 0 | N25: =COUNTIF($I$25:$I$26,$I25)+COUNTIF($I$33:$I$34,$I25)+COUNTIF($I$41:$I$42,$I25)+COUNTIF($I$49:$I$50,$I25) -> 0 | O25: =COUNTIF($I$27:$I$28,$I25)+COUNTIF($I$35:$I$36,$I25)+COUNTIF($I$43:$I$44,$I25)+COUNTIF($I$51:$I$52,$I25) -> 0 | P25: =COUNTIF($I$29:$I$30,$I25)+COUNTIF($I$37:$I$38,$I25)+COUNTIF($I$45:$I$46,$I25)+COUNTIF($I$53:$I$54,$I25) -> 0
A26: 8 | B26: Female | C26: 10 yrs | D26: 50m | E26: Breaststroke | K26: =DATEDIF(H26,$K$1,"Y") -> 125 | L26: =SUM(M26:P26) -> 0 | M26: =COUNTIF($I$23:$I$24,$I26)+COUNTIF($I$31:$I$32,$I26)+COUNTIF($I$39:$I$40,$I26)+COUNTIF($I$47:$I$48,$I26) -> 0 | N26: =COUNTIF($I$25:$I$26,$I26)+COUNTIF($I$33:$I$34,$I26)+COUNTIF($I$41:$I$42,$I26)+COUNTIF($I$49:$I$50,$I26) -> 0 | O26: =COUNTIF($I$27:$I$28,$I26)+COUNTIF($I$35:$I$36,$I26)+COUNTIF($I$43:$I$44,$I26)+COUNTIF($I$51:$I$52,$I26) -> 0 | P26: =COUNTIF($I$29:$I$30,$I26)+COUNTIF($I$37:$I$38,$I26)+COUNTIF($I$45:$I$46,$I26)+COUNTIF($I$53:$I$54,$I26) -> 0
A27: 9 | B27: Open/Male | C27: 11 yrs | D27: 50m | E27: Backstroke | K27: =DATEDIF(H27,$K$1,"Y") -> 125 | L27: =SUM(M27:P27) -> 0 | M27: =COUNTIF($I$23:$I$24,$I27)+COUNTIF($I$31:$I$32,$I27)+COUNTIF($I$39:$I$40,$I27)+COUNTIF($I$47:$I$48,$I27) -> 0 | N27: =COUNTIF($I$25:$I$26,$I27)+COUNTIF($I$33:$I$34,$I27)+COUNTIF($I$41:$I$42,$I27)+COUNTIF($I$49:$I$50,$I27) -> 0 | O27: =COUNTIF($I$27:$I$28,$I27)+COUNTIF($I$35:$I$36,$I27)+COUNTIF($I$43:$I$44,$I27)+COUNTIF($I$51:$I$52,$I27) -> 0 | P27: =COUNTIF($I$29:$I$30,$I27)+COUNTIF($I$37:$I$38,$I27)+COUNTIF($I$45:$I$46,$I27)+COUNTIF($I$53:$I$54,$I27) -> 0
A28: 10 | B28: Female | C28: 11 yrs | D28: 50m | E28: Backstroke | K28: =DATEDIF(H28,$K$1,"Y") -> 125 | L28: =SUM(M28:P28) -> 0 | M28: =COUNTIF($I$23:$I$24,$I28)+COUNTIF($I$31:$I$32,$I28)+COUNTIF($I$39:$I$40,$I28)+COUNTIF($I$47:$I$48,$I28) -> 0 | N28: =COUNTIF($I$25:$I$26,$I28)+COUNTIF($I$33:$I$34,$I28)+COUNTIF($I$41:$I$42,$I28)+COUNTIF($I$49:$I$50,$I28) -> 0 | O28: =COUNTIF($I$27:$I$28,$I28)+COUNTIF($I$35:$I$36,$I28)+COUNTIF($I$43:$I$44,$I28)+COUNTIF($I$51:$I$52,$I28) -> 0 | P28: =COUNTIF($I$29:$I$30,$I28)+COUNTIF($I$37:$I$38,$I28)+COUNTIF($I$45:$I$46,$I28)+COUNTIF($I$53:$I$54,$I28) -> 0
A29: 11 | B29: Open/Male | C29: 12 yrs | D29: 50m | E29: Butterfly | K29: =DATEDIF(H29,$K$1,"Y") -> 125 | L29: =SUM(M29:P29) -> 0 | M29: =COUNTIF($I$23:$I$24,$I29)+COUNTIF($I$31:$I$32,$I29)+COUNTIF($I$39:$I$40,$I29)+COUNTIF($I$47:$I$48,$I29) -> 0 | N29: =COUNTIF($I$25:$I$26,$I29)+COUNTIF($I$33:$I$34,$I29)+COUNTIF($I$41:$I$42,$I29)+COUNTIF($I$49:$I$50,$I29) -> 0 | O29: =COUNTIF($I$27:$I$28,$I29)+COUNTIF($I$35:$I$36,$I29)+COUNTIF($I$43:$I$44,$I29)+COUNTIF($I$51:$I$52,$I29) -> 0 | P29: =COUNTIF($I$29:$I$30,$I29)+COUNTIF($I$37:$I$38,$I29)+COUNTIF($I$45:$I$46,$I29)+COUNTIF($I$53:$I$54,$I29) -> 0
A30: 12 | B30: Female | C30: 12 yrs | D30: 50m | E30: Butterfly | K30: =DATEDIF(H30,$K$1,"Y") -> 125 | L30: =SUM(M30:P30) -> 0 | M30: =COUNTIF($I$23:$I$24,$I30)+COUNTIF($I$31:$I$32,$I30)+COUNTIF($I$39:$I$40,$I30)+COUNTIF($I$47:$I$48,$I30) -> 0 | N30: =COUNTIF($I$25:$I$26,$I30)+COUNTIF($I$33:$I$34,$I30)+COUNTIF($I$41:$I$42,$I30)+COUNTIF($I$49:$I$50,$I30) -> 0 | O30: =COUNTIF($I$27:$I$28,$I30)+COUNTIF($I$35:$I$36,$I30)+COUNTIF($I$43:$I$44,$I30)+COUNTIF($I$51:$I$52,$I30) -> 0 | P30: =COUNTIF($I$29:$I$30,$I30)+COUNTIF($I$37:$I$38,$I30)+COUNTIF($I$45:$I$46,$I30)+COUNTIF($I$53:$I$54,$I30) -> 0
A31: 13 | B31: Open/Male | C31: 9 yrs | D31: 25m | E31: Breaststroke | K31: =DATEDIF(H31,$K$1,"Y") -> 125 | L31: =SUM(M31:P31) -> 0 | M31: =COUNTIF($I$23:$I$24,$I31)+COUNTIF($I$31:$I$32,$I31)+COUNTIF($I$39:$I$40,$I31)+COUNTIF($I$47:$I$48,$I31) -> 0 | N31: =COUNTIF($I$25:$I$26,$I31)+COUNTIF($I$33:$I$34,$I31)+COUNTIF($I$41:$I$42,$I31)+COUNTIF($I$49:$I$50,$I31) -> 0 | O31: =COUNTIF($I$27:$I$28,$I31)+COUNTIF($I$35:$I$36,$I31)+COUNTIF($I$43:$I$44,$I31)+COUNTIF($I$51:$I$52,$I31) -> 0 | P31: =COUNTIF($I$29:$I$30,$I31)+COUNTIF($I$37:$I$38,$I31)+COUNTIF($I$45:$I$46,$I31)+COUNTIF($I$53:$I$54,$I31) -> 0
A32: 14 | B32: Female | C32: 9 yrs | D32: 25m | E32: Breaststroke | K32: =DATEDIF(H32,$K$1,"Y") -> 125 | L32: =SUM(M32:P32) -> 0 | M32: =COUNTIF($I$23:$I$24,$I32)+COUNTIF($I$31:$I$32,$I32)+COUNTIF($I$39:$I$40,$I32)+COUNTIF($I$47:$I$48,$I32) -> 0 | N32: =COUNTIF($I$25:$I$26,$I32)+COUNTIF($I$33:$I$34,$I32)+COUNTIF($I$41:$I$42,$I32)+COUNTIF($I$49:$I$50,$I32) -> 0 | O32: =COUNTIF($I$27:$I$28,$I32)+COUNTIF($I$35:$I$36,$I32)+COUNTIF($I$43:$I$44,$I32)+COUNTIF($I$51:$I$52,$I32) -> 0 | P32: =COUNTIF($I$29:$I$30,$I32)+COUNTIF($I$37:$I$38,$I32)+COUNTIF($I$45:$I$46,$I32)+COUNTIF($I$53:$I$54,$I32) -> 0
A33: 15 | B33: Open/Male | C33: 10 yrs | D33: 50m | E33: Backstroke | K33: =DATEDIF(H33,$K$1,"Y") -> 125 | L33: =SUM(M33:P33) -> 0 | M33: =COUNTIF($I$23:$I$24,$I33)+COUNTIF($I$31:$I$32,$I33)+COUNTIF($I$39:$I$40,$I33)+COUNTIF($I$47:$I$48,$I33) -> 0 | N33: =COUNTIF($I$25:$I$26,$I33)+COUNTIF($I$33:$I$34,$I33)+COUNTIF($I$41:$I$42,$I33)+COUNTIF($I$49:$I$50,$I33) -> 0 | O33: =COUNTIF($I$27:$I$28,$I33)+COUNTIF($I$35:$I$36,$I33)+COUNTIF($I$43:$I$44,$I33)+COUNTIF($I$51:$I$52,$I33) -> 0 | P33: =COUNTIF($I$29:$I$30,$I33)+COUNTIF($I$37:$I$38,$I33)+COUNTIF($I$45:$I$46,$I33)+COUNTIF($I$53:$I$54,$I33) -> 0
A34: 16 | B34: Female | C34: 10 yrs | D34: 50m | E34: Backstroke | K34: =DATEDIF(H34,$K$1,"Y") -> 125 | L34: =SUM(M34:P34) -> 0 | M34: =COUNTIF($I$23:$I$24,$I34)+COUNTIF($I$31:$I$32,$I34)+COUNTIF($I$39:$I$40,$I34)+COUNTIF($I$47:$I$48,$I34) -> 0 | N34: =COUNTIF($I$25:$I$26,$I34)+COUNTIF($I$33:$I$34,$I34)+COUNTIF($I$41:$I$42,$I34)+COUNTIF($I$49:$I$50,$I34) -> 0 | O34: =COUNTIF($I$27:$I$28,$I34)+COUNTIF($I$35:$I$36,$I34)+COUNTIF($I$43:$I$44,$I34)+COUNTIF($I$51:$I$52,$I34) -> 0 | P34: =COUNTIF($I$29:$I$30,$I34)+COUNTIF($I$37:$I$38,$I34)+COUNTIF($I$45:$I$46,$I34)+COUNTIF($I$53:$I$54,$I34) -> 0
... A54: 36 | B54: Female | C54: 12 yrs | D54: 50m | E54: Backstroke | K54: =DATEDIF(H54,$K$1,"Y") -> 125 | L54: =SUM(M54:P54) -> 0 | M54: =COUNTIF($I$23:$I$24,$I54)+COUNTIF($I$31:$I$32,$I54)+COUNTIF($I$39:$I$40,$I54)+COUNTIF($I$47:$I$48,$I54) -> 0 | N54: =COUNTIF($I$25:$I$26,$I54)+COUNTIF($I$33:$I$34,$I54)+COUNTIF($I$41:$I$42,$I54)+COUNTIF($I$49:$I$50,$I54) -> 0 | O54: =COUNTIF($I$27:$I$28,$I54)+COUNTIF($I$35:$I$36,$I54)+COUNTIF($I$43:$I$44,$I54)+COUNTIF($I$51:$I$52,$I54) -> 0 | P54: =COUNTIF($I$29:$I$30,$I54)+COUNTIF($I$37:$I$38,$I54)+COUNTIF($I$45:$I$46,$I54)+COUNTIF($I$53:$I$54,$I54) -> 0
A55: 37 | B55: Mixed | C55: 9 yrs | D55: 4 x 25m | E55: Medley Relay | F55: Relay
E56: Swimmer 1 | K56: =DATEDIF(H56,$K$1,"Y") -> 125
B57: 2 Open/Males and 2 Females (any order) | E57: Swimmer 2 | K57: =DATEDIF(H57,$K$1,"Y") -> 125
E58: Swimmer 3 | K58: =DATEDIF(H58,$K$1,"Y") -> 125
E59: Swimmer 4 | K59: =DATEDIF(H59,$K$1,"Y") -> 125
...

Sheet Lane 4 Team
A1: Team Name: | F1: =Instructions!C28 -> 0 | K1: =Instructions!$I$10 -> 45815 | L1: Total Number of Indiviual Events | M1: Individual Swims by Age Group
A2: Event | F2: Forename | G2: Surname | H2: Date of Birth | I2: SE Number | K2: Age | M2: 9 | N2: 10 | O2: 11 | P2: 12
A3: 1 | B3: Mixed | C3: 12/u | D3: 4 x 25m | E3: Medley Relay | F3: Relay
E4: Swimmer 1 | K4: =DATEDIF(H4,$K$1,"Y") -> 125
B5: 2 Open/Males and 2 Females (any order) | E5: Swimmer 2 | K5: =DATEDIF(H5,$K$1,"Y") -> 125
E6: Swimmer 3 | K6: =DATEDIF(H6,$K$1,"Y") -> 125
E7: Swimmer 4 | K7: =DATEDIF(H7,$K$1,"Y") -> 125
A8: 2 | B8: Mixed | C8: 9 yrs | D8: 4 x 25m | E8: Freestyle Relay | F8: Relay
E9: Swimmer 1 | K9: =DATEDIF(H9,$K$1,"Y") -> 125
B10: 2 Open/Males and 2 Females (any order) | E10: Swimmer 2 | K10: =DATEDIF(H10,$K$1,"Y") -> 125
E11: Swimmer 3 | K11: =DATEDIF(H11,$K$1,"Y") -> 125
E12: Swimmer 4 | K12: =DATEDIF(H12,$K$1,"Y") -> 125
A13: 3 | B13: Mixed | C13: 10/u | D13: 4 x 25m | E13: Medley Relay | F13: Relay
E14: Swimmer 1 | K14: =DATEDIF(H14,$K$1,"Y") -> 125
B15: 2 Open/Males and 2 Females (any order) | E15: Swimmer 2 | K15: =DATEDIF(H15,$K$1,"Y") -> 125
E16: Swimmer 3 | K16: =DATEDIF(H16,$K$1,"Y") -> 125
E17: Swimmer 4 | K17: =DATEDIF(H17,$K$1,"Y") -> 125
A18: 4 | B18: Mixed | C18: 11/u | D18: 4 x 25m | E18: Freestyle Relay | F18: Relay
E19: Swimmer 1 | K19: =DATEDIF(H19,$K$1,"Y") -> 125
B20: 2 Open/Males and 2 Females (any order) | E20: Swimmer 2 | K20: =DATEDIF(H20,$K$1,"Y") -> 125
E21: Swimmer 3 | K21: =DATEDIF(H21,$K$1,"Y") -> 125
E22: Swimmer 4 | K22: =DATEDIF(H22,$K$1,"Y") -> 125
A23: 5 | B23: Open/Male | C23: 9 yrs | D23: 25m | E23: Freestyle | K23: =DATEDIF(H23,$K$1,"Y") -> 125 | L23: =SUM(M23:P23) -> 0 | M23: =COUNTIF($I$23:$I$24,$I23)+COUNTIF($I$31:$I$32,$I23)+COUNTIF($I$39:$I$40,$I23)+COUNTIF($I$47:$I$48,$I23) -> 0 | N23: =COUNTIF($I$25:$I$26,$I23)+COUNTIF($I$33:$I$34,$I23)+COUNTIF($I$41:$I$42,$I23)+COUNTIF($I$49:$I$50,$I23) -> 0 | O23: =COUNTIF($I$27:$I$28,$I23)+COUNTIF($I$35:$I$36,$I23)+COUNTIF($I$43:$I$44,$I23)+COUNTIF($I$51:$I$52,$I23) -> 0 | P23: =COUNTIF($I$29:$I$30,$I23)+COUNTIF($I$37:$I$38,$I23)+COUNTIF($I$45:$I$46,$I23)+COUNTIF($I$53:$I$54,$I23) -> 0
A24: 6 | B24: Female | C24: 9 yrs | D24: 25m | E24: Freestyle | K24: =DATEDIF(H24,$K$1,"Y") -> 125 | L24: =SUM(M24:P24) -> 0 | M24: =COUNTIF($I$23:$I$24,$I24)+COUNTIF($I$31:$I$32,$I24)+COUNTIF($I$39:$I$40,$I24)+COUNTIF($I$47:$I$48,$I24) -> 0 | N24: =COUNTIF($I$25:$I$26,$I24)+COUNTIF($I$33:$I$34,$I24)+COUNTIF($I$41:$I$42,$I24)+COUNTIF($I$49:$I$50,$I24) -> 0 | O24: =COUNTIF($I$27:$I$28,$I24)+COUNTIF($I$35:$I$36,$I24)+COUNTIF($I$43:$I$44,$I24)+COUNTIF($I$51:$I$52,$I24) -> 0 | P24: =COUNTIF($I$29:$I$30,$I24)+COUNTIF($I$37:$I$38,$I24)+COUNTIF($I$45:$I$46,$I24)+COUNTIF($I$53:$I$54,$I24) -> 0
A25: 7 | B25: Open/Male | C25: 10 yrs | D25: 50m | E25: Breaststroke | K25: =DATEDIF(H25,$K$1,"Y") -> 125 | L25: =SUM(M25:P25) -> 0 | M25: =COUNTIF($I$23:$I$24,$I25)+COUNTIF($I$31:$I$32,$I25)+COUNTIF($I$39:$I$40,$I25)+COUNTIF($I$47:$I$48,$I25) -> 0 | N25: =COUNTIF($I$25:$I$26,$I25)+COUNTIF($I$33:$I$34,$I25)+COUNTIF($I$41:$I$42,$I25)+COUNTIF($I$49:$I$50,$I25) -> 0 | O25: =COUNTIF($I$27:$I$28,$I25)+COUNTIF($I$35:$I$36,$I25)+COUNTIF($I$43:$I$44,$I25)+COUNTIF($I$51:$I$52,$I25) -> 0 | P25: =COUNTIF($I$29:$I$30,$I25)+COUNTIF($I$37:$I$38,$I25)+COUNTIF($I$45:$I$46,$I25)+COUNTIF($I$53:$I$54,$I25) -> 0
A26: 8 | B26: Female | C26: 10 yrs | D26: 50m | E26: Breaststroke | K26: =DATEDIF(H26,$K$1,"Y") -> 125 | L26: =SUM(M26:P26) -> 0 | M26: =COUNTIF($I$23:$I$24,$I26)+COUNTIF($I$31:$I$32,$I26)+COUNTIF($I$39:$I$40,$I26)+COUNTIF($I$47:$I$48,$I26) -> 0 | N26: =COUNTIF($I$25:$I$26,$I26)+COUNTIF($I$33:$I$34,$I26)+COUNTIF($I$41:$I$42,$I26)+COUNTIF($I$49:$I$50,$I26) -> 0 | O26: =COUNTIF($I$27:$I$28,$I26)+COUNTIF($I$35:$I$36,$I26)+COUNTIF($I$43:$I$44,$I26)+COUNTIF($I$51:$I$52,$I26) -> 0 | P26: =COUNTIF($I$29:$I$30,$I26)+COUNTIF($I$37:$I$38,$I26)+COUNTIF($I$45:$I$46,$I26)+COUNTIF($I$53:$I$54,$I26) -> 0
A27: 9 | B27: Open/Male | C27: 11 yrs | D27: 50m | E27: Backstroke | K27: =DATEDIF(H27,$K$1,"Y") -> 125 | L27: =SUM(M27:P27) -> 0 | M27: =COUNTIF($I$23:$I$24,$I27)+COUNTIF($I$31:$I$32,$I27)+COUNTIF($I$39:$I$40,$I27)+COUNTIF($I$47:$I$48,$I27) -> 0 | N27: =COUNTIF($I$25:$I$26,$I27)+COUNTIF($I$33:$I$34,$I27)+COUNTIF($I$41:$I$42,$I27)+COUNTIF($I$49:$I$50,$I27) -> 0 | O27: =COUNTIF($I$27:$I$28,$I27)+COUNTIF($I$35:$I$36,$I27)+COUNTIF($I$43:$I$44,$I27)+COUNTIF($I$51:$I$52,$I27) -> 0 | P27: =COUNTIF($I$29:$I$30,$I27)+COUNTIF($I$37:$I$38,$I27)+COUNTIF($I$45:$I$46,$I27)+COUNTIF($I$53:$I$54,$I27) -> 0
A28: 10 | B28: Female | C28: 11 yrs | D28: 50m | E28: Backstroke | K28: =DATEDIF(H28,$K$1,"Y") -> 125 | L28: =SUM(M28:P28) -> 0 | M28: =COUNTIF($I$23:$I$24,$I28)+COUNTIF($I$31:$I$32,$I28)+COUNTIF($I$39:$I$40,$I28)+COUNTIF($I$47:$I$48,$I28) -> 0 | N28: =COUNTIF($I$25:$I$26,$I28)+COUNTIF($I$33:$I$34,$I28)+COUNTIF($I$41:$I$42,$I28)+COUNTIF($I$49:$I$50,$I28) -> 0 | O28: =COUNTIF($I$27:$I$28,$I28)+COUNTIF($I$35:$I$36,$I28)+COUNTIF($I$43:$I$44,$I28)+COUNTIF($I$51:$I$52,$I28) -> 0 | P28: =COUNTIF($I$29:$I$30,$I28)+COUNTIF($I$37:$I$38,$I28)+COUNTIF($I$45:$I$46,$I28)+COUNTIF($I$53:$I$54,$I28) -> 0
A29: 11 | B29: Open/Male | C29: 12 yrs | D29: 50m | E29: Butterfly | K29: =DATEDIF(H29,$K$1,"Y") -> 125 | L29: =SUM(M29:P29) -> 0 | M29: =COUNTIF($I$23:$I$24,$I29)+COUNTIF($I$31:$I$32,$I29)+COUNTIF($I$39:$I$40,$I29)+COUNTIF($I$47:$I$48,$I29) -> 0 | N29: =COUNTIF($I$25:$I$26,$I29)+COUNTIF($I$33:$I$34,$I29)+COUNTIF($I$41:$I$42,$I29)+COUNTIF($I$49:$I$50,$I29) -> 0 | O29: =COUNTIF($I$27:$I$28,$I29)+COUNTIF($I$35:$I$36,$I29)+COUNTIF($I$43:$I$44,$I29)+COUNTIF($I$51:$I$52,$I29) -> 0 | P29: =COUNTIF($I$29:$I$30,$I29)+COUNTIF($I$37:$I$38,$I29)+COUNTIF($I$45:$I$46,$I29)+COUNTIF($I$53:$I$54,$I29) -> 0
A30: 12 | B30: Female | C30: 12 yrs | D30: 50m | E30: Butterfly | K30: =DATEDIF(H30,$K$1,"Y") -> 125 | L30: =SUM(M30:P30) -> 0 | M30: =COUNTIF($I$23:$I$24,$I30)+COUNTIF($I$31:$I$32,$I30)+COUNTIF($I$39:$I$40,$I30)+COUNTIF($I$47:$I$48,$I30) -> 0 | N30: =COUNTIF($I$25:$I$26,$I30)+COUNTIF($I$33:$I$34,$I30)+COUNTIF($I$41:$I$42,$I30)+COUNTIF($I$49:$I$50,$I30) -> 0 | O30: =COUNTIF($I$27:$I$28,$I30)+COUNTIF($I$35:$I$36,$I30)+COUNTIF($I$43:$I$44,$I30)+COUNTIF($I$51:$I$52,$I30) -> 0 | P30: =COUNTIF($I$29:$I$30,$I30)+COUNTIF($I$37:$I$38,$I30)+COUNTIF($I$45:$I$46,$I30)+COUNTIF($I$53:$I$54,$I30) -> 0
A31: 13 | B31: Open/Male | C31: 9 yrs | D31: 25m | E31: Breaststroke | K31: =DATEDIF(H31,$K$1,"Y") -> 125 | L31: =SUM(M31:P31) -> 0 | M31: =COUNTIF($I$23:$I$24,$I31)+COUNTIF($I$31:$I$32,$I31)+COUNTIF($I$39:$I$40,$I31)+COUNTIF($I$47:$I$48,$I31) -> 0 | N31: =COUNTIF($I$25:$I$26,$I31)+COUNTIF($I$33:$I$34,$I31)+COUNTIF($I$41:$I$42,$I31)+COUNTIF($I$49:$I$50,$I31) -> 0 | O31: =COUNTIF($I$27:$I$28,$I31)+COUNTIF($I$35:$I$36,$I31)+COUNTIF($I$43:$I$44,$I31)+COUNTIF($I$51:$I$52,$I31) -> 0 | P31: =COUNTIF($I$29:$I$30,$I31)+COUNTIF($I$37:$I$38,$I31)+COUNTIF($I$45:$I$46,$I31)+COUNTIF($I$53:$I$54,$I31) -> 0
A32: 14 | B32: Female | C32: 9 yrs | D32: 25m | E32: Breaststroke | K32: =DATEDIF(H32,$K$1,"Y") -> 125 | L32: =SUM(M32:P32) -> 0 | M32: =COUNTIF($I$23:$I$24,$I32)+COUNTIF($I$31:$I$32,$I32)+COUNTIF($I$39:$I$40,$I32)+COUNTIF($I$47:$I$48,$I32) -> 0 | N32: =COUNTIF($I$25:$I$26,$I32)+COUNTIF($I$33:$I$34,$I32)+COUNTIF($I$41:$I$42,$I32)+COUNTIF($I$49:$I$50,$I32) -> 0 | O32: =COUNTIF($I$27:$I$28,$I32)+COUNTIF($I$35:$I$36,$I32)+COUNTIF($I$43:$I$44,$I32)+COUNTIF($I$51:$I$52,$I32) -> 0 | P32: =COUNTIF($I$29:$I$30,$I32)+COUNTIF($I$37:$I$38,$I32)+COUNTIF($I$45:$I$46,$I32)+COUNTIF($I$53:$I$54,$I32) -> 0
A33: 15 | B33: Open/Male | C33: 10 yrs | D33: 50m | E33: Backstroke | K33: =DATEDIF(H33,$K$1,"Y") -> 125 | L33: =SUM(M33:P33) -> 0 | M33: =COUNTIF($I$23:$I$24,$I33)+COUNTIF($I$31:$I$32,$I33)+COUNTIF($I$39:$I$40,$I33)+COUNTIF($I$47:$I$48,$I33) -> 0 | N33: =COUNTIF($I$25:$I$26,$I33)+COUNTIF($I$33:$I$34,$I33)+COUNTIF($I$41:$I$42,$I33)+COUNTIF($I$49:$I$50,$I33) -> 0 | O33: =COUNTIF($I$27:$I$28,$I33)+COUNTIF($I$35:$I$36,$I33)+COUNTIF($I$43:$I$44,$I33)+COUNTIF($I$51:$I$52,$I33) -> 0 | P33: =COUNTIF($I$29:$I$30,$I33)+COUNTIF($I$37:$I$38,$I33)+COUNTIF($I$45:$I$46,$I33)+COUNTIF($I$53:$I$54,$I33) -> 0
A34: 16 | B34: Female | C34: 10 yrs | D34: 50m | E34: Backstroke | K34: =DATEDIF(H34,$K$1,"Y") -> 125 | L34: =SUM(M34:P34) -> 0 | M34: =COUNTIF($I$23:$I$24,$I34)+COUNTIF($I$31:$I$32,$I34)+COUNTIF($I$39:$I$40,$I34)+COUNTIF($I$47:$I$48,$I34) -> 0 | N34: =COUNTIF($I$25:$I$26,$I34)+COUNTIF($I$33:$I$34,$I34)+COUNTIF($I$41:$I$42,$I34)+COUNTIF($I$49:$I$50,$I34) -> 0 | O34: =COUNTIF($I$27:$I$28,$I34)+COUNTIF($I$35:$I$36,$I34)+COUNTIF($I$43:$I$44,$I34)+COUNTIF($I$51:$I$52,$I34) -> 0 | P34: =COUNTIF($I$29:$I$30,$I34)+COUNTIF($I$37:$I$38,$I34)+COUNTIF($I$45:$I$46,$I34)+COUNTIF($I$53:$I$54,$I34) -> 0
... A54: 36 | B54: Female | C54: 12 yrs | D54: 50m | E54: Backstroke | K54: =DATEDIF(H54,$K$1,"Y") -> 125 | L54: =SUM(M54:P54) -> 0 | M54: =COUNTIF($I$23:$I$24,$I54)+COUNTIF($I$31:$I$32,$I54)+COUNTIF($I$39:$I$40,$I54)+COUNTIF($I$47:$I$48,$I54) -> 0 | N54: =COUNTIF($I$25:$I$26,$I54)+COUNTIF($I$33:$I$34,$I54)+COUNTIF($I$41:$I$42,$I54)+COUNTIF($I$49:$I$50,$I54) -> 0 | O54: =COUNTIF($I$27:$I$28,$I54)+COUNTIF($I$35:$I$36,$I54)+COUNTIF($I$43:$I$44,$I54)+COUNTIF($I$51:$I$52,$I54) -> 0 | P54: =COUNTIF($I$29:$I$30,$I54)+COUNTIF($I$37:$I$38,$I54)+COUNTIF($I$45:$I$46,$I54)+COUNTIF($I$53:$I$54,$I54) -> 0
A55: 37 | B55: Mixed | C55: 9 yrs | D55: 4 x 25m | E55: Medley Relay | F55: Relay
E56: Swimmer 1 | K56: =DATEDIF(H56,$K$1,"Y") -> 125
B57: 2 Open/Males and 2 Females (any order) | E57: Swimmer 2 | K57: =DATEDIF(H57,$K$1,"Y") -> 125
E58: Swimmer 3 | K58: =DATEDIF(H58,$K$1,"Y") -> 125
E59: Swimmer 4 | K59: =DATEDIF(H59,$K$1,"Y") -> 125
...

Sheet Lane 5 Team
A1: Team Name: | F1: =Instructions!F28 -> 0 | K1: =Instructions!$I$10 -> 45815 | L1: Total Number of Indiviual Events | M1: Individual Swims by Age Group
A2: Event | F2: Forename | G2: Surname | H2: Date of Birth | I2: SE Number | K2: Age | M2: 9 | N2: 10 | O2: 11 | P2: 12
A3: 1 | B3: Mixed | C3: 12/u | D3: 4 x 25m | E3: Medley Relay | F3: Relay
E4: Swimmer 1 | K4: =DATEDIF(H4,$K$1,"Y") -> 125
B5: 2 Open/Males and 2 Females (any order) | E5: Swimmer 2 | K5: =DATEDIF(H5,$K$1,"Y") -> 125
E6: Swimmer 3 | K6: =DATEDIF(H6,$K$1,"Y") -> 125
E7: Swimmer 4 | K7: =DATEDIF(H7,$K$1,"Y") -> 125
A8: 2 | B8: Mixed | C8: 9 yrs | D8: 4 x 25m | E8: Freestyle Relay | F8: Relay
E9: Swimmer 1 | K9: =DATEDIF(H9,$K$1,"Y") -> 125
B10: 2 Open/Males and 2 Females (any order) | E10: Swimmer 2 | K10: =DATEDIF(H10,$K$1,"Y") -> 125
E11: Swimmer 3 | K11: =DATEDIF(H11,$K$1,"Y") -> 125
E12: Swimmer 4 | K12: =DATEDIF(H12,$K$1,"Y") -> 125
A13: 3 | B13: Mixed | C13: 10/u | D13: 4 x 25m | E13: Medley Relay | F13: Relay
E14: Swimmer 1 | K14: =DATEDIF(H14,$K$1,"Y") -> 125
B15: 2 Open/Males and 2 Females (any order) | E15: Swimmer 2 | K15: =DATEDIF(H15,$K$1,"Y") -> 125
E16: Swimmer 3 | K16: =DATEDIF(H16,$K$1,"Y") -> 125
E17: Swimmer 4 | K17: =DATEDIF(H17,$K$1,"Y") -> 125
A18: 4 | B18: Mixed | C18: 11/u | D18: 4 x 25m | E18: Freestyle Relay | F18: Relay
E19: Swimmer 1 | K19: =DATEDIF(H19,$K$1,"Y") -> 125
B20: 2 Open/Males and 2 Females (any order) | E20: Swimmer 2 | K20: =DATEDIF(H20,$K$1,"Y") -> 125
E21: Swimmer 3 | K21: =DATEDIF(H21,$K$1,"Y") -> 125
E22: Swimmer 4 | K22: =DATEDIF(H22,$K$1,"Y") -> 125
A23: 5 | B23: Open/Male | C23: 9 yrs | D23: 25m | E23: Freestyle | K23: =DATEDIF(H23,$K$1,"Y") -> 125 | L23: =SUM(M23:P23) -> 0 | M23: =COUNTIF($I$23:$I$24,$I23)+COUNTIF($I$31:$I$32,$I23)+COUNTIF($I$39:$I$40,$I23)+COUNTIF($I$47:$I$48,$I23) -> 0 | N23: =COUNTIF($I$25:$I$26,$I23)+COUNTIF($I$33:$I$34,$I23)+COUNTIF($I$41:$I$42,$I23)+COUNTIF($I$49:$I$50,$I23) -> 0 | O23: =COUNTIF($I$27:$I$28,$I23)+COUNTIF($I$35:$I$36,$I23)+COUNTIF($I$43:$I$44,$I23)+COUNTIF($I$51:$I$52,$I23) -> 0 | P23: =COUNTIF($I$29:$I$30,$I23)+COUNTIF($I$37:$I$38,$I23)+COUNTIF($I$45:$I$46,$I23)+COUNTIF($I$53:$I$54,$I23) -> 0
A24: 6 | B24: Female | C24: 9 yrs | D24: 25m | E24: Freestyle | K24: =DATEDIF(H24,$K$1,"Y") -> 125 | L24: =SUM(M24:P24) -> 0 | M24: =COUNTIF($I$23:$I$24,$I24)+COUNTIF($I$31:$I$32,$I24)+COUNTIF($I$39:$I$40,$I24)+COUNTIF($I$47:$I$48,$I24) -> 0 | N24: =COUNTIF($I$25:$I$26,$I24)+COUNTIF($I$33:$I$34,$I24)+COUNTIF($I$41:$I$42,$I24)+COUNTIF($I$49:$I$50,$I24) -> 0 | O24: =COUNTIF($I$27:$I$28,$I24)+COUNTIF($I$35:$I$36,$I24)+COUNTIF($I$43:$I$44,$I24)+COUNTIF($I$51:$I$52,$I24) -> 0 | P24: =COUNTIF($I$29:$I$30,$I24)+COUNTIF($I$37:$I$38,$I24)+COUNTIF($I$45:$I$46,$I24)+COUNTIF($I$53:$I$54,$I24) -> 0
A25: 7 | B25: Open/Male | C25: 10 yrs | D25: 50m | E25: Breaststroke | K25: =DATEDIF(H25,$K$1,"Y") -> 125 | L25: =SUM(M25:P25) -> 0 | M25: =COUNTIF($I$23:$I$24,$I25)+COUNTIF($I$31:$I$32,$I25)+COUNTIF($I$39:$I$40,$I25)+COUNTIF($I$47:$I$48,$I25) -> 0 | N25: =COUNTIF($I$25:$I$26,$I25)+COUNTIF($I$33:$I$34,$I25)+COUNTIF($I$41:$I$42,$I25)+COUNTIF($I$49:$I$50,$I25) -> 0 | O25: =COUNTIF($I$27:$I$28,$I25)+COUNTIF($I$35:$I$36,$I25)+COUNTIF($I$43:$I$44,$I25)+COUNTIF($I$51:$I$52,$I25) -> 0 | P25: =COUNTIF($I$29:$I$30,$I25)+COUNTIF($I$37:$I$38,$I25)+COUNTIF($I$45:$I$46,$I25)+COUNTIF($I$53:$I$54,$I25) -> 0
A26: 8 | B26: Female | C26: 10 yrs | D26: 50m | E26: Breaststroke | K26: =DATEDIF(H26,$K$1,"Y") -> 125 | L26: =SUM(M26:P26) -> 0 | M26: =COUNTIF($I$23:$I$24,$I26)+COUNTIF($I$31:$I$32,$I26)+COUNTIF($I$39:$I$40,$I26)+COUNTIF($I$47:$I$48,$I26) -> 0 | N26: =COUNTIF($I$25:$I$26,$I26)+COUNTIF($I$33:$I$34,$I26)+COUNTIF($I$41:$I$42,$I26)+COUNTIF($I$49:$I$50,$I26) -> 0 | O26: =COUNTIF($I$27:$I$28,$I26)+COUNTIF($I$35:$I$36,$I26)+COUNTIF($I$43:$I$44,$I26)+COUNTIF($I$51:$I$52,$I26) -> 0 | P26: =COUNTIF($I$29:$I$30,$I26)+COUNTIF($I$37:$I$38,$I26)+COUNTIF($I$45:$I$46,$I26)+COUNTIF($I$53:$I$54,$I26) -> 0
A27: 9 | B27: Open/Male | C27: 11 yrs | D27: 50m | E27: Backstroke | K27: =DATEDIF(H27,$K$1,"Y") -> 125 | L27: =SUM(M27:P27) -> 0 | M27: =COUNTIF($I$23:$I$24,$I27)+COUNTIF($I$31:$I$32,$I27)+COUNTIF($I$39:$I$40,$I27)+COUNTIF($I$47:$I$48,$I27) -> 0 | N27: =COUNTIF($I$25:$I$26,$I27)+COUNTIF($I$33:$I$34,$I27)+COUNTIF($I$41:$I$42,$I27)+COUNTIF($I$49:$I$50,$I27) -> 0 | O27: =COUNTIF($I$27:$I$28,$I27)+COUNTIF($I$35:$I$36,$I27)+COUNTIF($I$43:$I$44,$I27)+COUNTIF($I$51:$I$52,$I27) -> 0 | P27: =COUNTIF($I$29:$I$30,$I27)+COUNTIF($I$37:$I$38,$I27)+COUNTIF($I$45:$I$46,$I27)+COUNTIF($I$53:$I$54,$I27) -> 0
A28: 10 | B28: Female | C28: 11 yrs | D28: 50m | E28: Backstroke | K28: =DATEDIF(H28,$K$1,"Y") -> 125 | L28: =SUM(M28:P28) -> 0 | M28: =COUNTIF($I$23:$I$24,$I28)+COUNTIF($I$31:$I$32,$I28)+COUNTIF($I$39:$I$40,$I28)+COUNTIF($I$47:$I$48,$I28) -> 0 | N28: =COUNTIF($I$25:$I$26,$I28)+COUNTIF($I$33:$I$34,$I28)+COUNTIF($I$41:$I$42,$I28)+COUNTIF($I$49:$I$50,$I28) -> 0 | O28: =COUNTIF($I$27:$I$28,$I28)+COUNTIF($I$35:$I$36,$I28)+COUNTIF($I$43:$I$44,$I28)+COUNTIF($I$51:$I$52,$I28) -> 0 | P28: =COUNTIF($I$29:$I$30,$I28)+COUNTIF($I$37:$I$38,$I28)+COUNTIF($I$45:$I$46,$I28)+COUNTIF($I$53:$I$54,$I28) -> 0
A29: 11 | B29: Open/Male | C29: 12 yrs | D29: 50m | E29: Butterfly | K29: =DATEDIF(H29,$K$1,"Y") -> 125 | L29: =SUM(M29:P29) -> 0 | M29: =COUNTIF($I$23:$I$24,$I29)+COUNTIF($I$31:$I$32,$I29)+COUNTIF($I$39:$I$40,$I29)+COUNTIF($I$47:$I$48,$I29) -> 0 | N29: =COUNTIF($I$25:$I$26,$I29)+COUNTIF($I$33:$I$34,$I29)+COUNTIF($I$41:$I$42,$I29)+COUNTIF($I$49:$I$50,$I29) -> 0 | O29: =COUNTIF($I$27:$I$28,$I29)+COUNTIF($I$35:$I$36,$I29)+COUNTIF($I$43:$I$44,$I29)+COUNTIF($I$51:$I$52,$I29) -> 0 | P29: =COUNTIF($I$29:$I$30,$I29)+COUNTIF($I$37:$I$38,$I29)+COUNTIF($I$45:$I$46,$I29)+COUNTIF($I$53:$I$54,$I29) -> 0
A30: 12 | B30: Female | C30: 12 yrs | D30: 50m | E30: Butterfly | K30: =DATEDIF(H30,$K$1,"Y") -> 125 | L30: =SUM(M30:P30) -> 0 | M30: =COUNTIF($I$23:$I$24,$I30)+COUNTIF($I$31:$I$32,$I30)+COUNTIF($I$39:$I$40,$I30)+COUNTIF($I$47:$I$48,$I30) -> 0 | N30: =COUNTIF($I$25:$I$26,$I30)+COUNTIF($I$33:$I$34,$I30)+COUNTIF($I$41:$I$42,$I30)+COUNTIF($I$49:$I$50,$I30) -> 0 | O30: =COUNTIF($I$27:$I$28,$I30)+COUNTIF($I$35:$I$36,$I30)+COUNTIF($I$43:$I$44,$I30)+COUNTIF($I$51:$I$52,$I30) -> 0 | P30: =COUNTIF($I$29:$I$30,$I30)+COUNTIF($I$37:$I$38,$I30)+COUNTIF($I$45:$I$46,$I30)+COUNTIF($I$53:$I$54,$I30) -> 0
A31: 13 | B31: Open/Male | C31: 9 yrs | D31: 25m | E31: Breaststroke | K31: =DATEDIF(H31,$K$1,"Y") -> 125 | L31: =SUM(M31:P31) -> 0 | M31: =COUNTIF($I$23:$I$24,$I31)+COUNTIF($I$31:$I$32,$I31)+COUNTIF($I$39:$I$40,$I31)+COUNTIF($I$47:$I$48,$I31) -> 0 | N31: =COUNTIF($I$25:$I$26,$I31)+COUNTIF($I$33:$I$34,$I31)+COUNTIF($I$41:$I$42,$I31)+COUNTIF($I$49:$I$50,$I31) -> 0 | O31: =COUNTIF($I$27:$I$28,$I31)+COUNTIF($I$35:$I$36,$I31)+COUNTIF($I$43:$I$44,$I31)+COUNTIF($I$51:$I$52,$I31) -> 0 | P31: =COUNTIF($I$29:$I$30,$I31)+COUNTIF($I$37:$I$38,$I31)+COUNTIF($I$45:$I$46,$I31)+COUNTIF($I$53:$I$54,$I31) -> 0
A32: 14 | B32: Female | C32: 9 yrs | D32: 25m | E32: Breaststroke | K32: =DATEDIF(H32,$K$1,"Y") -> 125 | L32: =SUM(M32:P32) -> 0 | M32: =COUNTIF($I$23:$I$24,$I32)+COUNTIF($I$31:$I$32,$I32)+COUNTIF($I$39:$I$40,$I32)+COUNTIF($I$47:$I$48,$I32) -> 0 | N32: =COUNTIF($I$25:$I$26,$I32)+COUNTIF($I$33:$I$34,$I32)+COUNTIF($I$41:$I$42,$I32)+COUNTIF($I$49:$I$50,$I32) -> 0 | O32: =COUNTIF($I$27:$I$28,$I32)+COUNTIF($I$35:$I$36,$I32)+COUNTIF($I$43:$I$44,$I32)+COUNTIF($I$51:$I$52,$I32) -> 0 | P32: =COUNTIF($I$29:$I$30,$I32)+COUNTIF($I$37:$I$38,$I32)+COUNTIF($I$45:$I$46,$I32)+COUNTIF($I$53:$I$54,$I32) -> 0
A33: 15 | B33: Open/Male | C33: 10 yrs | D33: 50m | E33: Backstroke | K33: =DATEDIF(H33,$K$1,"Y") -> 125 | L33: =SUM(M33:P33) -> 0 | M33: =COUNTIF($I$23:$I$24,$I33)+COUNTIF($I$31:$I$32,$I33)+COUNTIF($I$39:$I$40,$I33)+COUNTIF($I$47:$I$48,$I33) -> 0 | N33: =COUNTIF($I$25:$I$26,$I33)+COUNTIF($I$33:$I$34,$I33)+COUNTIF($I$41:$I$42,$I33)+COUNTIF($I$49:$I$50,$I33) -> 0 | O33: =COUNTIF($I$27:$I$28,$I33)+COUNTIF($I$35:$I$36,$I33)+COUNTIF($I$43:$I$44,$I33)+COUNTIF($I$51:$I$52,$I33) -> 0 | P33: =COUNTIF($I$29:$I$30,$I33)+COUNTIF($I$37:$I$38,$I33)+COUNTIF($I$45:$I$46,$I33)+COUNTIF($I$53:$I$54,$I33) -> 0
A34: 16 | B34: Female | C34: 10 yrs | D34: 50m | E34: Backstroke | K34: =DATEDIF(H34,$K$1,"Y") -> 125 | L34: =SUM(M34:P34) -> 0 | M34: =COUNTIF($I$23:$I$24,$I34)+COUNTIF($I$31:$I$32,$I34)+COUNTIF($I$39:$I$40,$I34)+COUNTIF($I$47:$I$48,$I34) -> 0 | N34: =COUNTIF($I$25:$I$26,$I34)+COUNTIF($I$33:$I$34,$I34)+COUNTIF($I$41:$I$42,$I34)+COUNTIF($I$49:$I$50,$I34) -> 0 | O34: =COUNTIF($I$27:$I$28,$I34)+COUNTIF($I$35:$I$36,$I34)+COUNTIF($I$43:$I$44,$I34)+COUNTIF($I$51:$I$52,$I34) -> 0 | P34: =COUNTIF($I$29:$I$30,$I34)+COUNTIF($I$37:$I$38,$I34)+COUNTIF($I$45:$I$46,$I34)+COUNTIF($I$53:$I$54,$I34) -> 0
... A54: 36 | B54: Female | C54: 12 yrs | D54: 50m | E54: Backstroke | K54: =DATEDIF(H54,$K$1,"Y") -> 125 | L54: =SUM(M54:P54) -> 0 | M54: =COUNTIF($I$23:$I$24,$I54)+COUNTIF($I$31:$I$32,$I54)+COUNTIF($I$39:$I$40,$I54)+COUNTIF($I$47:$I$48,$I54) -> 0 | N54: =COUNTIF($I$25:$I$26,$I54)+COUNTIF($I$33:$I$34,$I54)+COUNTIF($I$41:$I$42,$I54)+COUNTIF($I$49:$I$50,$I54) -> 0 | O54: =COUNTIF($I$27:$I$28,$I54)+COUNTIF($I$35:$I$36,$I54)+COUNTIF($I$43:$I$44,$I54)+COUNTIF($I$51:$I$52,$I54) -> 0 | P54: =COUNTIF($I$29:$I$30,$I54)+COUNTIF($I$37:$I$38,$I54)+COUNTIF($I$45:$I$46,$I54)+COUNTIF($I$53:$I$54,$I54) -> 0
A55: 37 | B55: Mixed | C55: 9 yrs | D55: 4 x 25m | E55: Medley Relay | F55: Relay
E56: Swimmer 1 | K56: =DATEDIF(H56,$K$1,"Y") -> 125
B57: 2 Open/Males and 2 Females (any order) | E57: Swimmer 2 | K57: =DATEDIF(H57,$K$1,"Y") -> 125
E58: Swimmer 3 | K58: =DATEDIF(H58,$K$1,"Y") -> 125
E59: Swimmer 4 | K59: =DATEDIF(H59,$K$1,"Y") -> 125
...

Sheet Lane 6 Team
A1: Team Name: | F1: =Instructions!I28 -> 0 | K1: =Instructions!$I$10 -> 45815 | L1: Total Number of Indiviual Events | M1: Individual Swims by Age Group
A2: Event | F2: Forename | G2: Surname | H2: Date of Birth | I2: SE Number | K2: Age | M2: 9 | N2: 10 | O2: 11 | P2: 12
A3: 1 | B3: Mixed | C3: 12/u | D3: 4 x 25m | E3: Medley Relay | F3: Relay
E4: Swimmer 1 | K4: =DATEDIF(H4,$K$1,"Y") -> 125
B5: 2 Open/Males and 2 Females (any order) | E5: Swimmer 2 | K5: =DATEDIF(H5,$K$1,"Y") -> 125
E6: Swimmer 3 | K6: =DATEDIF(H6,$K$1,"Y") -> 125
E7: Swimmer 4 | K7: =DATEDIF(H7,$K$1,"Y") -> 125
A8: 2 | B8: Mixed | C8: 9 yrs | D8: 4 x 25m | E8: Freestyle Relay | F8: Relay
E9: Swimmer 1 | K9: =DATEDIF(H9,$K$1,"Y") -> 125
B10: 2 Open/Males and 2 Females (any order) | E10: Swimmer 2 | K10: =DATEDIF(H10,$K$1,"Y") -> 125
E11: Swimmer 3 | K11: =DATEDIF(H11,$K$1,"Y") -> 125
E12: Swimmer 4 | K12: =DATEDIF(H12,$K$1,"Y") -> 125
A13: 3 | B13: Mixed | C13: 10/u | D13: 4 x 25m | E13: Medley Relay | F13: Relay
E14: Swimmer 1 | K14: =DATEDIF(H14,$K$1,"Y") -> 125
B15: 2 Open/Males and 2 Females (any order) | E15: Swimmer 2 | K15: =DATEDIF(H15,$K$1,"Y") -> 125
E16: Swimmer 3 | K16: =DATEDIF(H16,$K$1,"Y") -> 125
E17: Swimmer 4 | K17: =DATEDIF(H17,$K$1,"Y") -> 125
A18: 4 | B18: Mixed | C18: 11/u | D18: 4 x 25m | E18: Freestyle Relay | F18: Relay
E19: Swimmer 1 | K19: =DATEDIF(H19,$K$1,"Y") -> 125
B20: 2 Open/Males and 2 Females (any order) | E20: Swimmer 2 | K20: =DATEDIF(H20,$K$1,"Y") -> 125
E21: Swimmer 3 | K21: =DATEDIF(H21,$K$1,"Y") -> 125
E22: Swimmer 4 | K22: =DATEDIF(H22,$K$1,"Y") -> 125
A23: 5 | B23: Open/Male | C23: 9 yrs | D23: 25m | E23: Freestyle | K23: =DATEDIF(H23,$K$1,"Y") -> 125 | L23: =SUM(M23:P23) -> 0 | M23: =COUNTIF($I$23:$I$24,$I23)+COUNTIF($I$31:$I$32,$I23)+COUNTIF($I$39:$I$40,$I23)+COUNTIF($I$47:$I$48,$I23) -> 0 | N23: =COUNTIF($I$25:$I$26,$I23)+COUNTIF($I$33:$I$34,$I23)+COUNTIF($I$41:$I$42,$I23)+COUNTIF($I$49:$I$50,$I23) -> 0 | O23: =COUNTIF($I$27:$I$28,$I23)+COUNTIF($I$35:$I$36,$I23)+COUNTIF($I$43:$I$44,$I23)+COUNTIF($I$51:$I$52,$I23) -> 0 | P23: =COUNTIF($I$29:$I$30,$I23)+COUNTIF($I$37:$I$38,$I23)+COUNTIF($I$45:$I$46,$I23)+COUNTIF($I$53:$I$54,$I23) -> 0
A24: 6 | B24: Female | C24: 9 yrs | D24: 25m | E24: Freestyle | K24: =DATEDIF(H24,$K$1,"Y") -> 125 | L24: =SUM(M24:P24) -> 0 | M24: =COUNTIF($I$23:$I$24,$I24)+COUNTIF($I$31:$I$32,$I24)+COUNTIF($I$39:$I$40,$I24)+COUNTIF($I$47:$I$48,$I24) -> 0 | N24: =COUNTIF($I$25:$I$26,$I24)+COUNTIF($I$33:$I$34,$I24)+COUNTIF($I$41:$I$42,$I24)+COUNTIF($I$49:$I$50,$I24) -> 0 | O24: =COUNTIF($I$27:$I$28,$I24)+COUNTIF($I$35:$I$36,$I24)+COUNTIF($I$43:$I$44,$I24)+COUNTIF($I$51:$I$52,$I24) -> 0 | P24: =COUNTIF($I$29:$I$30,$I24)+COUNTIF($I$37:$I$38,$I24)+COUNTIF($I$45:$I$46,$I24)+COUNTIF($I$53:$I$54,$I24) -> 0
A25: 7 | B25: Open/Male | C25: 10 yrs | D25: 50m | E25: Breaststroke | K25: =DATEDIF(H25,$K$1,"Y") -> 125 | L25: =SUM(M25:P25) -> 0 | M25: =COUNTIF($I$23:$I$24,$I25)+COUNTIF($I$31:$I$32,$I25)+COUNTIF($I$39:$I$40,$I25)+COUNTIF($I$47:$I$48,$I25) -> 0 | N25: =COUNTIF($I$25:$I$26,$I25)+COUNTIF($I$33:$I$34,$I25)+COUNTIF($I$41:$I$42,$I25)+COUNTIF($I$49:$I$50,$I25) -> 0 | O25: =COUNTIF($I$27:$I$28,$I25)+COUNTIF($I$35:$I$36,$I25)+COUNTIF($I$43:$I$44,$I25)+COUNTIF($I$51:$I$52,$I25) -> 0 | P25: =COUNTIF($I$29:$I$30,$I25)+COUNTIF($I$37:$I$38,$I25)+COUNTIF($I$45:$I$46,$I25)+COUNTIF($I$53:$I$54,$I25) -> 0
A26: 8 | B26: Female | C26: 10 yrs | D26: 50m | E26: Breaststroke | K26: =DATEDIF(H26,$K$1,"Y") -> 125 | L26: =SUM(M26:P26) -> 0 | M26: =COUNTIF($I$23:$I$24,$I26)+COUNTIF($I$31:$I$32,$I26)+COUNTIF($I$39:$I$40,$I26)+COUNTIF($I$47:$I$48,$I26) -> 0 | N26: =COUNTIF($I$25:$I$26,$I26)+COUNTIF($I$33:$I$34,$I26)+COUNTIF($I$41:$I$42,$I26)+COUNTIF($I$49:$I$50,$I26) -> 0 | O26: =COUNTIF($I$27:$I$28,$I26)+COUNTIF($I$35:$I$36,$I26)+COUNTIF($I$43:$I$44,$I26)+COUNTIF($I$51:$I$52,$I26) -> 0 | P26: =COUNTIF($I$29:$I$30,$I26)+COUNTIF($I$37:$I$38,$I26)+COUNTIF($I$45:$I$46,$I26)+COUNTIF($I$53:$I$54,$I26) -> 0
A27: 9 | B27: Open/Male | C27: 11 yrs | D27: 50m | E27: Backstroke | K27: =DATEDIF(H27,$K$1,"Y") -> 125 | L27: =SUM(M27:P27) -> 0 | M27: =COUNTIF($I$23:$I$24,$I27)+COUNTIF($I$31:$I$32,$I27)+COUNTIF($I$39:$I$40,$I27)+COUNTIF($I$47:$I$48,$I27) -> 0 | N27: =COUNTIF($I$25:$I$26,$I27)+COUNTIF($I$33:$I$34,$I27)+COUNTIF($I$41:$I$42,$I27)+COUNTIF($I$49:$I$50,$I27) -> 0 | O27: =COUNTIF($I$27:$I$28,$I27)+COUNTIF($I$35:$I$36,$I27)+COUNTIF($I$43:$I$44,$I27)+COUNTIF($I$51:$I$52,$I27) -> 0 | P27: =COUNTIF($I$29:$I$30,$I27)+COUNTIF($I$37:$I$38,$I27)+COUNTIF($I$45:$I$46,$I27)+COUNTIF($I$53:$I$54,$I27) -> 0
A28: 10 | B28: Female | C28: 11 yrs | D28: 50m | E28: Backstroke | K28: =DATEDIF(H28,$K$1,"Y") -> 125 | L28: =SUM(M28:P28) -> 0 | M28: =COUNTIF($I$23:$I$24,$I28)+COUNTIF($I$31:$I$32,$I28)+COUNTIF($I$39:$I$40,$I28)+COUNTIF($I$47:$I$48,$I28) -> 0 | N28: =COUNTIF($I$25:$I$26,$I28)+COUNTIF($I$33:$I$34,$I28)+COUNTIF($I$41:$I$42,$I28)+COUNTIF($I$49:$I$50,$I28) -> 0 | O28: =COUNTIF($I$27:$I$28,$I28)+COUNTIF($I$35:$I$36,$I28)+COUNTIF($I$43:$I$44,$I28)+COUNTIF($I$51:$I$52,$I28) -> 0 | P28: =COUNTIF($I$29:$I$30,$I28)+COUNTIF($I$37:$I$38,$I28)+COUNTIF($I$45:$I$46,$I28)+COUNTIF($I$53:$I$54,$I28) -> 0
A29: 11 | B29: Open/Male | C29: 12 yrs | D29: 50m | E29: Butterfly | K29: =DATEDIF(H29,$K$1,"Y") -> 125 | L29: =SUM(M29:P29) -> 0 | M29: =COUNTIF($I$23:$I$24,$I29)+COUNTIF($I$31:$I$32,$I29)+COUNTIF($I$39:$I$40,$I29)+COUNTIF($I$47:$I$48,$I29) -> 0 | N29: =COUNTIF($I$25:$I$26,$I29)+COUNTIF($I$33:$I$34,$I29)+COUNTIF($I$41:$I$42,$I29)+COUNTIF($I$49:$I$50,$I29) -> 0 | O29: =COUNTIF($I$27:$I$28,$I29)+COUNTIF($I$35:$I$36,$I29)+COUNTIF($I$43:$I$44,$I29)+COUNTIF($I$51:$I$52,$I29) -> 0 | P29: =COUNTIF($I$29:$I$30,$I29)+COUNTIF($I$37:$I$38,$I29)+COUNTIF($I$45:$I$46,$I29)+COUNTIF($I$53:$I$54,$I29) -> 0
A30: 12 | B30: Female | C30: 12 yrs | D30: 50m | E30: Butterfly | K30: =DATEDIF(H30,$K$1,"Y") -> 125 | L30: =SUM(M30:P30) -> 0 | M30: =COUNTIF($I$23:$I$24,$I30)+COUNTIF($I$31:$I$32,$I30)+COUNTIF($I$39:$I$40,$I30)+COUNTIF($I$47:$I$48,$I30) -> 0 | N30: =COUNTIF($I$25:$I$26,$I30)+COUNTIF($I$33:$I$34,$I30)+COUNTIF($I$41:$I$42,$I30)+COUNTIF($I$49:$I$50,$I30) -> 0 | O30: =COUNTIF($I$27:$I$28,$I30)+COUNTIF($I$35:$I$36,$I30)+COUNTIF($I$43:$I$44,$I30)+COUNTIF($I$51:$I$52,$I30) -> 0 | P30: =COUNTIF($I$29:$I$30,$I30)+COUNTIF($I$37:$I$38,$I30)+COUNTIF($I$45:$I$46,$I30)+COUNTIF($I$53:$I$54,$I30) -> 0
A31: 13 | B31: Open/Male | C31: 9 yrs | D31: 25m | E31: Breaststroke | K31: =DATEDIF(H31,$K$1,"Y") -> 125 | L31: =SUM(M31:P31) -> 0 | M31: =COUNTIF($I$23:$I$24,$I31)+COUNTIF($I$31:$I$32,$I31)+COUNTIF($I$39:$I$40,$I31)+COUNTIF($I$47:$I$48,$I31) -> 0 | N31: =COUNTIF($I$25:$I$26,$I31)+COUNTIF($I$33:$I$34,$I31)+COUNTIF($I$41:$I$42,$I31)+COUNTIF($I$49:$I$50,$I31) -> 0 | O31: =COUNTIF($I$27:$I$28,$I31)+COUNTIF($I$35:$I$36,$I31)+COUNTIF($I$43:$I$44,$I31)+COUNTIF($I$51:$I$52,$I31) -> 0 | P31: =COUNTIF($I$29:$I$30,$I31)+COUNTIF($I$37:$I$38,$I31)+COUNTIF($I$45:$I$46,$I31)+COUNTIF($I$53:$I$54,$I31) -> 0
A32: 14 | B32: Female | C32: 9 yrs | D32: 25m | E32: Breaststroke | K32: =DATEDIF(H32,$K$1,"Y") -> 125 | L32: =SUM(M32:P32) -> 0 | M32: =COUNTIF($I$23:$I$24,$I32)+COUNTIF($I$31:$I$32,$I32)+COUNTIF($I$39:$I$40,$I32)+COUNTIF($I$47:$I$48,$I32) -> 0 | N32: =COUNTIF($I$25:$I$26,$I32)+COUNTIF($I$33:$I$34,$I32)+COUNTIF($I$41:$I$42,$I32)+COUNTIF($I$49:$I$50,$I32) -> 0 | O32: =COUNTIF($I$27:$I$28,$I32)+COUNTIF($I$35:$I$36,$I32)+COUNTIF($I$43:$I$44,$I32)+COUNTIF($I$51:$I$52,$I32) -> 0 | P32: =COUNTIF($I$29:$I$30,$I32)+COUNTIF($I$37:$I$38,$I32)+COUNTIF($I$45:$I$46,$I32)+COUNTIF($I$53:$I$54,$I32) -> 0
