Workbook
Name Clubs: 'Lookup Tables'!$B$43:$E$61
Name Competing_Clubs: 'Lookup Tables'!$B$43:$B$61
Name Strokes: 'Lookup Tables'!$B$4:$G$26
Name Venue_Info: 'Lookup Tables'!$B$30:$E$39
Name Venues: 'Lookup Tables'!$B$30:$B$39
Name Vwnue_Info: 'Lookup Tables'!$B$30:$E$39

Sheet Instructions
B2: ='Lookup Tables'!B64:D64 -> Derby and Notts Junior League - 2025
B4: Instructions
B6: PLEASE READ ALL OF THIS PAGE BEFORE YOU START
J7: =B77 -> v 2024.2
B8: Before You Start
B10: Please enter the "Age at" Date for the competition here (dd/mm/yy): | I10: 45815
B12: Please enter the competition Date here (dd/mm/yy): | I12: 45745
B14: Please enter the gala number here: | J14: 1
B16: Please enter the round number here: | J16: 1
B18: Number of teams competing in this gala: | J18: 6
B20: Please enter the gala venue here (use drop down, do not type):
B22: Please enter the License Number here (4EM24****): | I22: 4EM25****
B24: Please enter Teams for each lane below:
B26: PLEASE USE DROP DOWNS, DO NOT TYPE IN CELLS
B27: Lane 1: | E27: Lane 2: | H27: Lane 3:
B28: Lane 4: | E28: Lane 5: | H28: Lane 6:
B30: Before The Competition
B31: Please ensure the details above are correct. You will need to enter the swimmers names and Dates of birth on the corresponding Lane Sheet in this workbook and also the club / team name at the top of each sheet. These should be emailed over to you before the competition and then any changes should also be made on the night to reflect any changes that have been made to the teams. Please ensure that the dates of birth entered are in the format "dd/mm/yyyy". All of the names on these sheets will then populate on the corresponding lane on the results sheet and also show on the valedation sheet that should show you the swimmers age for the competition. If the swimmer is over age this will change to red to alert you, where the swim should then be for no points.
B40: During The Competition
B41: Entering Times
C42: to enter a time in seconds such as 24.44 seconds enter 24.44
C43: to enter a time in minutes and seconds such as 1 minute 24.44 seconds enter 124.44
B45: Equal Times
C46: If swimmers have equal times, use the placing judges reports to place them by adding 1/1000th of a second to the time.
C48: i.e. If swimmer a gets a time os 23.24 and swimmer b gets the same time but is deemed to have finished second of the two swimmers then enter swimmer b's time as 23.241
B52: Disqualification
C53: If a swimmers is to get disqualified for any reason please enter the disqualification in the following manner:
C54: "dq " followed by the reason code - dq 4.4***
D55: For example. A Disqualification for a faulty start "moving before the start signal given" would need to be in put as "dq 4.4"
E57: ***Please input some notes regarding the DQ in the Comments box. This can be the description on the DQ slip, just incase it goes missing.
B60: No Point/No Swim
C61: np = swum for no points
C62: dns = did not start/swim
B64: Placing Check
C65: In the columns following the results input there are some cells set up so you can easily check the input with the judges place slip. These cells will highlight in red if you have a joint placing.
B68: After The Competition
B69: After the gala has finished, please ensure a copy of this completed spreadsheet is emailed to the below email address as soon as possible so the league results can be upadted.
B72: League Manager: | D72: Paul Collins / Bobbie Gordon | G72: dnjs.league@btinternet.com
B74: Thank You for helping out at the gala.
B76: Derbyshire and Nottinghamshire Junior Swimming League Recorders Sheets
B77: v 2024.2

Sheet Lane 1 Team
A1: Team Name: | F1: =Instructions!C27 -> 0 | K1: =Instructions!$I$10 -> 45815 | L1: Total Number of Indiviual Events | M1: Individual Swims by Age Group
A2: Event | F2: Forename | G2: Surname | H2: Date of Birth | I2: SE Number | K2: Age | M2: 9 | N2: 10 | O2: 11 | P2: 12
A3: 1 | B3: Mixed | C3: 12/u | D3: 4 x 25m | E3: Medley Relay | F3: Relay
E4: Swimmer 1 | K4: =DATEDIF(H4,$K$1,"Y") -> 125
B5: 2 Open/Males and 2 Females (any order) | E5: Swimmer 2 | K5: =DATEDIF(H5,$K$1,"Y") -> 125
E6: Swimmer 3 | K6: =DATEDIF(H6,$K$1,"Y") -> 125
E7: Swimmer 4 | K7: =DATEDIF(H7,$K$1,"Y") -> 125
A8: 2 | B8: Mixed | C8: 9 yrs | D8: 4 x 25m | E8: Freestyle Relay | F8: Relay
E9: Swimmer 1 | K9: =DATEDIF(H9,$K$1,"Y") -> 125
B10: 2 Open/Males and 2 Females (any order) | E10: Swimmer 2 | K10: =DATEDIF(H10,$K$1,"Y") -> 125
E11: Swimmer 3 | K11: =DATEDIF(H11,$K$1,"Y") -> 125
E12: Swimmer 4 | K12: =DATEDIF(H12,$K$1,"Y") -> 125
A13: 3 | B13: Mixed | C13: 10/u | D13: 4 x 25m | E13: Medley Relay | F13: Relay
E14: Swimmer 1 | K14: =DATEDIF(H14,$K$1,"Y") -> 125
B15: 2 Open/Males and 2 Females (any order) | E15: Swimmer 2 | K15: =DATEDIF(H15,$K$1,"Y") -> 125
E16: Swimmer 3 | K16: =DATEDIF(H16,$K$1,"Y") -> 125
E17: Swimmer 4 | K17: =DATEDIF(H17,$K$1,"Y") -> 125
A18: 4 | B18: Mixed | C18: 11/u | D18: 4 x 25m | E18: Freestyle Relay | F18: Relay
E19: Swimmer 1 | K19: =DATEDIF(H19,$K$1,"Y") -> 125
B20: 2 Open/Males and 2 Females (any order) | E20: Swimmer 2 | K20: =DATEDIF(H20,$K$1,"Y") -> 125
E21: Swimmer 3 | K21: =DATEDIF(H21,$K$1,"Y") -> 125
E22: Swimmer 4 | K22: =DATEDIF(H22,$K$1,"Y") -> 125
A23: 5 | B23: Open/Male | C23: 9 yrs | D23: 25m | E23: Freestyle | K23: =DATEDIF(H23,$K$1,"Y") -> 125 | L23: =SUM(M23:P23) -> 0 | M23: =COUNTIF($I$23:$I$24,$I23)+COUNTIF($I$31:$I$32,$I23)+COUNTIF($I$39:$I$40,$I23)+COUNTIF($I$47:$I$48,$I23) -> 0 | N23: =COUNTIF($I$25:$I$26,$I23)+COUNTIF($I$33:$I$34,$I23)+COUNTIF($I$41:$I$42,$I23)+COUNTIF($I$49:$I$50,$I23) -> 0 | O23: =COUNTIF($I$27:$I$28,$I23)+COUNTIF($I$35:$I$36,$I23)+COUNTIF($I$43:$I$44,$I23)+COUNTIF($I$51:$I$52,$I23) -> 0 | P23: =COUNTIF($I$29:$I$30,$I23)+COUNTIF($I$37:$I$38,$I23)+COUNTIF($I$45:$I$46,$I23)+COUNTIF($I$53:$I$54,$I23) -> 0
A24: 6 | B24: Female | C24: 9 yrs | D24: 25m | E24: Freestyle | K24: =DATEDIF(H24,$K$1,"Y") -> 125 | L24: =SUM(M24:P24) -> 0 | M24: =COUNTIF($I$23:$I$24,$I24)+COUNTIF($I$31:$I$32,$I24)+COUNTIF($I$39:$I$40,$I24)+COUNTIF($I$47:$I$48,$I24) -> 0 | N24: =COUNTIF($I$25:$I$26,$I24)+COUNTIF($I$33:$I$34,$I24)+COUNTIF($I$41:$I$42,$I24)+COUNTIF($I$49:$I$50,$I24) -> 0 | O24: =COUNTIF($I$27:$I$28,$I24)+COUNTIF($I$35:$I$36,$I24)+COUNTIF($I$43:$I$44,$I24)+COUNTIF($I$51:$I$52,$I24) -> 0 | P24: =COUNTIF($I$29:$I$30,$I24)+COUNTIF($I$37:$I$38,$I24)+COUNTIF($I$45:$I$46,$I24)+COUNTIF($I$53:$I$54,$I24) -> 0
A25: 7 | B25: Open/Male | C25: 10 yrs | D25: 50m | E25: Breaststroke | K25: =DATEDIF(H25,$K$1,"Y") -> 125 | L25: =SUM(M25:P25) -> 0 | M25: =COUNTIF($I$23:$I$24,$I25)+COUNTIF($I$31:$I$32,$I25)+COUNTIF($I$39:$I$40,$I25)+COUNTIF($I$47:$I$48,$I25) -> 0 | N25: =COUNTIF($I$25:$I$26,$I25)+COUNTIF($I$33:$I$34,$I25)+COUNTIF($I$41:$I$42,$I25)+COUNTIF($I$49:$I$50,$I25) -> 0 | O25: =COUNTIF($I$27:$I$28,$I25)+COUNTIF($I$35:$I$36,$I25)+COUNTIF($I$43:$I$44,$I25)+COUNTIF($I$51:$I$52,$I25) -> 0 | P25: =COUNTIF($I$29:$I$30,$I25)+COUNTIF($I$37:$I$38,$I25)+COUNTIF($I$45:$I$46,$I25)+COUNTIF($I$53:$I$54,$I25) -> 0
A26: 8 | B26: Female | C26: 10 yrs | D26: 50m | E26: Breaststroke | K26: =DATEDIF(H26,$K$1,"Y") -> 125 | L26: =SUM(M26:P26) -> 0 | M26: =COUNTIF($I$23:$I$24,$I26)+COUNTIF($I$31:$I$32,$I26)+COUNTIF($I$39:$I$40,$I26)+COUNTIF($I$47:$I$48,$I26) -> 0 | N26: =COUNTIF($I$25:$I$26,$I26)+COUNTIF($I$33:$I$34,$I26)+COUNTIF($I$41:$I$42,$I26)+COUNTIF($I$49:$I$50,$I26) -> 0 | O26: =COUNTIF($I$27:$I$28,$I26)+COUNTIF($I$35:$I$36,$I26)+COUNTIF($I$43:$I$44,$I26)+COUNTIF($I$51:$I$52,$I26) -> 0 | P26: =COUNTIF($I$29:$I$30,$I26)+COUNTIF($I$37:$I$38,$I26)+COUNTIF($I$45:$I$46,$I26)+COUNTIF($I$53:$I$54,$I26) -> 0
A27: 9 | B27: Open/Male | C27: 11 yrs | D27: 50m | E27: Backstroke | K27: =DATEDIF(H27,$K$1,"Y") -> 125 | L27: =SUM(M27:P27) -> 0 | M27: =COUNTIF($I$23:$I$24,$I27)+COUNTIF($I$31:$I$32,$I27)+COUNTIF($I$39:$I$40,$I27)+COUNTIF($I$47:$I$48,$I27) -> 0 | N27: =COUNTIF($I$25:$I$26,$I27)+COUNTIF($I$33:$I$34,$I27)+COUNTIF($I$41:$I$42,$I27)+COUNTIF($I$49:$I$50,$I27) -> 0 | O27: =COUNTIF($I$27:$I$28,$I27)+COUNTIF($I$35:$I$36,$I27)+COUNTIF($I$43:$I$44,$I27)+COUNTIF($I$51:$I$52,$I27) -> 0 | P27: =COUNTIF($I$29:$I$30,$I27)+COUNTIF($I$37:$I$38,$I27)+COUNTIF($I$45:$I$46,$I27)+COUNTIF($I$53:$I$54,$I27) -> 0
A28: 10 | B28: Female | C28: 11 yrs | D28: 50m | E28: Backstroke | K28: =DATEDIF(H28,$K$1,"Y") -> 125 | L28: =SUM(M28:P28) -> 0 | M28: =COUNTIF($I$23:$I$24,$I28)+COUNTIF($I$31:$I$32,$I28)+COUNTIF($I$39:$I$40,$I28)+COUNTIF($I$47:$I$48,$I28) -> 0 | N28: =COUNTIF($I$25:$I$26,$I28)+COUNTIF($I$33:$I$34,$I28)+COUNTIF($I$41:$I$42,$I28)+COUNTIF($I$49:$I$50,$I28) -> 0 | O28: =COUNTIF($I$27:$I$28,$I28)+COUNTIF($I$35:$I$36,$I28)+COUNTIF($I$43:$I$44,$I28)+COUNTIF($I$51:$I$52,$I28) -> 0 | P28: =COUNTIF($I$29:$I$30,$I28)+COUNTIF($I$37:$I$38,$I28)+COUNTIF($I$45:$I$46,$I28)+COUNTIF($I$53:$I$54,$I28) -> 0
A29: 11 | B29: Open/Male | C29: 12 yrs | D29: 50m | E29: Butterfly | K29: =DATEDIF(H29,$K$1,"Y") -> 125 | L29: =SUM(M29:P29) -> 0 | M29: =COUNTIF($I$23:$I$24,$I29)+COUNTIF($I$31:$I$32,$I29)+COUNTIF($I$39:$I$40,$I29)+COUNTIF($I$47:$I$48,$I29) -> 0 | N29: =COUNTIF($I$25:$I$26,$I29)+COUNTIF($I$33:$I$34,$I29)+COUNTIF($I$41:$I$42,$I29)+COUNTIF($I$49:$I$50,$I29) -> 0 | O29: =COUNTIF($I$27:$I$28,$I29)+COUNTIF($I$35:$I$36,$I29)+COUNTIF($I$43:$I$44,$I29)+COUNTIF($I$51:$I$52,$I29) -> 0 | P29: =COUNTIF($I$29:$I$30,$I29)+COUNTIF($I$37:$I$38,$I29)+COUNTIF($I$45:$I$46,$I29)+COUNTIF($I$53:$I$54,$I29) -> 0
A30: 12 | B30: Female | C30: 12 yrs | D30: 50m | E30: Butterfly | K30: =DATEDIF(H30,$K$1,"Y") -> 125 | L30: =SUM(M30:P30) -> 0 | M30: =COUNTIF($I$23:$I$24,$I30)+COUNTIF($I$31:$I$32,$I30)+COUNTIF($I$39:$I$40,$I30)+COUNTIF($I$47:$I$48,$I30) -> 0 | N30: =COUNTIF($I$25:$I$26,$I30)+COUNTIF($I$33:$I$34,$I30)+COUNTIF($I$41:$I$42,$I30)+COUNTIF($I$49:$I$50,$I30) -> 0 | O30: =COUNTIF($I$27:$I$28,$I30)+COUNTIF($I$35:$I$36,$I30)+COUNTIF($I$43:$I$44,$I30)+COUNTIF($I$51:$I$52,$I30) -> 0 | P30: =COUNTIF($I$29:$I$30,$I30)+COUNTIF($I$37:$I$38,$I30)+COUNTIF($I$45:$I$46,$I30)+COUNTIF($I$53:$I$54,$I30) -> 0
A31: 13 | B31: Open/Male | C31: 9 yrs | D31: 25m | E31: Breaststroke | K31: =DATEDIF(H31,$K$1,"Y") -> 125 | L31: =SUM(M31:P31) -> 0 | M31: =COUNTIF($I$23:$I$24,$I31)+COUNTIF($I$31:$I$32,$I31)+COUNTIF($I$39:$I$40,$I31)+COUNTIF($I$47:$I$48,$I31) -> 0 | N31: =COUNTIF($I$25:$I$26,$I31)+COUNTIF($I$33:$I$34,$I31)+COUNTIF($I$41:$I$42,$I31)+COUNTIF($I$49:$I$50,$I31) -> 0 | O31: =COUNTIF($I$27:$I$28,$I31)+COUNTIF($I$35:$I$36,$I31)+COUNTIF($I$43:$I$44,$I31)+COUNTIF($I$51:$I$52,$I31) -> 0 | P31: =COUNTIF($I$29:$I$30,$I31)+COUNTIF($I$37:$I$38,$I31)+COUNTIF($I$45:$I$46,$I31)+COUNTIF($I$53:$I$54,$I31) -> 0
A32: 14 | B32: Female | C32: 9 yrs | D32: 25m | E32: Breaststroke | K32: =DATEDIF(H32,$K$1,"Y") -> 125 | L32: =SUM(M32:P32) -> 0 | M32: =COUNTIF($I$23:$I$24,$I32)+COUNTIF($I$31:$I$32,$I32)+COUNTIF($I$39:$I$40,$I32)+COUNTIF($I$47:$I$48,$I32) -> 0 | N32: =COUNTIF($I$25:$I$26,$I32)+COUNTIF($I$33:$I$34,$I32)+COUNTIF($I$41:$I$42,$I32)+COUNTIF($I$49:$I$50,$I32) -> 0 | O32: =COUNTIF($I$27:$I$28,$I32)+COUNTIF($I$35:$I$36,$I32)+COUNTIF($I$43:$I$44,$I32)+COUNTIF($I$51:$I$52,$I32) -> 0 | P32: =COUNTIF($I$29:$I$30,$I32)+COUNTIF($I$37:$I$38,$I32)+COUNTIF($I$45:$I$46,$I32)+COUNTIF($I$53:$I$54,$I32) -> 0
A33: 15 | B33: Open/Male | C33: 10 yrs | D33: 50m | E33: Backstroke | K33: =DATEDIF(H33,$K$1,"Y") -> 125 | L33: =SUM(M33:P33) -> 0 | M33: =COUNTIF($I$23:$I$24,$I33)+COUNTIF($I$31:$I$32,$I33)+COUNTIF($I$39:$I$40,$I33)+COUNTIF($I$47:$I$48,$I33) -> 0 | N33: =COUNTIF($I$25:$I$26,$I33)+COUNTIF($I$33:$I$34,$I33)+COUNTIF($I$41:$I$42,$I33)+COUNTIF($I$49:$I$50,$I33) -> 0 | O33: =COUNTIF($I$27:$I$28,$I33)+COUNTIF($I$35:$I$36,$I33)+COUNTIF($I$43:$I$44,$I33)+COUNTIF($I$51:$I$52,$I33) -> 0 | P33: =COUNTIF($I$29:$I$30,$I33)+COUNTIF($I$37:$I$38,$I33)+COUNTIF($I$45:$I$46,$I33)+COUNTIF($I$53:$I$54,$I33) -> 0
A34: 16 | B34: Female | C34: 10 yrs | D34: 50m | E34: Backstroke | K34: =DATEDIF(H34,$K$1,"Y") -> 125 | L34: =SUM(M34:P34) -> 0 | M34: =COUNTIF($I$23:$I$24,$I34)+COUNTIF($I$31:$I$32,$I34)+COUNTIF($I$39:$I$40,$I34)+COUNTIF($I$47:$I$48,$I34) -> 0 | N34: =COUNTIF($I$25:$I$26,$I34)+COUNTIF($I$33:$I$34,$I34)+COUNTIF($I$41:$I$42,$I34)+COUNTIF($I$49:$I$50,$I34) -> 0 | O34: =COUNTIF($I$27:$I$28,$I34)+COUNTIF($I$35:$I$36,$I34)+COUNTIF($I$43:$I$44,$I34)+COUNTIF($I$51:$I$52,$I34) -> 0 | P34: =COUNTIF($I$29:$I$30,$I34)+COUNTIF($I$37:$I$38,$I34)+COUNTIF($I$45:$I$46,$I34)+COUNTIF($I$53:$I$54,$I34) -> 0
... A54: 36 | B54: Female | C54: 12 yrs | D54: 50m | E54: Backstroke | K54: =DATEDIF(H54,$K$1,"Y") -> 125 | L54: =SUM(M54:P54) -> 0 | M54: =COUNTIF($I$23:$I$24,$I54)+COUNTIF($I$31:$I$32,$I54)+COUNTIF($I$39:$I$40,$I54)+COUNTIF($I$47:$I$48,$I54) -> 0 | N54: =COUNTIF($I$25:$I$26,$I54)+COUNTIF($I$33:$I$34,$I54)+COUNTIF($I$41:$I$42,$I54)+COUNTIF($I$49:$I$50,$I54) -> 0 | O54: =COUNTIF($I$27:$I$28,$I54)+COUNTIF($I$35:$I$36,$I54)+COUNTIF($I$43:$I$44,$I54)+COUNTIF($I$51:$I$52,$I54) -> 0 | P54: =COUNTIF($I$29:$I$30,$I54)+COUNTIF($I$37:$I$38,$I54)+COUNTIF($I$45:$I$46,$I54)+COUNTIF($I$53:$I$54,$I54) -> 0
A55: 37 | B55: Mixed | C55: 9 yrs | D55: 4 x 25m | E55: Medley Relay | F55: Relay
E56: Swimmer 1 | K56: =DATEDIF(H56,$K$1,"Y") -> 125
B57: 2 Open/Males and 2 Females (any order) | E57: Swimmer 2 | K57: =DATEDIF(H57,$K$1,"Y") -> 125
E58: Swimmer 3 | K58: =DATEDIF(H58,$K$1,"Y") -> 125
E59: Swimmer 4 | K59: =DATEDIF(H59,$K$1,"Y") -> 125
A60: 38 | B60: Mixed | C60: 10 yrs | D60: 4 x 25m | E60: Freestyle Relay | F60: Relay
E61: Swimmer 1 | K61: =DATEDIF(H61,$K$1,"Y") -> 125
B62: 2 Open/Males and 2 Females (any order) | E62: Swimmer 2 | K62: =DATEDIF(H62,$K$1,"Y") -> 125
E63: Swimmer 3 | K63: =DATEDIF(H63,$K$1,"Y") -> 125
E64: Swimmer 4 | K64: =DATEDIF(H64,$K$1,"Y") -> 125
A65: 39 | B65: Mixed | C65: 11/u | D65: 4 x 25m | E65: Medley Relay | F65: Relay
E66: Swimmer 1 | K66: =DATEDIF(H66,$K$1,"Y") -> 125
B67: 2 Open/Males and 2 Females (any order) | E67: Swimmer 2 | K67: =DATEDIF(H67,$K$1,"Y") -> 125
E68: Swimmer 3 | K68: =DATEDIF(H68,$K$1,"Y") -> 125
E69: Swimmer 4 | K69: =DATEDIF(H69,$K$1,"Y") -> 125
A70: 40 | B70: Mixed | C70: 12/u | D70: 4 x 25m | E70: Freestyle Relay | F70: Relay
E71: Swimmer 1 | K71: =DATEDIF(H71,$K$1,"Y") -> 125
B72: 2 Open/Males and 2 Females (any order) | E72: Swimmer 2 | K72: =DATEDIF(H72,$K$1,"Y") -> 125
E73: Swimmer 3 | K73: =DATEDIF(H73,$K$1,"Y") -> 125
E74: Swimmer 4 | K74: =DATEDIF(H74,$K$1,"Y") -> 125
A75: 41 | B75: Mixed | D75: 8 x 25m | E75: Cannon Relay | F75: Relay
E76: Swimmer 1 | K76: =DATEDIF(H76,$K$1,"Y") -> 125
B77: 1 Open/Male and 1 Female from each age group with the youngest Open/Male swimming first | E77: Swimmer 2 | K77: =DATEDIF(H77,$K$1,"Y") -> 125
E78: Swimmer 3 | K78: =DATEDIF(H78,$K$1,"Y") -> 125
E79: Swimmer 4 | K79: =DATEDIF(H79,$K$1,"Y") -> 125
E80: Swimmer 5 | K80: =DATEDIF(H80,$K$1,"Y") -> 125
E81: Swimmer 6 | K81: =DATEDIF(H81,$K$1,"Y") -> 125
E82: Swimmer 7 | K82: =DATEDIF(H82,$K$1,"Y") -> 125
E83: Swimmer 8 | K83: =DATEDIF(H83,$K$1,"Y") -> 125

Sheet Lane 2 Team
A1: Team Name: | F1: =Instructions!F27 -> 0 | K1: =Instructions!$I$10 -> 45815 | L1: Total Number of Indiviual Events | M1: Individual Swims by Age Group
A2: Event | F2: Forename | G2: Surname | H2: Date of Birth | I2: SE Number | K2: Age | M2: 9 | N2: 10 | O2: 11 | P2: 12
A3: 1 | B3: Mixed | C3: 12/u | D3: 4 x 25m | E3: Medley Relay | F3: Relay
E4: Swimmer 1 | K4: =DATEDIF(H4,$K$1,"Y") -> 125
B5: 2 Open/Males and 2 Females (any order) | E5: Swimmer 2 | K5: =DATEDIF(H5,$K$1,"Y") -> 125
E6: Swimmer 3 | K6: =DATEDIF(H6,$K$1,"Y") -> 125
E7: Swimmer 4 | K7: =DATEDIF(H7,$K$1,"Y") -> 125
A8: 2 | B8: Mixed | C8: 9 yrs | D8: 4 x 25m | E8: Freestyle Relay | F8: Relay
E9: Swimmer 1 | K9: =DATEDIF(H9,$K$1,"Y") -> 125
B10: 2 Open/Males and 2 Females (any order) | E10: Swimmer 2 | K10: =DATEDIF(H10,$K$1,"Y") -> 125
E11: Swimmer 3 | K11: =DATEDIF(H11,$K$1,"Y") -> 125
E12: Swimmer 4 | K12: =DATEDIF(H12,$K$1,"Y") -> 125
A13: 3 | B13: Mixed | C13: 10/u | D13: 4 x 25m | E13: Medley Relay | F13: Relay
E14: Swimmer 1 | K14: =DATEDIF(H14,$K$1,"Y") -> 125
B15: 2 Open/Males and 2 Females (any order) | E15: Swimmer 2 | K15: =DATEDIF(H15,$K$1,"Y") -> 125
E16: Swimmer 3 | K16: =DATEDIF(H16,$K$1,"Y") -> 125
E17: Swimmer 4 | K17: =DATEDIF(H17,$K$1,"Y") -> 125
A18: 4 | B18: Mixed | C18: 11/u | D18: 4 x 25m | E18: Freestyle Relay | F18: Relay
E19: Swimmer 1 | K19: =DATEDIF(H19,$K$1,"Y") -> 125
B20: 2 Open/Males and 2 Females (any order) | E20: Swimmer 2 | K20: =DATEDIF(H20,$K$1,"Y") -> 125
E21: Swimmer 3 | K21: =DATEDIF(H21,$K$1,"Y") -> 125
E22: Swimmer 4 | K22: =DATEDIF(H22,$K$1,"Y") -> 125
A23: 5 | B23: Open/Male | C23: 9 yrs | D23: 25m | E23: Freestyle | K23: =DATEDIF(H23,$K$1,"Y") -> 125 | L23: =SUM(M23:P23) -> 0 | M23: =COUNTIF($I$23:$I$24,$I23)+COUNTIF($I$31:$I$32,$I23)+COUNTIF($I$39:$I$40,$I23)+COUNTIF($I$47:$I$48,$I23) -> 0 | N23: =COUNTIF($I$25:$I$26,$I23)+COUNTIF($I$33:$I$34,$I23)+COUNTIF($I$41:$I$42,$I23)+COUNTIF($I$49:$I$50,$I23) -> 0 | O23: =COUNTIF($I$27:$I$28,$I23)+COUNTIF($I$35:$I$36,$I23)+COUNTIF($I$43:$I$44,$I23)+COUNTIF($I$51:$I$52,$I23) -> 0 | P23: =COUNTIF($I$29:$I$30,$I23)+COUNTIF($I$37:$I$38,$I23)+COUNTIF($I$45:$I$46,$I23)+COUNTIF($I$53:$I$54,$I23) -> 0
A24: 6 | B24: Female | C24: 9 yrs | D24: 25m | E24: Freestyle | K24: =DATEDIF(H24,$K$1,"Y") -> 125 | L24: =SUM(M24:P24) -> 0 | M24: =COUNTIF($I$23:$I$24,$I24)+COUNTIF($I$31:$I$32,$I24)+COUNTIF($I$39:$I$40,$I24)+COUNTIF($I$47:$I$48,$I24) -> 0 | N24: =COUNTIF($I$25:$I$26,$I24)+COUNTIF($I$33:$I$34,$I24)+COUNTIF($I$41:$I$42,$I24)+COUNTIF($I$49:$I$50,$I24) -> 0 | O24: =COUNTIF($I$27:$I$28,$I24)+COUNTIF($I$35:$I$36,$I24)+COUNTIF($I$43:$I$44,$I24)+COUNTIF($I$51:$I$52,$I24) -> 0 | P24: =COUNTIF($I$29:$I$30,$I24)+COUNTIF($I$37:$I$38,$I24)+COUNTIF($I$45:$I$46,$I24)+COUNTIF($I$53:$I$54,$I24) -> 0
A25: 7 | B25: Open/Male | C25: 10 yrs | D25: 50m | E25: Breaststroke | K25: =DATEDIF(H25,$K$1,"Y") -> 125 | L25: =SUM(M25:P25) -> 0 | M25: =COUNTIF($I$23:$I$24,$I25)+COUNTIF($I$31:$I$32,$I25)+COUNTIF($I$39:$I$40,$I25)+COUNTIF($I$47:$I$48,$I25) -> 0 | N25: =COUNTIF($I$25:$I$26,$I25)+COUNTIF($I$33:$I$34,$I25)+COUNTIF($I$41:$I$42,$I25)+COUNTIF($I$49:$I$50,$I25) -> 0 | O25: =COUNTIF($I$27:$I$28,$I25)+COUNTIF($I$35:$I$36,$I25)+COUNTIF($I$43:$I$44,$I25)+COUNTIF($I$51:$I$52,$I25) -> 0 | P25: =COUNTIF($I$29:$I$30,$I25)+COUNTIF($I$37:$I$38,$I25)+COUNTIF($I$45:$I$46,$I25)+COUNTIF($I$53:$I$54,$I25) -> 0
A26: 8 | B26: Female | C26: 10 yrs | D26: 50m | E26: Breaststroke | K26: =DATEDIF(H26,$K$1,"Y") -> 125 | L26: =SUM(M26:P26) -> 0 | M26: =COUNTIF($I$23:$I$24,$I26)+COUNTIF($I$31:$I$32,$I26)+COUNTIF($I$39:$I$40,$I26)+COUNTIF($I$47:$I$48,$I26) -> 0 | N26: =COUNTIF($I$25:$I$26,$I26)+COUNTIF($I$33:$I$34,$I26)+COUNTIF($I$41:$I$42,$I26)+COUNTIF($I$49:$I$50,$I26) -> 0 | O26: =COUNTIF($I$27:$I$28,$I26)+COUNTIF($I$35:$I$36,$I26)+COUNTIF($I$43:$I$44,$I26)+COUNTIF($I$51:$I$52,$I26) -> 0 | P26: =COUNTIF($I$29:$I$30,$I26)+COUNTIF($I$37:$I$38,$I26)+COUNTIF($I$45:$I$46,$I26)+COUNTIF($I$53:$I$54,$I26) -> 0
A27: 9 | B27: Open/Male | C27: 11 yrs | D27: 50m | E27: Backstroke | K27: =DATEDIF(H27,$K$1,"Y") -> 125 | L27: =SUM(M27:P27) -> 0 | M27: =COUNTIF($I$23:$I$24,$I27)+COUNTIF($I$31:$I$32,$I27)+COUNTIF($I$39:$I$40,$I27)+COUNTIF($I$47:$I$48,$I27) -> 0 | N27: =COUNTIF($I$25:$I$26,$I27)+COUNTIF($I$33:$I$34,$I27)+COUNTIF($I$41:$I$42,$I27)+COUNTIF($I$49:$I$50,$I27) -> 0 | O27: =COUNTIF($I$27:$I$28,$I27)+COUNTIF($I$35:$I$36,$I27)+COUNTIF($I$43:$I$44,$I27)+COUNTIF($I$51:$I$52,$I27) -> 0 | P27: =COUNTIF($I$29:$I$30,$I27)+COUNTIF($I$37:$I$38,$I27)+COUNTIF($I$45:$I$46,$I27)+COUNTIF($I$53:$I$54,$I27) -> 0
A28: 10 | B28: Female | C28: 11 yrs | D28: 50m | E28: Backstroke | K28: =DATEDIF(H28,$K$1,"Y") -> 125 | L28: =SUM(M28:P28) -> 0 | M28: =COUNTIF($I$23:$I$24,$I28)+COUNTIF($I$31:$I$32,$I28)+COUNTIF($I$39:$I$40,$I28)+COUNTIF($I$47:$I$48,$I28) -> 0 | N28: =COUNTIF($I$25:$I$26,$I28)+COUNTIF($I$33:$I$34,$I28)+COUNTIF($I$41:$I$42,$I28)+COUNTIF($I$49:$I$50,$I28) -> 0 | O28: =COUNTIF($I$27:$I$28,$I28)+COUNTIF($I$35:$I$36,$I28)+COUNTIF($I$43:$I$44,$I28)+COUNTIF($I$51:$I$52,$I28) -> 0 | P28: =COUNTIF($I$29:$I$30,$I28)+COUNTIF($I$37:$I$38,$I28)+COUNTIF($I$45:$I$46,$I28)+COUNTIF($I$53:$I$54,$I28) -> 0
A29: 11 | B29: Open/Male | C29: 12 yrs | D29: 50m | E29: Butterfly | K29: =DATEDIF(H29,$K$1,"Y") -> 125 | L29: =SUM(M29:P29) -> 0 | M29: =COUNTIF($I$23:$I$24,$I29)+COUNTIF($I$31:$I$32,$I29)+COUNTIF($I$39:$I$40,$I29)+COUNTIF($I$47:$I$48,$I29) -> 0 | N29: =COUNTIF($I$25:$I$26,$I29)+COUNTIF($I$33:$I$34,$I29)+COUNTIF($I$41:$I$42,$I29)+COUNTIF($I$49:$I$50,$I29) -> 0 | O29: =COUNTIF($I$27:$I$28,$I29)+COUNTIF($I$35:$I$36,$I29)+COUNTIF($I$43:$I$44,$I29)+COUNTIF($I$51:$I$52,$I29) -> 0 | P29: =COUNTIF($I$29:$I$30,$I29)+COUNTIF($I$37:$I$38,$I29)+COUNTIF($I$45:$I$46,$I29)+COUNTIF($I$53:$I$54,$I29) -> 0
A30: 12 | B30: Female | C30: 12 yrs | D30: 50m | E30: Butterfly | K30: =DATEDIF(H30,$K$1,"Y") -> 125 | L30: =SUM(M30:P30) -> 0 | M30: =COUNTIF($I$23:$I$24,$I30)+COUNTIF($I$31:$I$32,$I30)+COUNTIF($I$39:$I$40,$I30)+COUNTIF($I$47:$I$48,$I30) -> 0 | N30: =COUNTIF($I$25:$I$26,$I30)+COUNTIF($I$33:$I$34,$I30)+COUNTIF($I$41:$I$42,$I30)+COUNTIF($I$49:$I$50,$I30) -> 0 | O30: =COUNTIF($I$27:$I$28,$I30)+COUNTIF($I$35:$I$36,$I30)+COUNTIF($I$43:$I$44,$I30)+COUNTIF($I$51:$I$52,$I30) -> 0 | P30: =COUNTIF($I$29:$I$30,$I30)+COUNTIF($I$37:$I$38,$I30)+COUNTIF($I$45:$I$46,$I30)+COUNTIF($I$53:$I$54,$I30) -> 0
A31: 13 | B31: Open/Male | C31: 9 yrs | D31: 25m | E31: Breaststroke | K31: =DATEDIF(H31,$K$1,"Y") -> 125 | L31: =SUM(M31:P31) -> 0 | M31: =COUNTIF($I$23:$I$24,$I31)+COUNTIF($I$31:$I$32,$I31)+COUNTIF($I$39:$I$40,$I31)+COUNTIF($I$47:$I$48,$I31) -> 0 | N31: =COUNTIF($I$25:$I$26,$I31)+COUNTIF($I$33:$I$34,$I31)+COUNTIF($I$41:$I$42,$I31)+COUNTIF($I$49:$I$50,$I31) -> 0 | O31: =COUNTIF($I$27:$I$28,$I31)+COUNTIF($I$35:$I$36,$I31)+COUNTIF($I$43:$I$44,$I31)+COUNTIF($I$51:$I$52,$I31) -> 0 | P31: =COUNTIF($I$29:$I$30,$I31)+COUNTIF($I$37:$I$38,$I31)+COUNTIF($I$45:$I$46,$I31)+COUNTIF($I$53:$I$54,$I31) -> 0
A32: 14 | B32: Female | C32: 9 yrs | D32: 25m | E32: Breaststroke | K32: =DATEDIF(H32,$K$1,"Y") -> 125 | L32: =SUM(M32:P32) -> 0 | M32: =COUNTIF($I$23:$I$24,$I32)+COUNTIF($I$31:$I$32,$I32)+COUNTIF($I$39:$I$40,$I32)+COUNTIF($I$47:$I$48,$I32) -> 0 | N32: =COUNTIF($I$25:$I$26,$I32)+COUNTIF($I$33:$I$34,$I32)+COUNTIF($I$41:$I$42,$I32)+COUNTIF($I$49:$I$50,$I32) -> 0 | O32: =COUNTIF($I$27:$I$28,$I32)+COUNTIF($I$35:$I$36,$I32)+COUNTIF($I$43:$I$44,$I32)+COUNTIF($I$51:$I$52,$I32) -> 0 | P32: =COUNTIF($I$29:$I$30,$I32)+COUNTIF($I$37:$I$38,$I32)+COUNTIF($I$45:$I$46,$I32)+COUNTIF($I$53:$I$54,$I32) -> 0
A33: 15 | B33: Open/Male | C33: 10 yrs | D33: 50m | E33: Backstroke | K33: =DATEDIF(H33,$K$1,"Y") -> 125 | L33: =SUM(M33:P33) -> 0 | M33: =COUNTIF($I$23:$I$24,$I33)+COUNTIF($I$31:$I$32,$I33)+COUNTIF($I$39:$I$40,$I33)+COUNTIF($I$47:$I$48,$I33) -> 0 | N33: =COUNTIF($I$25:$I$26,$I33)+COUNTIF($I$33:$I$34,$I33)+COUNTIF($I$41:$I$42,$I33)+COUNTIF($I$49:$I$50,$I33) -> 0 | O33: =COUNTIF($I$27:$I$28,$I33)+COUNTIF($I$35:$I$36,$I33)+COUNTIF($I$43:$I$44,$I33)+COUNTIF($I$51:$I$52,$I33) -> 0 | P33: =COUNTIF($I$29:$I$30,$I33)+COUNTIF($I$37:$I$38,$I33)+COUNTIF($I$45:$I$46,$I33)+COUNTIF($I$53:$I$54,$I33) -> 0
A34: 16 | B34: Female | C34: 10 yrs | D34: 50m | E34: Backstroke | K34: =DATEDIF(H34,$K$1,"Y") -> 125 | L34: =SUM(M34:P34) -> 0 | M34: =COUNTIF($I$23:$I$24,$I34)+COUNTIF($I$31:$I$32,$I34)+COUNTIF($I$39:$I$40,$I34)+COUNTIF($I$47:$I$48,$I34) -> 0 | N34: =COUNTIF($I$25:$I$26,$I34)+COUNTIF($I$33:$I$34,$I34)+COUNTIF($I$41:$I$42,$I34)+COUNTIF($I$49:$I$50,$I34) -> 0 | O34: =COUNTIF($I$27:$I$28,$I34)+COUNTIF($I$35:$I$36,$I34)+COUNTIF($I$43:$I$44,$I34)+COUNTIF($I$51:$I$52,$I34) -> 0 | P34: =COUNTIF($I$29:$I$30,$I34)+COUNTIF($I$37:$I$38,$I34)+COUNTIF($I$45:$I$46,$I34)+COUNTIF($I$53:$I$54,$I34) -> 0
... A54: 36 | B54: Female | C54: 12 yrs | D54: 50m | E54: Backstroke | K54: =DATEDIF(H54,$K$1,"Y") -> 125 | L54: =SUM(M54:P54) -> 0 | M54: =COUNTIF($I$23:$I$24,$I54)+COUNTIF($I$31:$I$32,$I54)+COUNTIF($I$39:$I$40,$I54)+COUNTIF($I$47:$I$48,$I54) -> 0 | N54: =COUNTIF($I$25:$I$26,$I54)+COUNTIF($I$33:$I$34,$I54)+COUNTIF($I$41:$I$42,$I54)+COUNTIF($I$49:$I$50,$I54) -> 0 | O54: =COUNTIF($I$27:$I$28,$I54)+COUNTIF($I$35:$I$36,$I54)+COUNTIF($I$43:$I$44,$I54)+COUNTIF($I$51:$I$52,$I54) -> 0 | P54: =COUNTIF($I$29:$I$30,$I54)+COUNTIF($I$37:$I$38,$I54)+COUNTIF($I$45:$I$46,$I54)+COUNTIF($I$53:$I$54,$I54) -> 0
A55: 37 | B55: Mixed | C55: 9 yrs | D55: 4 x 25m | E55: Medley Relay | F55: Relay
E56: Swimmer 1 | K56: =DATEDIF(H56,$K$1,"Y") -> 125
B57: 2 Open/Males and 2 Females (any order) | E57: Swimmer 2 | K57: =DATEDIF(H57,$K$1,"Y") -> 125
E58: Swimmer 3 | K58: =DATEDIF(H58,$K$1,"Y") -> 125
E59: Swimmer 4 | K59: =DATEDIF(H59,$K$1,"Y") -> 125
A60: 38 | B60: Mixed | C60: 10 yrs | D60: 4 x 25m | E60: Freestyle Relay | F60: Relay
E61: Swimmer 1 | K61: =DATEDIF(H61,$K$1,"Y") -> 125
B62: 2 Open/Males and 2 Females (any order) | E62: Swimmer 2 | K62: =DATEDIF(H62,$K$1,"Y") -> 125
E63: Swimmer 3 | K63: =DATEDIF(H63,$K$1,"Y") -> 125
E64: Swimmer 4 | K64: =DATEDIF(H64,$K$1,"Y") -> 125
A65: 39 | B65: Mixed | C65: 11/u | D65: 4 x 25m | E65: Medley Relay | F65: Relay
E66: Swimmer 1 | K66: =DATEDIF(H66,$K$1,"Y") -> 125
B67: 2 Open/Males and 2 Females (any order) | E67: Swimmer 2 | K67: =DATEDIF(H67,$K$1,"Y") -> 125
E68: Swimmer 3 | K68: =DATEDIF(H68,$K$1,"Y") -> 125
E69: Swimmer 4 | K69: =DATEDIF(H69,$K$1,"Y") -> 125
A70: 40 | B70: Mixed | C70: 12/u | D70: 4 x 25m | E70: Freestyle Relay | F70: Relay
E71: Swimmer 1 | K71: =DATEDIF(H71,$K$1,"Y") -> 125
B72: 2 Open/Males and 2 Females (any order) | E72: Swimmer 2 | K72: =DATEDIF(H72,$K$1,"Y") -> 125
E73: Swimmer 3 | K73: =DATEDIF(H73,$K$1,"Y") -> 125
E74: Swimmer 4 | K74: =DATEDIF(H74,$K$1,"Y") -> 125
A75: 41 | B75: Mixed | D75: 8 x 25m | E75: Cannon Relay | F75: Relay
E76: Swimmer 1 | K76: =DATEDIF(H76,$K$1,"Y") -> 125
B77: 1 Open/Male and 1 Female from each age group with the youngest Open/Male swimming first | E77: Swimmer 2 | K77: =DATEDIF(H77,$K$1,"Y") -> 125
E78: Swimmer 3 | K78: =DATEDIF(H78,$K$1,"Y") -> 125
E79: Swimmer 4 | K79: =DATEDIF(H79,$K$1,"Y") -> 125
E80: Swimmer 5 | K80: =DATEDIF(H80,$K$1,"Y") -> 125
E81: Swimmer 6 | K81: =DATEDIF(H81,$K$1,"Y") -> 125
E82: Swimmer 7 | K82: =DATEDIF(H82,$K$1,"Y") -> 125
E83: Swimmer 8 | K83: =DATEDIF(H83,$K$1,"Y") -> 125

Sheet Lane 3 Team
A1: Team Name: | F1: =Instructions!I27 -> 0 | K1: =Instructions!$I$10 -> 45815 | L1: Total Number of Indiviual Events | M1: Individual Swims by Age Group
A2: Event | F2: Forename | G2: Surname | H2: Date of Birth | I2: SE Number | K2: Age | M2: 9 | N2: 10 | O2: 11 | P2: 12
A3: 1 | B3: Mixed | C3: 12/u | D3: 4 x 25m | E3: Medley Relay | F3: Relay
E4: Swimmer 1 | K4: =DATEDIF(H4,$K$1,"Y") -> 125
B5: 2 Open/Males and 2 Females (any order) | E5: Swimmer 2 | K5: =DATEDIF(H5,$K$1,"Y") -> 125
E6: Swimmer 3 | K6: =DATEDIF(H6,$K$1,"Y") -> 125
E7: Swimmer 4 | K7: =DATEDIF(H7,$K$1,"Y") -> 125
A8: 2 | B8: Mixed | C8: 9 yrs | D8: 4 x 25m | E8: Freestyle Relay | F8: Relay
E9: Swimmer 1 | K9: =DATEDIF(H9,$K$1,"Y") -> 125
B10: 2 Open/Males and 2 Females (any order) | E10: Swimmer 2 | K10: =DATEDIF(H10,$K$1,"Y") -> 125
E11: Swimmer 3 | K11: =DATEDIF(H11,$K$1,"Y") -> 125
E12: Swimmer 4 | K12: =DATEDIF(H12,$K$1,"Y") -> 125
A13: 3 | B13: Mixed | C13: 10/u | D13: 4 x 25m | E13: Medley Relay | F13: Relay
E14: Swimmer 1 | K14: =DATEDIF(H14,$K$1,"Y") -> 125
B15: 2 Open/Males and 2 Females (any order) | E15: Swimmer 2 | K15: =DATEDIF(H15,$K$1,"Y") -> 125
E16: Swimmer 3 | K16: =DATEDIF(H16,$K$1,"Y") -> 125
E17: Swimmer 4 | K17: =DATEDIF(H17,$K$1,"Y") -> 125
A18: 4 | B18: Mixed | C18: 11/u | D18: 4 x 25m | E18: Freestyle Relay | F18: Relay
E19: Swimmer 1 | K19: =DATEDIF(H19,$K$1,"Y") -> 125
B20: 2 Open/Males and 2 Females (any order) | E20: Swimmer 2 | K20: =DATEDIF(H20,$K$1,"Y") -> 125
E21: Swimmer 3 | K21: =DATEDIF(H21,$K$1,"Y") -> 125
E22: Swimmer 4 | K22: =DATEDIF(H22,$K$1,"Y") -> 125
A23: 5 | B23: Open/Male | C23: 9 yrs | D23: 25m | E23: Freestyle | K23: =DATEDIF(H23,$K$1,"Y") -> 125 | L23: =SUM(M23:P23) -> 0 | M23: =COUNTIF($I$23:$I$24,$I23)+COUNTIF($I$31:$I$32,$I23)+COUNTIF($I$39:$I$40,$I23)+COUNTIF($I$47:$I$48,$I23) -> 0 | N23: =COUNTIF($I$25:$I$26,$I23)+COUNTIF($I$33:$I$34,$I23)+COUNTIF($I$41:$I$42,$I23)+COUNTIF($I$49:$I$50,$I23) -> 0 | O23: =COUNTIF($I$27:$I$28,$I23)+COUNTIF($I$35:$I$36,$I23)+COUNTIF($I$43:$I$44,$I23)+COUNTIF($I$51:$I$52,$I23) -> 0 | P23: =COUNTIF($I$29:$I$30,$I23)+COUNTIF($I$37:$I$38,$I23)+COUNTIF($I$45:$I$46,$I23)+COUNTIF($I$53:$I$54,$I23) -> 0
A24: 6 | B24: Female | C24: 9 yrs | D24: 25m | E24: Freestyle | K24: =DATEDIF(H24,$K$1,"Y") -> 125 | L24: =SUM(M24:P24) -> 0 | M24: =COUNTIF($I$23:$I$24,$I24)+COUNTIF($I$31:$I$32,$I24)+COUNTIF($I$39:$I$40,$I24)+COUNTIF($I$47:$I$48,$I24) -> 0 | N24: =COUNTIF($I$25:$I$26,$I24)+COUNTIF($I$33:$I$34,$I24)+COUNTIF($I$41:$I$42,$I24)+COUNTIF($I$49:$I$50,$I24) -> 0 | O24: =COUNTIF($I$27:$I$28,$I24)+COUNTIF($I$35:$I$36,$I24)+COUNTIF($I$43:$I$44,$I24)+COUNTIF($I$51:$I$52,$I24) -> 0 | P24: =COUNTIF($I$29:$I$30,$I24)+COUNTIF($I$37:$I$38,$I24)+COUNTIF($I$45:$I$46,$I24)+COUNTIF($I$53:$I$54,$I24) -> 0
A25: 7 | B25: Open/Male | C25: 10 yrs | D25: 50m | E25: Breaststroke | K25: =DATEDIF(H25,$K$1,"Y") -> 125 | L25: =SUM(M25:P25) -> 0 | M25: =COUNTIF($I$23:$I$24,$I25)+COUNTIF($I$31:$I$32,$I25)+COUNTIF($I$39:$I$40,$I25)+COUNTIF($I$47:$I$48,$I25) -> 0 | N25: =COUNTIF($I$25:$I$26,$I25)+COUNTIF($I$33:$I$34,$I25)+COUNTIF($I$41:$I$42,$I25)+COUNTIF($I$49:$I$50,$I25) -> 0 | O25: =COUNTIF($I$27:$I$28,$I25)+COUNTIF($I$35:$I$36,$I25)+COUNTIF($I$43:$I$44,$I25)+COUNTIF($I$51:$I$52,$I25) -> 0 | P25: =COUNTIF($I$29:$I$30,$I25)+COUNTIF($I$37:$I$38,$I25)+COUNTIF($I$45:$I$46,$I25)+COUNTIF($I$53:$I$54,$I25) -> 0
A26: 8 | B26: Female | C26: 10 yrs | D26: 50m | E26: Breaststroke | K26: =DATEDIF(H26,$K$1,"Y") -> 125 | L26: =SUM(M26:P26) -> 0 | M26: =COUNTIF($I$23:$I$24,$I26)+COUNTIF($I$31:$I$32,$I26)+COUNTIF($I$39:$I$40,$I26)+COUNTIF($I$47:$I$48,$I26) -> 0 | N26: =COUNTIF($I$25:$I$26,$I26)+COUNTIF($I$33:$I$34,$I26)+COUNTIF($I$41:$I$42,$I26)+COUNTIF($I$49:$I$50,$I26) -> 0 | O26: =COUNTIF($I$27:$I$28,$I26)+COUNTIF($I$35:$I$36,$I26)+COUNTIF($I$43:$I$44,$I26)+COUNTIF($I$51:$I$52,$I26) -> 0 | P26: =COUNTIF($I$29:$I$30,$I26)+COUNTIF($I$37:$I$38,$I26)+COUNTIF($I$45:$I$46,$I26)+COUNTIF($I$53:$I$54,$I26) -> 0
A27: 9 | B27: Open/Male | C27: 11 yrs | D27: 50m | E27: Backstroke | K27: =DATEDIF(H27,$K$1,"Y") -> 125 | L27: =SUM(M27:P27) -> 0 | M27: =COUNTIF($I$23:$I$24,$I27)+COUNTIF($I$31:$I$32,$I27)+COUNTIF($I$39:$I$40,$I27)+COUNTIF($I$47:$I$48,$I27) -> 0 | N27: =COUNTIF($I$25:$I$26,$I27)+COUNTIF($I$33:$I$34,$I27)+COUNTIF($I$41:$I$42,$I27)+COUNTIF($I$49:$I$50,$I27) -> 0 | O27: =COUNTIF($I$27:$I$28,$I27)+COUNTIF($I$35:$I$36,$I27)+COUNTIF($I$43:$I$44,$I27)+COUNTIF($I$51:$I$52,$I27) -> 0 | P27: =COUNTIF($I$29:$I$30,$I27)+COUNTIF($I$37:$I$38,$I27)+COUNTIF($I$45:$I$46,$I27)+COUNTIF($I$53:$I$54,$I27) -> 0
A28: 10 | B28: Female | C28: 11 yrs | D28: 50m | E28: Backstroke | K28: =DATEDIF(H28,$K$1,"Y") -> 125 | L28: =SUM(M28:P28) -> 0 | M28: =COUNTIF($I$23:$I$24,$I28)+COUNTIF($I$31:$I$32,$I28)+COUNTIF($I$39:$I$40,$I28)+COUNTIF($I$47:$I$48,$I28) -> 0 | N28: =COUNTIF($I$25:$I$26,$I28)+COUNTIF($I$33:$I$34,$I28)+COUNTIF($I$41:$I$42,$I28)+COUNTIF($I$49:$I$50,$I28) -> 0 | O28: =COUNTIF($I$27:$I$28,$I28)+COUNTIF($I$35:$I$36,$I28)+COUNTIF($I$43:$I$44,$I28)+COUNTIF($I$51:$I$52,$I28) -> 0 | P28: =COUNTIF($I$29:$I$30,$I28)+COUNTIF($I$37:$I$38,$I28)+COUNTIF($I$45:$I$46,$I28)+COUNTIF($I$53:$I$54,$I28) -> 0
A29: 11 | B29: Open/Male | C29: 12 yrs | D29: 50m | E29: Butterfly | K29: =DATEDIF(H29,$K$1,"Y") -> 125 | L29: =SUM(M29:P29) -> 0 | M29: =COUNTIF($I$23:$I$24,$I29)+COUNTIF($I$31:$I$32,$I29)+COUNTIF($I$39:$I$40,$I29)+COUNTIF($I$47:$I$48,$I29) -> 0 | N29: =COUNTIF($I$25:$I$26,$I29)+COUNTIF($I$33:$I$34,$I29)+COUNTIF($I$41:$I$42,$I29)+COUNTIF($I$49:$I$50,$I29) -> 0 | O29: =COUNTIF($I$27:$I$28,$I29)+COUNTIF($I$35:$I$36,$I29)+COUNTIF($I$43:$I$44,$I29)+COUNTIF($I$51:$I$52,$I29) -> 0 | P29: =COUNTIF($I$29:$I$30,$I29)+COUNTIF($I$37:$I$38,$I29)+COUNTIF($I$45:$I$46,$I29)+COUNTIF($I$53:$I$54,$I29) -> 0
A30: 12 | B30: Female | C30: 12 yrs | D30: 50m | E30: Butterfly | K30: =DATEDIF(H30,$K$1,"Y") -> 125 | L30: =SUM(M30:P30) -> 0 | M30: =COUNTIF($I$23:$I$24,$I30)+COUNTIF($I$31:$I$32,$I30)+COUNTIF($I$39:$I$40,$I30)+COUNTIF($I$47:$I$48,$I30) -> 0 | N30: =COUNTIF($I$25:$I$26,$I30)+COUNTIF($I$33:$I$34,$I30)+COUNTIF($I$41:$I$42,$I30)+COUNTIF($I$49:$I$50,$I30) -> 0 | O30: =COUNTIF($I$27:$I$28,$I30)+COUNTIF($I$35:$I$36,$I30)+COUNTIF($I$43:$I$44,$I30)+COUNTIF($I$51:$I$52,$I30) -> 0 | P30: =COUNTIF($I$29:$I$30,$I30)+COUNTIF($I$37:$I$38,$I30)+COUNTIF($I$45:$I$46,$I30)+COUNTIF($I$53:$I$54,$I30) -> 0
A31: 13 | B31: Open/Male | C31: 9 yrs | D31: 25m | E31: Breaststroke | K31: =DATEDIF(H31,$K$1,"Y") -> 125 | L31: =SUM(M31:P31) -> 0 | M31: =COUNTIF($I$23:$I$24,$I31)+COUNTIF($I$31:$I$32,$I31)+COUNTIF($I$39:$I$40,$I31)+COUNTIF($I$47:$I$48,$I31) -> 0 | N31: =COUNTIF($I$25:$I$26,$I31)+COUNTIF($I$33:$I$34,$I31)+COUNTIF($I$41:$I$42,$I31)+COUNTIF($I$49:$I$50,$I31) -> 0 | O31: =COUNTIF($I$27:$I$28,$I31)+COUNTIF($I$35:$I$36,$I31)+COUNTIF($I$43:$I$44,$I31)+COUNTIF($I$51:$I$52,$I31) -> 0 | P31: =COUNTIF($I$29:$I$30,$I31)+COUNTIF($I$37:$I$38,$I31)+COUNTIF($I$45:$I$46,$I31)+COUNTIF($I$53:$I$54,$I31) -> 0
A32: 14 | B32: Female | C32: 9 yrs | D32: 25m | E32: Breaststroke | K32: =DATEDIF(H32,$K$1,"Y") -> 125 | L32: =SUM(M32:P32) -> 0 | M32: =COUNTIF($I$23:$I$24,$I32)+COUNTIF($I$31:$I$32,$I32)+COUNTIF($I$39:$I$40,$I32)+COUNTIF($I$47:$I$48,$I32) -> 0 | N32: =COUNTIF($I$25:$I$26,$I32)+COUNTIF($I$33:$I$34,$I32)+COUNTIF($I$41:$I$42,$I32)+COUNTIF($I$49:$I$50,$I32) -> 0 | O32: =COUNTIF($I$27:$I$28,$I32)+COUNTIF($I$35:$I$36,$I32)+COUNTIF($I$43:$I$44,$I32)+COUNTIF($I$51:$I$52,$I32) -> 0 | P32: =COUNTIF($I$29:$I$30,$I32)+COUNTIF($I$37:$I$38,$I32)+COUNTIF($I$45:$I$46,$I32)+COUNTIF($I$53:$I$54,$I32) -> 0
A33: 15 | B33: Open/Male | C33: 10 yrs | D33: 50m | E33: Backstroke | K33: =DATEDIF(H33,$K$1,"Y") -> 125 | L33: =SUM(M33:P33) -> 0 | M33: =COUNTIF($I$23:$I$24,$I33)+COUNTIF($I$31:$I$32,$I33)+COUNTIF($I$39:$I$40,$I33)+COUNTIF($I$47:$I$48,$I33) -> 0 | N33: =COUNTIF($I$25:$I$26,$I33)+COUNTIF($I$33:$I$34,$I33)+COUNTIF($I$41:$I$42,$I33)+COUNTIF($I$49:$I$50,$I33) -> 0 | O33: =COUNTIF($I$27:$I$28,$I33)+COUNTIF($I$35:$I$36,$I33)+COUNTIF($I$43:$I$44,$I33)+COUNTIF($I$51:$I$52,$I33) -> 0 | P33: =COUNTIF($I$29:$I$30,$I33)+COUNTIF($I$37:$I$38,$I33)+COUNTIF($I$45:$I$46,$I33)+COUNTIF($I$53:$I$54,$I33) -> 0
A34: 16 | B34: Female | C34: 10 yrs | D34: 50m | E34: Backstroke | K34: =DATEDIF(H34,$K$1,"Y") -> 125 | L34: =SUM(M34:P34) -> 0 | M34: =COUNTIF($I$23:$I$24,$I34)+COUNTIF($I$31:$I$32,$I34)+COUNTIF($I$39:$I$40,$I34)+COUNTIF($I$47:$I$48,$I34) -> 0 | N34: =COUNTIF($I$25:$I$26,$I34)+COUNTIF($I$33:$I$34,$I34)+COUNTIF($I$41:$I$42,$I34)+COUNTIF($I$49:$I$50,$I34) -> 0 | O34: =COUNTIF($I$27:$I$28,$I34)+COUNTIF($I$35:$I$36,$I34)+COUNTIF($I$43:$I$44,$I34)+COUNTIF($I$51:$I$52,$I34) -> 0 | P34: =COUNTIF($I$29:$I$30,$I34)+COUNTIF($I$37:$I$38,$I34)+COUNTIF($I$45:$I$46,$I34)+COUNTIF($I$53:$I$54,$I34) -> 0
... A54: 36 | B54: Female | C54: 12 yrs | D54: 50m | E54: Backstroke | K54: =DATEDIF(H54,$K$1,"Y") -> 125 | L54: =SUM(M54:P54) -> 0 | M54: =COUNTIF($I$23:$I$24,$I54)+COUNTIF($I$31:$I$32,$I54)+COUNTIF($I$39:$I$40,$I54)+COUNTIF($I$47:$I$48,$I54) -> 0 | N54: =COUNTIF($I$25:$I$26,$I54)+COUNTIF($I$33:$I$34,$I54)+COUNTIF($I$41:$I$42,$I54)+COUNTIF($I$49:$I$50,$I54) -> 0 | O54: =COUNTIF($I$27:$I$28,$I54)+COUNTIF($I$35:$I$36,$I54)+COUNTIF($I$43:$I$44,$I54)+COUNTIF($I$51:$I$52,$I54) -> 0 | P54: =COUNTIF($I$29:$I$30,$I54)+COUNTIF($I$37:$I$38,$I54)+COUNTIF($I$45:$I$46,$I54)+COUNTIF($I$53:$I$54,$I54) -> 0
A55: 37 | B55: Mixed | C55: 9 yrs | D55: 4 x 25m | E55: Medley Relay | F55: Relay
E56: Swimmer 1 | K56: =DATEDIF(H56,$K$1,"Y") -> 125
B57: 2 Open/Males and 2 Females (any order) | E57: Swimmer 2 | K57: =DATEDIF(H57,$K$1,"Y") -> 125
E58: Swimmer 3 | K58: =DATEDIF(H58,$K$1,"Y") -> 125
E59: Swimmer 4 | K59: =DATEDIF(H59,$K$1,"Y") -> 125
A60: 38 | B60: Mixed | C60: 10 yrs | D60: 4 x 25m | E60: Freestyle Relay | F60: Relay
E61: Swimmer 1 | K61: =DATEDIF(H61,$K$1,"Y") -> 125
B62: 2 Open/Males and 2 Females (any order) | E62: Swimmer 2 | K62: =DATEDIF(H62,$K$1,"Y") -> 125
E63: Swimmer 3 | K63: =DATEDIF(H63,$K$1,"Y") -> 125
E64: Swimmer 4 | K64: =DATEDIF(H64,$K$1,"Y") -> 125
A65: 39 | B65: Mixed | C65: 11/u | D65: 4 x 25m | E65: Medley Relay | F65: Relay
E66: Swimmer 1 | K66: =DATEDIF(H66,$K$1,"Y") -> 125
B67: 2 Open/Males and 2 Females (any order) | E67: Swimmer 2 | K67: =DATEDIF(H67,$K$1,"Y") -> 125
E68: Swimmer 3 | K68: =DATEDIF(H68,$K$1,"Y") -> 125
E69: Swimmer 4 | K69: =DATEDIF(H69,$K$1,"Y") -> 125
A70: 40 | B70: Mixed | C70: 12/u | D70: 4 x 25m | E70: Freestyle Relay | F70: Relay
E71: Swimmer 1 | K71: =DATEDIF(H71,$K$1,"Y") -> 125
B72: 2 Open/Males and 2 Females (any order) | E72: Swimmer 2 | K72: =DATEDIF(H72,$K$1,"Y") -> 125
E73: Swimmer 3 | K73: =DATEDIF(H73,$K$1,"Y") -> 125
E74: Swimmer 4 | K74: =DATEDIF(H74,$K$1,"Y") -> 125
A75: 41 | B75: Mixed | D75: 8 x 25m | E75: Cannon Relay | F75: Relay
E76: Swimmer 1 | K76: =DATEDIF(H76,$K$1,"Y") -> 125
B77: 1 Open/Male and 1 Female from each age group with the youngest Open/Male swimming first | E77: Swimmer 2 | K77: =DATEDIF(H77,$K$1,"Y") -> 125
E78: Swimmer 3 | K78: =DATEDIF(H78,$K$1,"Y") -> 125
E79: Swimmer 4 | K79: =DATEDIF(H79,$K$1,"Y") -> 125
E80: Swimmer 5 | K80: =DATEDIF(H80,$K$1,"Y") -> 125
E81: Swimmer 6 | K81: =DATEDIF(H81,$K$1,"Y") -> 125
E82: Swimmer 7 | K82: =DATEDIF(H82,$K$1,"Y") -> 125
E83: Swimmer 8 | K83: =DATEDIF(H83,$K$1,"Y") -> 125

Sheet Lane 4 Team
A1: Team Name: | F1: =Instructions!C28 -> 0 | K1: =Instructions!$I$10 -> 45815 | L1: Total Number of Indiviual Events | M1: Individual Swims by Age Group
A2: Event | F2: Forename | G2: Surname | H2: Date of Birth | I2: SE Number | K2: Age | M2: 9 | N2: 10 | O2: 11 | P2: 12
A3: 1 | B3: Mixed | C3: 12/u | D3: 4 x 25m | E3: Medley Relay | F3: Relay
E4: Swimmer 1 | K4: =DATEDIF(H4,$K$1,"Y") -> 125
B5: 2 Open/Males and 2 Females (any order) | E5: Swimmer 2 | K5: =DATEDIF(H5,$K$1,"Y") -> 125
E6: Swimmer 3 | K6: =DATEDIF(H6,$K$1,"Y") -> 125
E7: Swimmer 4 | K7: =DATEDIF(H7,$K$1,"Y") -> 125
A8: 2 | B8: Mixed | C8: 9 yrs | D8: 4 x 25m | E8: Freestyle Relay | F8: Relay
E9: Swimmer 1 | K9: =DATEDIF(H9,$K$1,"Y") -> 125
B10: 2 Open/Males and 2 Females (any order) | E10: Swimmer 2 | K10: =DATEDIF(H10,$K$1,"Y") -> 125
E11: Swimmer 3 | K11: =DATEDIF(H11,$K$1,"Y") -> 125
E12: Swimmer 4 | K12: =DATEDIF(H12,$K$1,"Y") -> 125
A13: 3 | B13: Mixed | C13: 10/u | D13: 4 x 25m | E13: Medley Relay | F13: Relay
E14: Swimmer 1 | K14: =DATEDIF(H14,$K$1,"Y") -> 125
B15: 2 Open/Males and 2 Females (any order) | E15: Swimmer 2 | K15: =DATEDIF(H15,$K$1,"Y") -> 125
E16: Swimmer 3 | K16: =DATEDIF(H16,$K$1,"Y") -> 125
E17: Swimmer 4 | K17: =DATEDIF(H17,$K$1,"Y") -> 125
A18: 4 | B18: Mixed | C18: 11/u | D18: 4 x 25m | E18: Freestyle Relay | F18: Relay
E19: Swimmer 1 | K19: =DATEDIF(H19,$K$1,"Y") -> 125
B20: 2 Open/Males and 2 Females (any order) | E20: Swimmer 2 | K20: =DATEDIF(H20,$K$1,"Y") -> 125
E21: Swimmer 3 | K21: =DATEDIF(H21,$K$1,"Y") -> 125
E22: Swimmer 4 | K22: =DATEDIF(H22,$K$1,"Y") -> 125
A23: 5 | B23: Open/Male | C23: 9 yrs | D23: 25m | E23: Freestyle | K23: =DATEDIF(H23,$K$1,"Y") -> 125 | L23: =SUM(M23:P23) -> 0 | M23: =COUNTIF($I$23:$I$24,$I23)+COUNTIF($I$31:$I$32,$I23)+COUNTIF($I$39:$I$40,$I23)+COUNTIF($I$47:$I$48,$I23) -> 0 | N23: =COUNTIF($I$25:$I$26,$I23)+COUNTIF($I$33:$I$34,$I23)+COUNTIF($I$41:$I$42,$I23)+COUNTIF($I$49:$I$50,$I23) -> 0 | O23: =COUNTIF($I$27:$I$28,$I23)+COUNTIF($I$35:$I$36,$I23)+COUNTIF($I$43:$I$44,$I23)+COUNTIF($I$51:$I$52,$I23) -> 0 | P23: =COUNTIF($I$29:$I$30,$I23)+COUNTIF($I$37:$I$38,$I23)+COUNTIF($I$45:$I$46,$I23)+COUNTIF($I$53:$I$54,$I23) -> 0
A24: 6 | B24: Female | C24: 9 yrs | D24: 25m | E24: Freestyle | K24: =DATEDIF(H24,$K$1,"Y") -> 125 | L24: =SUM(M24:P24) -> 0 | M24: =COUNTIF($I$23:$I$24,$I24)+COUNTIF($I$31:$I$32,$I24)+COUNTIF($I$39:$I$40,$I24)+COUNTIF($I$47:$I$48,$I24) -> 0 | N24: =COUNTIF($I$25:$I$26,$I24)+COUNTIF($I$33:$I$34,$I24)+COUNTIF($I$41:$I$42,$I24)+COUNTIF($I$49:$I$50,$I24) -> 0 | O24: =COUNTIF($I$27:$I$28,$I24)+COUNTIF($I$35:$I$36,$I24)+COUNTIF($I$43:$I$44,$I24)+COUNTIF($I$51:$I$52,$I24) -> 0 | P24: =COUNTIF($I$29:$I$30,$I24)+COUNTIF($I$37:$I$38,$I24)+COUNTIF($I$45:$I$46,$I24)+COUNTIF($I$53:$I$54,$I24) -> 0
A25: 7 | B25: Open/Male | C25: 10 yrs | D25: 50m | E25: Breaststroke | K25: =DATEDIF(H25,$K$1,"Y") -> 125 | L25: =SUM(M25:P25) -> 0 | M25: =COUNTIF($I$23:$I$24,$I25)+COUNTIF($I$31:$I$32,$I25)+COUNTIF($I$39:$I$40,$I25)+COUNTIF($I$47:$I$48,$I25) -> 0 | N25: =COUNTIF($I$25:$I$26,$I25)+COUNTIF($I$33:$I$34,$I25)+COUNTIF($I$41:$I$42,$I25)+COUNTIF($I$49:$I$50,$I25) -> 0 | O25: =COUNTIF($I$27:$I$28,$I25)+COUNTIF($I$35:$I$36,$I25)+COUNTIF($I$43:$I$44,$I25)+COUNTIF($I$51:$I$52,$I25) -> 0 | P25: =COUNTIF($I$29:$I$30,$I25)+COUNTIF($I$37:$I$38,$I25)+COUNTIF($I$45:$I$46,$I25)+COUNTIF($I$53:$I$54,$I25) -> 0
A26: 8 | B26: Female | C26: 10 yrs | D26: 50m | E26: Breaststroke | K26: =DATEDIF(H26,$K$1,"Y") -> 125 | L26: =SUM(M26:P26) -> 0 | M26: =COUNTIF($I$23:$I$24,$I26)+COUNTIF($I$31:$I$32,$I26)+COUNTIF($I$39:$I$40,$I26)+COUNTIF($I$47:$I$48,$I26) -> 0 | N26: =COUNTIF($I$25:$I$26,$I26)+COUNTIF($I$33:$I$34,$I26)+COUNTIF($I$41:$I$42,$I26)+COUNTIF($I$49:$I$50,$I26) -> 0 | O26: =COUNTIF($I$27:$I$28,$I26)+COUNTIF($I$35:$I$36,$I26)+COUNTIF($I$43:$I$44,$I26)+COUNTIF($I$51:$I$52,$I26) -> 0 | P26: =COUNTIF($I$29:$I$30,$I26)+COUNTIF($I$37:$I$38,$I26)+COUNTIF($I$45:$I$46,$I26)+COUNTIF($I$53:$I$54,$I26) -> 0
A27: 9 | B27: Open/Male | C27: 11 yrs | D27: 50m | E27: Backstroke | K27: =DATEDIF(H27,$K$1,"Y") -> 125 | L27: =SUM(M27:P27) -> 0 | M27: =COUNTIF($I$23:$I$24,$I27)+COUNTIF($I$31:$I$32,$I27)+COUNTIF($I$39:$I$40,$I27)+COUNTIF($I$47:$I$48,$I27) -> 0 | N27: =COUNTIF($I$25:$I$26,$I27)+COUNTIF($I$33:$I$34,$I27)+COUNTIF($I$41:$I$42,$I27)+COUNTIF($I$49:$I$50,$I27) -> 0 | O27: =COUNTIF($I$27:$I$28,$I27)+COUNTIF($I$35:$I$36,$I27)+COUNTIF($I$43:$I$44,$I27)+COUNTIF($I$51:$I$52,$I27) -> 0 | P27: =COUNTIF($I$29:$I$30,$I27)+COUNTIF($I$37:$I$38,$I27)+COUNTIF($I$45:$I$46,$I27)+COUNTIF($I$53:$I$54,$I27) -> 0
A28: 10 | B28: Female | C28: 11 yrs | D28: 50m | E28: Backstroke | K28: =DATEDIF(H28,$K$1,"Y") -> 125 | L28: =SUM(M28:P28) -> 0 | M28: =COUNTIF($I$23:$I$24,$I28)+COUNTIF($I$31:$I$32,$I28)+COUNTIF($I$39:$I$40,$I28)+COUNTIF($I$47:$I$48,$I28) -> 0 | N28: =COUNTIF($I$25:$I$26,$I28)+COUNTIF($I$33:$I$34,$I28)+COUNTIF($I$41:$I$42,$I28)+COUNTIF($I$49:$I$50,$I28) -> 0 | O28: =COUNTIF($I$27:$I$28,$I28)+COUNTIF($I$35:$I$36,$I28)+COUNTIF($I$43:$I$44,$I28)+COUNTIF($I$51:$I$52,$I28) -> 0 | P28: =COUNTIF($I$29:$I$30,$I28)+COUNTIF($I$37:$I$38,$I28)+COUNTIF($I$45:$I$46,$I28)+COUNTIF($I$53:$I$54,$I28) -> 0
A29: 11 | B29: Open/Male | C29: 12 yrs | D29: 50m | E29: Butterfly | K29: =DATEDIF(H29,$K$1,"Y") -> 125 | L29: =SUM(M29:P29) -> 0 | M29: =COUNTIF($I$23:$I$24,$I29)+COUNTIF($I$31:$I$32,$I29)+COUNTIF($I$39:$I$40,$I29)+COUNTIF($I$47:$I$48,$I29) -> 0 | N29: =COUNTIF($I$25:$I$26,$I29)+COUNTIF($I$33:$I$34,$I29)+COUNTIF($I$41:$I$42,$I29)+COUNTIF($I$49:$I$50,$I29) -> 0 | O29: =COUNTIF($I$27:$I$28,$I29)+COUNTIF($I$35:$I$36,$I29)+COUNTIF($I$43:$I$44,$I29)+COUNTIF($I$51:$I$52,$I29) -> 0 | P29: =COUNTIF($I$29:$I$30,$I29)+COUNTIF($I$37:$I$38,$I29)+COUNTIF($I$45:$I$46,$I29)+COUNTIF($I$53:$I$54,$I29) -> 0
A30: 12 | B30: Female | C30: 12 yrs | D30: 50m | E30: Butterfly | K30: =DATEDIF(H30,$K$1,"Y") -> 125 | L30: =SUM(M30:P30) -> 0 | M30: =COUNTIF($I$23:$I$24,$I30)+COUNTIF($I$31:$I$32,$I30)+COUNTIF($I$39:$I$40,$I30)+COUNTIF($I$47:$I$48,$I30) -> 0 | N30: =COUNTIF($I$25:$I$26,$I30)+COUNTIF($I$33:$I$34,$I30)+COUNTIF($I$41:$I$42,$I30)+COUNTIF($I$49:$I$50,$I30) -> 0 | O30: =COUNTIF($I$27:$I$28,$I30)+COUNTIF($I$35:$I$36,$I30)+COUNTIF($I$43:$I$44,$I30)+COUNTIF($I$51:$I$52,$I30) -> 0 | P30: =COUNTIF($I$29:$I$30,$I30)+COUNTIF($I$37:$I$38,$I30)+COUNTIF($I$45:$I$46,$I30)+COUNTIF($I$53:$I$54,$I30) -> 0
A31: 13 | B31: Open/Male | C31: 9 yrs | D31: 25m | E31: Breaststroke | K31: =DATEDIF(H31,$K$1,"Y") -> 125 | L31: =SUM(M31:P31) -> 0 | M31: =COUNTIF($I$23:$I$24,$I31)+COUNTIF($I$31:$I$32,$I31)+COUNTIF($I$39:$I$40,$I31)+COUNTIF($I$47:$I$48,$I31) -> 0 | N31: =COUNTIF($I$25:$I$26,$I31)+COUNTIF($I$33:$I$34,$I31)+COUNTIF($I$41:$I$42,$I31)+COUNTIF($I$49:$I$50,$I31) -> 0 | O31: =COUNTIF($I$27:$I$28,$I31)+COUNTIF($I$35:$I$36,$I31)+COUNTIF($I$43:$I$44,$I31)+COUNTIF($I$51:$I$52,$I31) -> 0 | P31: =COUNTIF($I$29:$I$30,$I31)+COUNTIF($I$37:$I$38,$I31)+COUNTIF($I$45:$I$46,$I31)+COUNTIF($I$53:$I$54,$I31) -> 0
A32: 14 | B32: Female | C32: 9 yrs | D32: 25m | E32: Breaststroke | K32: =DATEDIF(H32,$K$1,"Y") -> 125 | L32: =SUM(M32:P32) -> 0 | M32: =COUNTIF($I$23:$I$24,$I32)+COUNTIF($I$31:$I$32,$I32)+COUNTIF($I$39:$I$40,$I32)+COUNTIF($I$47:$I$48,$I32) -> 0 | N32: =COUNTIF($I$25:$I$26,$I32)+COUNTIF($I$33:$I$34,$I32)+COUNTIF($I$41:$I$42,$I32)+COUNTIF($I$49:$I$50,$I32) -> 0 | O32: =COUNTIF($I$27:$I$28,$I32)+COUNTIF($I$35:$I$36,$I32)+COUNTIF($I$43:$I$44,$I32)+COUNTIF($I$51:$I$52,$I32) -> 0 | P32: =COUNTIF($I$29:$I$30,$I32)+COUNTIF($I$37:$I$38,$I32)+COUNTIF($I$45:$I$46,$I32)+COUNTIF($I$53:$I$54,$I32) -> 0
A33: 15 | B33: Open/Male | C33: 10 yrs | D33: 50m | E33: Backstroke | K33: =DATEDIF(H33,$K$1,"Y") -> 125 | L33: =SUM(M33:P33) -> 0 | M33: =COUNTIF($I$23:$I$24,$I33)+COUNTIF($I$31:$I$32,$I33)+COUNTIF($I$39:$I$40,$I33)+COUNTIF($I$47:$I$48,$I33) -> 0 | N33: =COUNTIF($I$25:$I$26,$I33)+COUNTIF($I$33:$I$34,$I33)+COUNTIF($I$41:$I$42,$I33)+COUNTIF($I$49:$I$50,$I33) -> 0 | O33: =COUNTIF($I$27:$I$28,$I33)+COUNTIF($I$35:$I$36,$I33)+COUNTIF($I$43:$I$44,$I33)+COUNTIF($I$51:$I$52,$I33) -> 0 | P33: =COUNTIF($I$29:$I$30,$I33)+COUNTIF($I$37:$I$38,$I33)+COUNTIF($I$45:$I$46,$I33)+COUNTIF($I$53:$I$54,$I33) -> 0
A34: 16 | B34: Female | C34: 10 yrs | D34: 50m | E34: Backstroke | K34: =DATEDIF(H34,$K$1,"Y") -> 125 | L34: =SUM(M34:P34) -> 0 | M34: =COUNTIF($I$23:$I$24,$I34)+COUNTIF($I$31:$I$32,$I34)+COUNTIF($I$39:$I$40,$I34)+COUNTIF($I$47:$I$48,$I34) -> 0 | N34: =COUNTIF($I$25:$I$26,$I34)+COUNTIF($I$33:$I$34,$I34)+COUNTIF($I$41:$I$42,$I34)+COUNTIF($I$49:$I$50,$I34) -> 0 | O34: =COUNTIF($I$27:$I$28,$I34)+COUNTIF($I$35:$I$36,$I34)+COUNTIF($I$43:$I$44,$I34)+COUNTIF($I$51:$I$52,$I34) -> 0 | P34: =COUNTIF($I$29:$I$30,$I34)+COUNTIF($I$37:$I$38,$I34)+COUNTIF($I$45:$I$46,$I34)+COUNTIF($I$53:$I$54,$I34) -> 0
... A54: 36 | B54: Female | C54: 12 yrs | D54: 50m | E54: Backstroke | K54: =DATEDIF(H54,$K$1,"Y") -> 125 | L54: =SUM(M54:P54) -> 0 | M54: =COUNTIF($I$23:$I$24,$I54)+COUNTIF($I$31:$I$32,$I54)+COUNTIF($I$39:$I$40,$I54)+COUNTIF($I$47:$I$48,$I54) -> 0 | N54: =COUNTIF($I$25:$I$26,$I54)+COUNTIF($I$33:$I$34,$I54)+COUNTIF($I$41:$I$42,$I54)+COUNTIF($I$49:$I$50,$I54) -> 0 | O54: =COUNTIF($I$27:$I$28,$I54)+COUNTIF($I$35:$I$36,$I54)+COUNTIF($I$43:$I$44,$I54)+COUNTIF($I$51:$I$52,$I54) -> 0 | P54: =COUNTIF($I$29:$I$30,$I54)+COUNTIF($I$37:$I$38,$I54)+COUNTIF($I$45:$I$46,$I54)+COUNTIF($I$53:$I$54,$I54) -> 0
A55: 37 | B55: Mixed | C55: 9 yrs | D55: 4 x 25m | E55: Medley Relay | F55: Relay
E56: Swimmer 1 | K56: =DATEDIF(H56,$K$1,"Y") -> 125
B57: 2 Open/Males and 2 Females (any order) | E57: Swimmer 2 | K57: =DATEDIF(H57,$K$1,"Y") -> 125
E58: Swimmer 3 | K58: =DATEDIF(H58,$K$1,"Y") -> 125
E59: Swimmer 4 | K59: =DATEDIF(H59,$K$1,"Y") -> 125
A60: 38 | B60: Mixed | C60: 10 yrs | D60: 4 x 25m | E60: Freestyle Relay | F60: Relay
E61: Swimmer 1 | K61: =DATEDIF(H61,$K$1,"Y") -> 125
B62: 2 Open/Males and 2 Females (any order) | E62: Swimmer 2 | K62: =DATEDIF(H62,$K$1,"Y") -> 125
E63: Swimmer 3 | K63: =DATEDIF(H63,$K$1,"Y") -> 125
E64: Swimmer 4 | K64: =DATEDIF(H64,$K$1,"Y") -> 125
A65: 39 | B65: Mixed | C65: 11/u | D65: 4 x 25m | E65: Medley Relay | F65: Relay
E66: Swimmer 1 | K66: =DATEDIF(H66,$K$1,"Y") -> 125
B67: 2 Open/Males and 2 Females (any order) | E67: Swimmer 2 | K67: =DATEDIF(H67,$K$1,"Y") -> 125
E68: Swimmer 3 | K68: =DATEDIF(H68,$K$1,"Y") -> 125
E69: Swimmer 4 | K69: =DATEDIF(H69,$K$1,"Y") -> 125
A70: 40 | B70: Mixed | C70: 12/u | D70: 4 x 25m | E70: Freestyle Relay | F70: Relay
E71: Swimmer 1 | K71: =DATEDIF(H71,$K$1,"Y") -> 125
B72: 2 Open/Males and 2 Females (any order) | E72: Swimmer 2 | K72: =DATEDIF(H72,$K$1,"Y") -> 125
E73: Swimmer 3 | K73: =DATEDIF(H73,$K$1,"Y") -> 125
E74: Swimmer 4 | K74: =DATEDIF(H74,$K$1,"Y") -> 125
A75: 41 | B75: Mixed | D75: 8 x 25m | E75: Cannon Relay | F75: Relay
E76: Swimmer 1 | K76: =DATEDIF(H76,$K$1,"Y") -> 125
B77: 1 Open/Male and 1 Female from each age group with the youngest Open/Male swimming first | E77: Swimmer 2 | K77: =DATEDIF(H77,$K$1,"Y") -> 125
E78: Swimmer 3 | K78: =DATEDIF(H78,$K$1,"Y") -> 125
E79: Swimmer 4 | K79: =DATEDIF(H79,$K$1,"Y") -> 125
E80: Swimmer 5 | K80: =DATEDIF(H80,$K$1,"Y") -> 125
E81: Swimmer 6 | K81: =DATEDIF(H81,$K$1,"Y") -> 125
E82: Swimmer 7 | K82: =DATEDIF(H82,$K$1,"Y") -> 125
E83: Swimmer 8 | K83: =DATEDIF(H83,$K$1,"Y") -> 125

Sheet Lane 5 Team
A1: Team Name: | F1: =Instructions!F28 -> 0 | K1: =Instructions!$I$10 -> 45815 | L1: Total Number of Indiviual Events | M1: Individual Swims by Age Group
A2: Event | F2: Forename | G2: Surname | H2: Date of Birth | I2: SE Number | K2: Age | M2: 9 | N2: 10 | O2: 11 | P2: 12
A3: 1 | B3: Mixed | C3: 12/u | D3: 4 x 25m | E3: Medley Relay | F3: Relay
E4: Swimmer 1 | K4: =DATEDIF(H4,$K$1,"Y") -> 125
B5: 2 Open/Males and 2 Females (any order) | E5: Swimmer 2 | K5: =DATEDIF(H5,$K$1,"Y") -> 125
E6: Swimmer 3 | K6: =DATEDIF(H6,$K$1,"Y") -> 125
E7: Swimmer 4 | K7: =DATEDIF(H7,$K$1,"Y") -> 125
A8: 2 | B8: Mixed | C8: 9 yrs | D8: 4 x 25m | E8: Freestyle Relay | F8: Relay
E9: Swimmer 1 | K9: =DATEDIF(H9,$K$1,"Y") -> 125
B10: 2 Open/Males and 2 Females (any order) | E10: Swimmer 2 | K10: =DATEDIF(H10,$K$1,"Y") -> 125
E11: Swimmer 3 | K11: =DATEDIF(H11,$K$1,"Y") -> 125
E12: Swimmer 4 | K12: =DATEDIF(H12,$K$1,"Y") -> 125
A13: 3 | B13: Mixed | C13: 10/u | D13: 4 x 25m | E13: Medley Relay | F13: Relay
E14: Swimmer 1 | K14: =DATEDIF(H14,$K$1,"Y") -> 125
B15: 2 Open/Males and 2 Females (any order) | E15: Swimmer 2 | K15: =DATEDIF(H15,$K$1,"Y") -> 125
E16: Swimmer 3 | K16: =DATEDIF(H16,$K$1,"Y") -> 125
E17: Swimmer 4 | K17: =DATEDIF(H17,$K$1,"Y") -> 125
A18: 4 | B18: Mixed | C18: 11/u | D18: 4 x 25m | E18: Freestyle Relay | F18: Relay
E19: Swimmer 1 | K19: =DATEDIF(H19,$K$1,"Y") -> 125
B20: 2 Open/Males and 2 Females (any order) | E20: Swimmer 2 | K20: =DATEDIF(H20,$K$1,"Y") -> 125
E21: Swimmer 3 | K21: =DATEDIF(H21,$K$1,"Y") -> 125
E22: Swimmer 4 | K22: =DATEDIF(H22,$K$1,"Y") -> 125
A23: 5 | B23: Open/Male | C23: 9 yrs | D23: 25m | E23: Freestyle | K23: =DATEDIF(H23,$K$1,"Y") -> 125 | L23: =SUM(M23:P23) -> 0 | M23: =COUNTIF($I$23:$I$24,$I23)+COUNTIF($I$31:$I$32,$I23)+COUNTIF($I$39:$I$40,$I23)+COUNTIF($I$47:$I$48,$I23) -> 0 | N23: =COUNTIF($I$25:$I$26,$I23)+COUNTIF($I$33:$I$34,$I23)+COUNTIF($I$41:$I$42,$I23)+COUNTIF($I$49:$I$50,$I23) -> 0 | O23: =COUNTIF($I$27:$I$28,$I23)+COUNTIF($I$35:$I$36,$I23)+COUNTIF($I$43:$I$44,$I23)+COUNTIF($I$51:$I$52,$I23) -> 0 | P23: =COUNTIF($I$29:$I$30,$I23)+COUNTIF($I$37:$I$38,$I23)+COUNTIF($I$45:$I$46,$I23)+COUNTIF($I$53:$I$54,$I23) -> 0
A24: 6 | B24: Female | C24: 9 yrs | D24: 25m | E24: Freestyle | K24: =DATEDIF(H24,$K$1,"Y") -> 125 | L24: =SUM(M24:P24) -> 0 | M24: =COUNTIF($I$23:$I$24,$I24)+COUNTIF($I$31:$I$32,$I24)+COUNTIF($I$39:$I$40,$I24)+COUNTIF($I$47:$I$48,$I24) -> 0 | N24: =COUNTIF($I$25:$I$26,$I24)+COUNTIF($I$33:$I$34,$I24)+COUNTIF($I$41:$I$42,$I24)+COUNTIF($I$49:$I$50,$I24) -> 0 | O24: =COUNTIF($I$27:$I$28,$I24)+COUNTIF($I$35:$I$36,$I24)+COUNTIF($I$43:$I$44,$I24)+COUNTIF($I$51:$I$52,$I24) -> 0 | P24: =COUNTIF($I$29:$I$30,$I24)+COUNTIF($I$37:$I$38,$I24)+COUNTIF($I$45:$I$46,$I24)+COUNTIF($I$53:$I$54,$I24) -> 0
A25: 7 | B25: Open/Male | C25: 10 yrs | D25: 50m | E25: Breaststroke | K25: =DATEDIF(H25,$K$1,"Y") -> 125 | L25: =SUM(M25:P25) -> 0 | M25: =COUNTIF($I$23:$I$24,$I25)+COUNTIF($I$31:$I$32,$I25)+COUNTIF($I$39:$I$40,$I25)+COUNTIF($I$47:$I$48,$I25) -> 0 | N25: =COUNTIF($I$25:$I$26,$I25)+COUNTIF($I$33:$I$34,$I25)+COUNTIF($I$41:$I$42,$I25)+COUNTIF($I$49:$I$50,$I25) -> 0 | O25: =COUNTIF($I$27:$I$28,$I25)+COUNTIF($I$35:$I$36,$I25)+COUNTIF($I$43:$I$44,$I25)+COUNTIF($I$51:$I$52,$I25) -> 0 | P25: =COUNTIF($I$29:$I$30,$I25)+COUNTIF($I$37:$I$38,$I25)+COUNTIF($I$45:$I$46,$I25)+COUNTIF($I$53:$I$54,$I25) -> 0
A26: 8 | B26: Female | C26: 10 yrs | D26: 50m | E26: Breaststroke | K26: =DATEDIF(H26,$K$1,"Y") -> 125 | L26: =SUM(M26:P26) -> 0 | M26: =COUNTIF($I$23:$I$24,$I26)+COUNTIF($I$31:$I$32,$I26)+COUNTIF($I$39:$I$40,$I26)+COUNTIF($I$47:$I$48,$I26) -> 0 | N26: =COUNTIF($I$25:$I$26,$I26)+COUNTIF($I$33:$I$34,$I26)+COUNTIF($I$41:$I$42,$I26)+COUNTIF($I$49:$I$50,$I26) -> 0 | O26: =COUNTIF($I$27:$I$28,$I26)+COUNTIF($I$35:$I$36,$I26)+COUNTIF($I$43:$I$44,$I26)+COUNTIF($I$51:$I$52,$I26) -> 0 | P26: =COUNTIF($I$29:$I$30,$I26)+COUNTIF($I$37:$I$38,$I26)+COUNTIF($I$45:$I$46,$I26)+COUNTIF($I$53:$I$54,$I26) -> 0
A27: 9 | B27: Open/Male | C27: 11 yrs | D27: 50m | E27: Backstroke | K27: =DATEDIF(H27,$K$1,"Y") -> 125 | L27: =SUM(M27:P27) -> 0 | M27: =COUNTIF($I$23:$I$24,$I27)+COUNTIF($I$31:$I$32,$I27)+COUNTIF($I$39:$I$40,$I27)+COUNTIF($I$47:$I$48,$I27) -> 0 | N27: =COUNTIF($I$25:$I$26,$I27)+COUNTIF($I$33:$I$34,$I27)+COUNTIF($I$41:$I$42,$I27)+COUNTIF($I$49:$I$50,$I27) -> 0 | O27: =COUNTIF($I$27:$I$28,$I27)+COUNTIF($I$35:$I$36,$I27)+COUNTIF($I$43:$I$44,$I27)+COUNTIF($I$51:$I$52,$I27) -> 0 | P27: =COUNTIF($I$29:$I$30,$I27)+COUNTIF($I$37:$I$38,$I27)+COUNTIF($I$45:$I$46,$I27)+COUNTIF($I$53:$I$54,$I27) -> 0
A28: 10 | B28: Female | C28: 11 yrs | D28: 50m | E28: Backstroke | K28: =DATEDIF(H28,$K$1,"Y") -> 125 | L28: =SUM(M28:P28) -> 0 | M28: =COUNTIF($I$23:$I$24,$I28)+COUNTIF($I$31:$I$32,$I28)+COUNTIF($I$39:$I$40,$I28)+COUNTIF($I$47:$I$48,$I28) -> 0 | N28: =COUNTIF($I$25:$I$26,$I28)+COUNTIF($I$33:$I$34,$I28)+COUNTIF($I$41:$I$42,$I28)+COUNTIF($I$49:$I$50,$I28) -> 0 | O28: =COUNTIF($I$27:$I$28,$I28)+COUNTIF($I$35:$I$36,$I28)+COUNTIF($I$43:$I$44,$I28)+COUNTIF($I$51:$I$52,$I28) -> 0 | P28: =COUNTIF($I$29:$I$30,$I28)+COUNTIF($I$37:$I$38,$I28)+COUNTIF($I$45:$I$46,$I28)+COUNTIF($I$53:$I$54,$I28) -> 0
A29: 11 | B29: Open/Male | C29: 12 yrs | D29: 50m | E29: Butterfly | K29: =DATEDIF(H29,$K$1,"Y") -> 125 | L29: =SUM(M29:P29) -> 0 | M29: =COUNTIF($I$23:$I$24,$I29)+COUNTIF($I$31:$I$32,$I29)+COUNTIF($I$39:$I$40,$I29)+COUNTIF($I$47:$I$48,$I29) -> 0 | N29: =COUNTIF($I$25:$I$26,$I29)+COUNTIF($I$33:$I$34,$I29)+COUNTIF($I$41:$I$42,$I29)+COUNTIF($I$49:$I$50,$I29) -> 0 | O29: =COUNTIF($I$27:$I$28,$I29)+COUNTIF($I$35:$I$36,$I29)+COUNTIF($I$43:$I$44,$I29)+COUNTIF($I$51:$I$52,$I29) -> 0 | P29: =COUNTIF($I$29:$I$30,$I29)+COUNTIF($I$37:$I$38,$I29)+COUNTIF($I$45:$I$46,$I29)+COUNTIF($I$53:$I$54,$I29) -> 0
A30: 12 | B30: Female | C30: 12 yrs | D30: 50m | E30: Butterfly | K30: =DATEDIF(H30,$K$1,"Y") -> 125 | L30: =SUM(M30:P30) -> 0 | M30: =COUNTIF($I$23:$I$24,$I30)+COUNTIF($I$31:$I$32,$I30)+COUNTIF($I$39:$I$40,$I30)+COUNTIF($I$47:$I$48,$I30) -> 0 | N30: =COUNTIF($I$25:$I$26,$I30)+COUNTIF($I$33:$I$34,$I30)+COUNTIF($I$41:$I$42,$I30)+COUNTIF($I$49:$I$50,$I30) -> 0 | O30: =COUNTIF($I$27:$I$28,$I30)+COUNTIF($I$35:$I$36,$I30)+COUNTIF($I$43:$I$44,$I30)+COUNTIF($I$51:$I$52,$I30) -> 0 | P30: =COUNTIF($I$29:$I$30,$I30)+COUNTIF($I$37:$I$38,$I30)+COUNTIF($I$45:$I$46,$I30)+COUNTIF($I$53:$I$54,$I30) -> 0
A31: 13 | B31: Open/Male | C31: 9 yrs | D31: 25m | E31: Breaststroke | K31: =DATEDIF(H31,$K$1,"Y") -> 125 | L31: =SUM(M31:P31) -> 0 | M31: =COUNTIF($I$23:$I$24,$I31)+COUNTIF($I$31:$I$32,$I31)+COUNTIF($I$39:$I$40,$I31)+COUNTIF($I$47:$I$48,$I31) -> 0 | N31: =COUNTIF($I$25:$I$26,$I31)+COUNTIF($I$33:$I$34,$I31)+COUNTIF($I$41:$I$42,$I31)+COUNTIF($I$49:$I$50,$I31) -> 0 | O31: =COUNTIF($I$27:$I$28,$I31)+COUNTIF($I$35:$I$36,$I31)+COUNTIF($I$43:$I$44,$I31)+COUNTIF($I$51:$I$52,$I31) -> 0 | P31: =COUNTIF($I$29:$I$30,$I31)+COUNTIF($I$37:$I$38,$I31)+COUNTIF($I$45:$I$46,$I31)+COUNTIF($I$53:$I$54,$I31) -> 0
A32: 14 | B32: Female | C32: 9 yrs | D32: 25m | E32: Breaststroke | K32: =DATEDIF(H32,$K$1,"Y") -> 125 | L32: =SUM(M32:P32) -> 0 | M32: =COUNTIF($I$23:$I$24,$I32)+COUNTIF($I$31:$I$32,$I32)+COUNTIF($I$39:$I$40,$I32)+COUNTIF($I$47:$I$48,$I32) -> 0 | N32: =COUNTIF($I$25:$I$26,$I32)+COUNTIF($I$33:$I$34,$I32)+COUNTIF($I$41:$I$42,$I32)+COUNTIF($I$49:$I$50,$I32) -> 0 | O32: =COUNTIF($I$27:$I$28,$I32)+COUNTIF($I$35:$I$36,$I32)+COUNTIF($I$43:$I$44,$I32)+COUNTIF($I$51:$I$52,$I32) -> 0 | P32: =COUNTIF($I$29:$I$30,$I32)+COUNTIF($I$37:$I$38,$I32)+COUNTIF($I$45:$I$46,$I32)+COUNTIF($I$53:$I$54,$I32) -> 0
A33: 15 | B33: Open/Male | C33: 10 yrs | D33: 50m | E33: Backstroke | K33: =DATEDIF(H33,$K$1,"Y") -> 125 | L33: =SUM(M33:P33) -> 0 | M33: =COUNTIF($I$23:$I$24,$I33)+COUNTIF($I$31:$I$32,$I33)+COUNTIF($I$39:$I$40,$I33)+COUNTIF($I$47:$I$48,$I33) -> 0 | N33: =COUNTIF($I$25:$I$26,$I33)+COUNTIF($I$33:$I$34,$I33)+COUNTIF($I$41:$I$42,$I33)+COUNTIF($I$49:$I$50,$I33) -> 0 | O33: =COUNTIF($I$27:$I$28,$I33)+COUNTIF($I$35:$I$36,$I33)+COUNTIF($I$43:$I$44,$I33)+COUNTIF($I$51:$I$52,$I33) -> 0 | P33: =COUNTIF($I$29:$I$30,$I33)+COUNTIF($I$37:$I$38,$I33)+COUNTIF($I$45:$I$46,$I33)+COUNTIF($I$53:$I$54,$I33) -> 0
A34: 16 | B34: Female | C34: 10 yrs | D34: 50m | E34: Backstroke | K34: =DATEDIF(H34,$K$1,"Y") -> 125 | L34: =SUM(M34:P34) -> 0 | M34: =COUNTIF($I$23:$I$24,$I34)+COUNTIF($I$31:$I$32,$I34)+COUNTIF($I$39:$I$40,$I34)+COUNTIF($I$47:$I$48,$I34) -> 0 | N34: =COUNTIF($I$25:$I$26,$I34)+COUNTIF($I$33:$I$34,$I34)+COUNTIF($I$41:$I$42,$I34)+COUNTIF($I$49:$I$50,$I34) -> 0 | O34: =COUNTIF($I$27:$I$28,$I34)+COUNTIF($I$35:$I$36,$I34)+COUNTIF($I$43:$I$44,$I34)+COUNTIF($I$51:$I$52,$I34) -> 0 | P34: =COUNTIF($I$29:$I$30,$I34)+COUNTIF($I$37:$I$38,$I34)+COUNTIF($I$45:$I$46,$I34)+COUNTIF($I$53:$I$54,$I34) -> 0
... A54: 36 | B54: Female | C54: 12 yrs | D54: 50m | E54: Backstroke | K54: =DATEDIF(H54,$K$1,"Y") -> 125 | L54: =SUM(M54:P54) -> 0 | M54: =COUNTIF($I$23:$I$24,$I54)+COUNTIF($I$31:$I$32,$I54)+COUNTIF($I$39:$I$40,$I54)+COUNTIF($I$47:$I$48,$I54) -> 0 | N54: =COUNTIF($I$25:$I$26,$I54)+COUNTIF($I$33:$I$34,$I54)+COUNTIF($I$41:$I$42,$I54)+COUNTIF($I$49:$I$50,$I54) -> 0 | O54: =COUNTIF($I$27:$I$28,$I54)+COUNTIF($I$35:$I$36,$I54)+COUNTIF($I$43:$I$44,$I54)+COUNTIF($I$51:$I$52,$I54) -> 0 | P54: =COUNTIF($I$29:$I$30,$I54)+COUNTIF($I$37:$I$38,$I54)+COUNTIF($I$45:$I$46,$I54)+COUNTIF($I$53:$I$54,$I54) -> 0
A55: 37 | B55: Mixed | C55: 9 yrs | D55: 4 x 25m | E55: Medley Relay | F55: Relay
E56: Swimmer 1 | K56: =DATEDIF(H56,$K$1,"Y") -> 125
B57: 2 Open/Males and 2 Females (any order) | E57: Swimmer 2 | K57: =DATEDIF(H57,$K$1,"Y") -> 125
E58: Swimmer 3 | K58: =DATEDIF(H58,$K$1,"Y") -> 125
E59: Swimmer 4 | K59: =DATEDIF(H59,$K$1,"Y") -> 125
A60: 38 | B60: Mixed | C60: 10 yrs | D60: 4 x 25m | E60: Freestyle Relay | F60: Relay
E61: Swimmer 1 | K61: =DATEDIF(H61,$K$1,"Y") -> 125
B62: 2 Open/Males and 2 Females (any order) | E62: Swimmer 2 | K62: =DATEDIF(H62,$K$1,"Y") -> 125
E63: Swimmer 3 | K63: =DATEDIF(H63,$K$1,"Y") -> 125
E64: Swimmer 4 | K64: =DATEDIF(H64,$K$1,"Y") -> 125
A65: 39 | B65: Mixed | C65: 11/u | D65: 4 x 25m | E65: Medley Relay | F65: Relay
E66: Swimmer 1 | K66: =DATEDIF(H66,$K$1,"Y") -> 125
B67: 2 Open/Males and 2 Females (any order) | E67: Swimmer 2 | K67: =DATEDIF(H67,$K$1,"Y") -> 125
E68: Swimmer 3 | K68: =DATEDIF(H68,$K$1,"Y") -> 125
E69: Swimmer 4 | K69: =DATEDIF(H69,$K$1,"Y") -> 125
A70: 40 | B70: Mixed | C70: 12/u | D70: 4 x 25m | E70: Freestyle Relay | F70: Relay
E71: Swimmer 1 | K71: =DATEDIF(H71,$K$1,"Y") -> 125
B72: 2 Open/Males and 2 Females (any order) | E72: Swimmer 2 | K72: =DATEDIF(H72,$K$1,"Y") -> 125
E73: Swimmer 3 | K73: =DATEDIF(H73,$K$1,"Y") -> 125
E74: Swimmer 4 | K74: =DATEDIF(H74,$K$1,"Y") -> 125
A75: 41 | B75: Mixed | D75: 8 x 25m | E75: Cannon Relay | F75: Relay
E76: Swimmer 1 | K76: =DATEDIF(H76,$K$1,"Y") -> 125
B77: 1 Open/Male and 1 Female from each age group with the youngest Open/Male swimming first | E77: Swimmer 2 | K77: =DATEDIF(H77,$K$1,"Y") -> 125
E78: Swimmer 3 | K78: =DATEDIF(H78,$K$1,"Y") -> 125
E79: Swimmer 4 | K79: =DATEDIF(H79,$K$1,"Y") -> 125
E80: Swimmer 5 | K80: =DATEDIF(H80,$K$1,"Y") -> 125
E81: Swimmer 6 | K81: =DATEDIF(H81,$K$1,"Y") -> 125
E82: Swimmer 7 | K82: =DATEDIF(H82,$K$1,"Y") -> 125
E83: Swimmer 8 | K83: =DATEDIF(H83,$K$1,"Y") -> 125

Sheet Lane 6 Team
A1: Team Name: | F1: =Instructions!I28 -> 0 | K1: =Instructions!$I$10 -> 45815 | L1: Total Number of Indiviual Events | M1: Individual Swims by Age Group
A2: Event | F2: Forename | G2: Surname | H2: Date of Birth | I2: SE Number | K2: Age | M2: 9 | N2: 10 | O2: 11 | P2: 12
A3: 1 | B3: Mixed | C3: 12/u | D3: 4 x 25m | E3: Medley Relay | F3: Relay
E4: Swimmer 1 | K4: =DATEDIF(H4,$K$1,"Y") -> 125
B5: 2 Open/Males and 2 Females (any order) | E5: Swimmer 2 | K5: =DATEDIF(H5,$K$1,"Y") -> 125
E6: Swimmer 3 | K6: =DATEDIF(H6,$K$1,"Y") -> 125
E7: Swimmer 4 | K7: =DATEDIF(H7,$K$1,"Y") -> 125
A8: 2 | B8: Mixed | C8: 9 yrs | D8: 4 x 25m | E8: Freestyle Relay | F8: Relay
E9: Swimmer 1 | K9: =DATEDIF(H9,$K$1,"Y") -> 125
B10: 2 Open/Males and 2 Females (any order) | E10: Swimmer 2 | K10: =DATEDIF(H10,$K$1,"Y") -> 125
E11: Swimmer 3 | K11: =DATEDIF(H11,$K$1,"Y") -> 125
E12: Swimmer 4 | K12: =DATEDIF(H12,$K$1,"Y") -> 125
A13: 3 | B13: Mixed | C13: 10/u | D13: 4 x 25m | E13: Medley Relay | F13: Relay
E14: Swimmer 1 | K14: =DATEDIF(H14,$K$1,"Y") -> 125
B15: 2 Open/Males and 2 Females (any order) | E15: Swimmer 2 | K15: =DATEDIF(H15,$K$1,"Y") -> 125
E16: Swimmer 3 | K16: =DATEDIF(H16,$K$1,"Y") -> 125
E17: Swimmer 4 | K17: =DATEDIF(H17,$K$1,"Y") -> 125
A18: 4 | B18: Mixed | C18: 11/u | D18: 4 x 25m | E18: Freestyle Relay | F18: Relay
E19: Swimmer 1 | K19: =DATEDIF(H19,$K$1,"Y") -> 125
B20: 2 Open/Males and 2 Females (any order) | E20: Swimmer 2 | K20: =DATEDIF(H20,$K$1,"Y") -> 125
E21: Swimmer 3 | K21: =DATEDIF(H21,$K$1,"Y") -> 125
E22: Swimmer 4 | K22: =DATEDIF(H22,$K$1,"Y") -> 125
A23: 5 | B23: Open/Male | C23: 9 yrs | D23: 25m | E23: Freestyle | K23: =DATEDIF(H23,$K$1,"Y") -> 125 | L23: =SUM(M23:P23) -> 0 | M23: =COUNTIF($I$23:$I$24,$I23)+COUNTIF($I$31:$I$32,$I23)+COUNTIF($I$39:$I$40,$I23)+COUNTIF($I$47:$I$48,$I23) -> 0 | N23: =COUNTIF($I$25:$I$26,$I23)+COUNTIF($I$33:$I$34,$I23)+COUNTIF($I$41:$I$42,$I23)+COUNTIF($I$49:$I$50,$I23) -> 0 | O23: =COUNTIF($I$27:$I$28,$I23)+COUNTIF($I$35:$I$36,$I23)+COUNTIF($I$43:$I$44,$I23)+COUNTIF($I$51:$I$52,$I23) -> 0 | P23: =COUNTIF($I$29:$I$30,$I23)+COUNTIF($I$37:$I$38,$I23)+COUNTIF($I$45:$I$46,$I23)+COUNTIF($I$53:$I$54,$I23) -> 0
A24: 6 | B24: Female | C24: 9 yrs | D24: 25m | E24: Freestyle | K24: =DATEDIF(H24,$K$1,"Y") -> 125 | L24: =SUM(M24:P24) -> 0 | M24: =COUNTIF($I$23:$I$24,$I24)+COUNTIF($I$31:$I$32,$I24)+COUNTIF($I$39:$I$40,$I24)+COUNTIF($I$47:$I$48,$I24) -> 0 | N24: =COUNTIF($I$25:$I$26,$I24)+COUNTIF($I$33:$I$34,$I24)+COUNTIF($I$41:$I$42,$I24)+COUNTIF($I$49:$I$50,$I24) -> 0 | O24: =COUNTIF($I$27:$I$28,$I24)+COUNTIF($I$35:$I$36,$I24)+COUNTIF($I$43:$I$44,$I24)+COUNTIF($I$51:$I$52,$I24) -> 0 | P24: =COUNTIF($I$29:$I$30,$I24)+COUNTIF($I$37:$I$38,$I24)+COUNTIF($I$45:$I$46,$I24)+COUNTIF($I$53:$I$54,$I24) -> 0
A25: 7 | B25: Open/Male | C25: 10 yrs | D25: 50m | E25: Breaststroke | K25: =DATEDIF(H25,$K$1,"Y") -> 125 | L25: =SUM(M25:P25) -> 0 | M25: =COUNTIF($I$23:$I$24,$I25)+COUNTIF($I$31:$I$32,$I25)+COUNTIF($I$39:$I$40,$I25)+COUNTIF($I$47:$I$48,$I25) -> 0 | N25: =COUNTIF($I$25:$I$26,$I25)+COUNTIF($I$33:$I$34,$I25)+COUNTIF($I$41:$I$42,$I25)+COUNTIF($I$49:$I$50,$I25) -> 0 | O25: =COUNTIF($I$27:$I$28,$I25)+COUNTIF($I$35:$I$36,$I25)+COUNTIF($I$43:$I$44,$I25)+COUNTIF($I$51:$I$52,$I25) -> 0 | P25: =COUNTIF($I$29:$I$30,$I25)+COUNTIF($I$37:$I$38,$I25)+COUNTIF($I$45:$I$46,$I25)+COUNTIF($I$53:$I$54,$I25) -> 0
A26: 8 | B26: Female | C26: 10 yrs | D26: 50m | E26: Breaststroke | K26: =DATEDIF(H26,$K$1,"Y") -> 125 | L26: =SUM(M26:P26) -> 0 | M26: =COUNTIF($I$23:$I$24,$I26)+COUNTIF($I$31:$I$32,$I26)+COUNTIF($I$39:$I$40,$I26)+COUNTIF($I$47:$I$48,$I26) -> 0 | N26: =COUNTIF($I$25:$I$26,$I26)+COUNTIF($I$33:$I$34,$I26)+COUNTIF($I$41:$I$42,$I26)+COUNTIF($I$49:$I$50,$I26) -> 0 | O26: =COUNTIF($I$27:$I$28,$I26)+COUNTIF($I$35:$I$36,$I26)+COUNTIF($I$43:$I$44,$I26)+COUNTIF($I$51:$I$52,$I26) -> 0 | P26: =COUNTIF($I$29:$I$30,$I26)+COUNTIF($I$37:$I$38,$I26)+COUNTIF($I$45:$I$46,$I26)+COUNTIF($I$53:$I$54,$I26) -> 0
A27: 9 | B27: Open/Male | C27: 11 yrs | D27: 50m | E27: Backstroke | K27: =DATEDIF(H27,$K$1,"Y") -> 125 | L27: =SUM(M27:P27) -> 0 | M27: =COUNTIF($I$23:$I$24,$I27)+COUNTIF($I$31:$I$32,$I27)+COUNTIF($I$39:$I$40,$I27)+COUNTIF($I$47:$I$48,$I27) -> 0 | N27: =COUNTIF($I$25:$I$26,$I27)+COUNTIF($I$33:$I$34,$I27)+COUNTIF($I$41:$I$42,$I27)+COUNTIF($I$49:$I$50,$I27) -> 0 | O27: =COUNTIF($I$27:$I$28,$I27)+COUNTIF($I$35:$I$36,$I27)+COUNTIF($I$43:$I$44,$I27)+COUNTIF($I$51:$I$52,$I27) -> 0 | P27: =COUNTIF($I$29:$I$30,$I27)+COUNTIF($I$37:$I$38,$I27)+COUNTIF($I$45:$I$46,$I27)+COUNTIF($I$53:$I$54,$I27) -> 0
A28: 10 | B28: Female | C28: 11 yrs | D28: 50m | E28: Backstroke | K28: =DATEDIF(H28,$K$1,"Y") -> 125 | L28: =SUM(M28:P28) -> 0 | M28: =COUNTIF($I$23:$I$24,$I28)+COUNTIF($I$31:$I$32,$I28)+COUNTIF($I$39:$I$40,$I28)+COUNTIF($I$47:$I$48,$I28) -> 0 | N28: =COUNTIF($I$25:$I$26,$I28)+COUNTIF($I$33:$I$34,$I28)+COUNTIF($I$41:$I$42,$I28)+COUNTIF($I$49:$I$50,$I28) -> 0 | O28: =COUNTIF($I$27:$I$28,$I28)+COUNTIF($I$35:$I$36,$I28)+COUNTIF($I$43:$I$44,$I28)+COUNTIF($I$51:$I$52,$I28) -> 0 | P28: =COUNTIF($I$29:$I$30,$I28)+COUNTIF($I$37:$I$38,$I28)+COUNTIF($I$45:$I$46,$I28)+COUNTIF($I$53:$I$54,$I28) -> 0
A29: 11 | B29: Open/Male | C29: 12 yrs | D29: 50m | E29: Butterfly | K29: =DATEDIF(H29,$K$1,"Y") -> 125 | L29: =SUM(M29:P29) -> 0 | M29: =COUNTIF($I$23:$I$24,$I29)+COUNTIF($I$31:$I$32,$I29)+COUNTIF($I$39:$I$40,$I29)+COUNTIF($I$47:$I$48,$I29) -> 0 | N29: =COUNTIF($I$25:$I$26,$I29)+COUNTIF($I$33:$I$34,$I29)+COUNTIF($I$41:$I$42,$I29)+COUNTIF($I$49:$I$50,$I29) -> 0 | O29: =COUNTIF($I$27:$I$28,$I29)+COUNTIF($I$35:$I$36,$I29)+COUNTIF($I$43:$I$44,$I29)+COUNTIF($I$51:$I$52,$I29) -> 0 | P29: =COUNTIF($I$29:$I$30,$I29)+COUNTIF($I$37:$I$38,$I29)+COUNTIF($I$45:$I$46,$I29)+COUNTIF($I$53:$I$54,$I29) -> 0
A30: 12 | B30: Female | C30: 12 yrs | D30: 50m | E30: Butterfly | K30: =DATEDIF(H30,$K$1,"Y") -> 125 | L30: =SUM(M30:P30) -> 0 | M30: =COUNTIF($I$23:$I$24,$I30)+COUNTIF($I$31:$I$32,$I30)+COUNTIF($I$39:$I$40,$I30)+COUNTIF($I$47:$I$48,$I30) -> 0 | N30: =COUNTIF($I$25:$I$26,$I30)+COUNTIF($I$33:$I$34,$I30)+COUNTIF($I$41:$I$42,$I30)+COUNTIF($I$49:$I$50,$I30) -> 0 | O30: =COUNTIF($I$27:$I$28,$I30)+COUNTIF($I$35:$I$36,$I30)+COUNTIF($I$43:$I$44,$I30)+COUNTIF($I$51:$I$52,$I30) -> 0 | P30: =COUNTIF($I$29:$I$30,$I30)+COUNTIF($I$37:$I$38,$I30)+COUNTIF($I$45:$I$46,$I30)+COUNTIF($I$53:$I$54,$I30) -> 0
A31: 13 | B31: Open/Male | C31: 9 yrs | D31: 25m | E31: Breaststroke | K31: =DATEDIF(H31,$K$1,"Y") -> 125 | L31: =SUM(M31:P31) -> 0 | M31: =COUNTIF($I$23:$I$24,$I31)+COUNTIF($I$31:$I$32,$I31)+COUNTIF($I$39:$I$40,$I31)+COUNTIF($I$47:$I$48,$I31) -> 0 | N31: =COUNTIF($I$25:$I$26,$I31)+COUNTIF($I$33:$I$34,$I31)+COUNTIF($I$41:$I$42,$I31)+COUNTIF($I$49:$I$50,$I31) -> 0 | O31: =COUNTIF($I$27:$I$28,$I31)+COUNTIF($I$35:$I$36,$I31)+COUNTIF($I$43:$I$44,$I31)+COUNTIF($I$51:$I$52,$I31) -> 0 | P31: =COUNTIF($I$29:$I$30,$I31)+COUNTIF($I$37:$I$38,$I31)+COUNTIF($I$45:$I$46,$I31)+COUNTIF($I$53:$I$54,$I31) -> 0
A32: 14 | B32: Female | C32: 9 yrs | D32: 25m | E32: Breaststroke | K32: =DATEDIF(H32,$K$1,"Y") -> 125 | L32: =SUM(M32:P32) -> 0 | M32: =COUNTIF($I$23:$I$24,$I32)+COUNTIF($I$31:$I$32,$I32)+COUNTIF($I$39:$I$40,$I32)+COUNTIF($I$47:$I$48,$I32) -> 0 | N32: =COUNTIF($I$25:$I$26,$I32)+COUNTIF($I$33:$I$34,$I32)+COUNTIF($I$41:$I$42,$I32)+COUNTIF($I$49:$I$50,$I32) -> 0 | O32: =COUNTIF($I$27:$I$28,$I32)+COUNTIF($I$35:$I$36,$I32)+COUNTIF($I$43:$I$44,$I32)+COUNTIF($I$51:$I$52,$I32) -> 0 | P32: =COUNTIF($I$29:$I$30,$I32)+COUNTIF($I$37:$I$38,$I32)+COUNTIF($I$45:$I$46,$I32)+COUNTIF($I$53:$I$54,$I32) -> 0
A33: 15 | B33: Open/Male | C33: 10 yrs | D33: 50m | E33: Backstroke | K33: =DATEDIF(H33,$K$1,"Y") -> 125 | L33: =SUM(M33:P33) -> 0 | M33: =COUNTIF($I$23:$I$24,$I33)+COUNTIF($I$31:$I$32,$I33)+COUNTIF($I$39:$I$40,$I33)+COUNTIF($I$47:$I$48,$I33) -> 0 | N33: =COUNTIF($I$25:$I$26,$I33)+COUNTIF($I$33:$I$34,$I33)+COUNTIF($I$41:$I$42,$I33)+COUNTIF($I$49:$I$50,$I33) -> 0 | O33: =COUNTIF($I$27:$I$28,$I33)+COUNTIF($I$35:$I$36,$I33)+COUNTIF($I$43:$I$44,$I33)+COUNTIF($I$51:$I$52,$I33) -> 0 | P33: =COUNTIF($I$29:$I$30,$I33)+COUNTIF($I$37:$I$38,$I33)+COUNTIF($I$45:$I$46,$I33)+COUNTIF($I$53:$I$54,$I33) -> 0
A34: 16 | B34: Female | C34: 10 yrs | D34: 50m | E34: Backstroke | K34: =DATEDIF(H34,$K$1,"Y") -> 125 | L34: =SUM(M34:P34) -> 0 | M34: =COUNTIF($I$23:$I$24,$I34)+COUNTIF($I$31:$I$32,$I34)+COUNTIF($I$39:$I$40,$I34)+COUNTIF($I$47:$I$48,$I34) -> 0 | N34: =COUNTIF($I$25:$I$26,$I34)+COUNTIF($I$33:$I$34,$I34)+COUNTIF($I$41:$I$42,$I34)+COUNTIF($I$49:$I$50,$I34) -> 0 | O34: =COUNTIF($I$27:$I$28,$I34)+COUNTIF($I$35:$I$36,$I34)+COUNTIF($I$43:$I$44,$I34)+COUNTIF($I$51:$I$52,$I34) -> 0 | P34: =COUNTIF($I$29:$I$30,$I34)+COUNTIF($I$37:$I$38,$I34)+COUNTIF($I$45:$I$46,$I34)+COUNTIF($I$53:$I$54,$I34) -> 0
... A54: 36 | B54: Female | C54: 12 yrs | D54: 50m | E54: Backstroke | K54: =DATEDIF(H54,$K$1,"Y") -> 125 | L54: =SUM(M54:P54) -> 0 | M54: =COUNTIF($I$23:$I$24,$I54)+COUNTIF($I$31:$I$32,$I54)+COUNTIF($I$39:$I$40,$I54)+COUNTIF($I$47:$I$48,$I54) -> 0 | N54: =COUNTIF($I$25:$I$26,$I54)+COUNTIF($I$33:$I$34,$I54)+COUNTIF($I$41:$I$42,$I54)+COUNTIF($I$49:$I$50,$I54) -> 0 | O54: =COUNTIF($I$27:$I$28,$I54)+COUNTIF($I$35:$I$36,$I54)+COUNTIF($I$43:$I$44,$I54)+COUNTIF($I$51:$I$52,$I54) -> 0 | P54: =COUNTIF($I$29:$I$30,$I54)+COUNTIF($I$37:$I$38,$I54)+COUNTIF($I$45:$I$46,$I54)+COUNTIF($I$53:$I$54,$I54) -> 0
A55: 37 | B55: Mixed | C55: 9 yrs | D55: 4 x 25m | E55: Medley Relay | F55: Relay
E56: Swimmer 1 | K56: =DATEDIF(H56,$K$1,"Y") -> 125
B57: 2 Open/Males and 2 Females (any order) | E57: Swimmer 2 | K57: =DATEDIF(H57,$K$1,"Y") -> 125
E58: Swimmer 3 | K58: =DATEDIF(H58,$K$1,"Y") -> 125
E59: Swimmer 4 | K59: =DATEDIF(H59,$K$1,"Y") -> 125
A60: 38 | B60: Mixed | C60: 10 yrs | D60: 4 x 25m | E60: Freestyle Relay | F60: Relay
E61: Swimmer 1 | K61: =DATEDIF(H61,$K$1,"Y") -> 125
B62: 2 Open/Males and 2 Females (any order) | E62: Swimmer 2 | K62: =DATEDIF(H62,$K$1,"Y") -> 125
E63: Swimmer 3 | K63: =DATEDIF(H63,$K$1,"Y") -> 125
E64: Swimmer 4 | K64: =DATEDIF(H64,$K$1,"Y") -> 125
A65: 39 | B65: Mixed | C65: 11/u | D65: 4 x 25m | E65: Medley Relay | F65: Relay
E66: Swimmer 1 | K66: =DATEDIF(H66,$K$1,"Y") -> 125
B67: 2 Open/Males and 2 Females (any order) | E67: Swimmer 2 | K67: =DATEDIF(H67,$K$1,"Y") -> 125
E68: Swimmer 3 | K68: =DATEDIF(H68,$K$1,"Y") -> 125
E69: Swimmer 4 | K69: =DATEDIF(H69,$K$1,"Y") -> 125
A70: 40 | B70: Mixed | C70: 12/u | D70: 4 x 25m | E70: Freestyle Relay | F70: Relay
E71: Swimmer 1 | K71: =DATEDIF(H71,$K$1,"Y") -> 125
B72: 2 Open/Males and 2 Females (any order) | E72: Swimmer 2 | K72: =DATEDIF(H72,$K$1,"Y") -> 125
E73: Swimmer 3 | K73: =DATEDIF(H73,$K$1,"Y") -> 125
E74: Swimmer 4 | K74: =DATEDIF(H74,$K$1,"Y") -> 125
A75: 41 | B75: Mixed | D75: 8 x 25m | E75: Cannon Relay | F75: Relay
E76: Swimmer 1 | K76: =DATEDIF(H76,$K$1,"Y") -> 125
B77: 1 Open/Male and 1 Female from each age group with the youngest Open/Male swimming first | E77: Swimmer 2 | K77: =DATEDIF(H77,$K$1,"Y") -> 125
E78: Swimmer 3 | K78: =DATEDIF(H78,$K$1,"Y") -> 125
E79: Swimmer 4 | K79: =DATEDIF(H79,$K$1,"Y") -> 125
E80: Swimmer 5 | K80: =DATEDIF(H80,$K$1,"Y") -> 125
E81: Swimmer 6 | K81: =DATEDIF(H81,$K$1,"Y") -> 125
E82: Swimmer 7 | K82: =DATEDIF(H82,$K$1,"Y") -> 125
E83: Swimmer 8 | K83: =DATEDIF(H83,$K$1,"Y") -> 125

Sheet Validation
A1: =Instructions!I10 -> 45815 | F1: =CONCATENATE("Lane 1 - ",'Lane 1 Team'!F1) -> Lane 1 - 0 | J1: =CONCATENATE("Lane 2 - ",'Lane 2 Team'!F1) -> Lane 2 - 0 | N1: =CONCATENATE("Lane 3 - ",'Lane 3 Team'!F1) -> Lane 3 - 0 | R1: =CONCATENATE("Lane 4 - ",'Lane 4 Team'!F1) -> Lane 4 - 0 | V1: =CONCATENATE("Lane 5 - ",'Lane 5 Team'!F1) -> Lane 5 - 0 | Z1: =CONCATENATE("Lane 6 - ",'Lane 6 Team'!F1) -> Lane 6 - 0
A2: Event | F2: Full Name | G2: Date of Birth | H2: Result | I2: Age | J2: Full Name | K2: Date of Birth | L2: Result | M2: Age | N2: Full Name | O2: Date of Birth | P2: Result | Q2: Age | R2: Full Name | S2: Date of Birth | T2: Result | U2: Age | V2: Full Name | W2: Date of Birth | X2: Result | Y2: Age | Z2: Full Name | AA2: Date of Birth | AB2: Result | AC2: Age
A3: 1 | B3: Mixed | C3: 12 | D3: 4 x 25m | E3: Medley Relay | F3: Relay | H3: =CONCATENATE(F4,", ",F5,", ",F6,", ",F7) -> , , , | J3: Relay | L3: =CONCATENATE(J4,", ",J5,", ",J6,", ",J7) -> , , , | N3: Relay | P3: =CONCATENATE(N4,", ",N5,", ",N6,", ",N7) -> , , , | R3: Relay | T3: =CONCATENATE(R4,", ",R5,", ",R6,", ",R7) -> , , , | V3: Relay | X3: =CONCATENATE(V4,", ",V5,", ",V6,", ",V7) -> , , , | Z3: Relay | AB3: =CONCATENATE(Z4,", ",Z5,", ",Z6,", ",Z7) -> , , ,
C4: 12 | E4: Swimmer 1 | F4: =CONCATENATE('Lane 1 Team'!F4," ",'Lane 1 Team'!G4) | G4: ='Lane 1 Team'!H4 -> 0 | I4: =DATEDIF(G4,$A$1,"Y") -> 125 | J4: =CONCATENATE('Lane 2 Team'!F4," ",'Lane 2 Team'!G4) | K4: ='Lane 2 Team'!H4 -> 0 | M4: =DATEDIF(K4,$A$1,"Y") -> 125 | N4: =CONCATENATE('Lane 3 Team'!F4," ",'Lane 3 Team'!G4) | O4: ='Lane 3 Team'!H4 -> 0 | Q4: =DATEDIF(O4,$A$1,"Y") -> 125 | R4: =CONCATENATE('Lane 4 Team'!F4," ",'Lane 4 Team'!G4) | S4: ='Lane 4 Team'!H4 -> 0 | U4: =DATEDIF(S4,$A$1,"Y") -> 125 | V4: =CONCATENATE('Lane 5 Team'!F4," ",'Lane 5 Team'!G4) | W4: ='Lane 5 Team'!H4 -> 0 | Y4: =DATEDIF(W4,$A$1,"Y") -> 125 | Z4: =CONCATENATE('Lane 6 Team'!F4," ",'Lane 6 Team'!G4) | AA4: ='Lane 6 Team'!H4 -> 0 | AC4: =DATEDIF(AA4,$A$1,"Y") -> 125
C5: 12 | E5: Swimmer 2 | F5: =CONCATENATE('Lane 1 Team'!F5," ",'Lane 1 Team'!G5) | G5: ='Lane 1 Team'!H5 -> 0 | I5: =DATEDIF(G5,$A$1,"Y") -> 125 | J5: =CONCATENATE('Lane 2 Team'!F5," ",'Lane 2 Team'!G5) | K5: ='Lane 2 Team'!H5 -> 0 | M5: =DATEDIF(K5,$A$1,"Y") -> 125 | N5: =CONCATENATE('Lane 3 Team'!F5," ",'Lane 3 Team'!G5) | O5: ='Lane 3 Team'!H5 -> 0 | Q5: =DATEDIF(O5,$A$1,"Y") -> 125 | R5: =CONCATENATE('Lane 4 Team'!F5," ",'Lane 4 Team'!G5) | S5: ='Lane 4 Team'!H5 -> 0 | U5: =DATEDIF(S5,$A$1,"Y") -> 125 | V5: =CONCATENATE('Lane 5 Team'!F5," ",'Lane 5 Team'!G5) | W5: ='Lane 5 Team'!H5 -> 0 | Y5: =DATEDIF(W5,$A$1,"Y") -> 125 | Z5: =CONCATENATE('Lane 6 Team'!F5," ",'Lane 6 Team'!G5) | AA5: ='Lane 6 Team'!H5 -> 0 | AC5: =DATEDIF(AA5,$A$1,"Y") -> 125
C6: 12 | E6: Swimmer 3 | F6: =CONCATENATE('Lane 1 Team'!F6," ",'Lane 1 Team'!G6) | G6: ='Lane 1 Team'!H6 -> 0 | I6: =DATEDIF(G6,$A$1,"Y") -> 125 | J6: =CONCATENATE('Lane 2 Team'!F6," ",'Lane 2 Team'!G6) | K6: ='Lane 2 Team'!H6 -> 0 | M6: =DATEDIF(K6,$A$1,"Y") -> 125 | N6: =CONCATENATE('Lane 3 Team'!F6," ",'Lane 3 Team'!G6) | O6: ='Lane 3 Team'!H6 -> 0 | Q6: =DATEDIF(O6,$A$1,"Y") -> 125 | R6: =CONCATENATE('Lane 4 Team'!F6," ",'Lane 4 Team'!G6) | S6: ='Lane 4 Team'!H6 -> 0 | U6: =DATEDIF(S6,$A$1,"Y") -> 125 | V6: =CONCATENATE('Lane 5 Team'!F6," ",'Lane 5 Team'!G6) | W6: ='Lane 5 Team'!H6 -> 0 | Y6: =DATEDIF(W6,$A$1,"Y") -> 125 | Z6: =CONCATENATE('Lane 6 Team'!F6," ",'Lane 6 Team'!G6) | AA6: ='Lane 6 Team'!H6 -> 0 | AC6: =DATEDIF(AA6,$A$1,"Y") -> 125
C7: 12 | E7: Swimmer 4 | F7: =CONCATENATE('Lane 1 Team'!F7," ",'Lane 1 Team'!G7) | G7: ='Lane 1 Team'!H7 -> 0 | I7: =DATEDIF(G7,$A$1,"Y") -> 125 | J7: =CONCATENATE('Lane 2 Team'!F7," ",'Lane 2 Team'!G7) | K7: ='Lane 2 Team'!H7 -> 0 | M7: =DATEDIF(K7,$A$1,"Y") -> 125 | N7: =CONCATENATE('Lane 3 Team'!F7," ",'Lane 3 Team'!G7) | O7: ='Lane 3 Team'!H7 -> 0 | Q7: =DATEDIF(O7,$A$1,"Y") -> 125 | R7: =CONCATENATE('Lane 4 Team'!F7," ",'Lane 4 Team'!G7) | S7: ='Lane 4 Team'!H7 -> 0 | U7: =DATEDIF(S7,$A$1,"Y") -> 125 | V7: =CONCATENATE('Lane 5 Team'!F7," ",'Lane 5 Team'!G7) | W7: ='Lane 5 Team'!H7 -> 0 | Y7: =DATEDIF(W7,$A$1,"Y") -> 125 | Z7: =CONCATENATE('Lane 6 Team'!F7," ",'Lane 6 Team'!G7) | AA7: ='Lane 6 Team'!H7 -> 0 | AC7: =DATEDIF(AA7,$A$1,"Y") -> 125
A8: 2 | B8: Mixed | C8: 9 | D8: 4 x 25m | E8: Freestyle Relay | F8: Relay | H8: =CONCATENATE(F9,", ",F10,", ",F11,", ",F12) -> , , , | J8: Relay | L8: =CONCATENATE(J9,", ",J10,", ",J11,", ",J12) -> , , , | N8: Relay | P8: =CONCATENATE(N9,", ",N10,", ",N11,", ",N12) -> , , , | R8: Relay | T8: =CONCATENATE(R9,", ",R10,", ",R11,", ",R12) -> , , , | V8: Relay | X8: =CONCATENATE(V9,", ",V10,", ",V11,", ",V12) -> , , , | Z8: Relay | AB8: =CONCATENATE(Z9,", ",Z10,", ",Z11,", ",Z12) -> , , ,
C9: 9 | E9: Swimmer 1 | F9: =CONCATENATE('Lane 1 Team'!F9," ",'Lane 1 Team'!G9) | G9: ='Lane 1 Team'!H9 -> 0 | I9: =DATEDIF(G9,$A$1,"Y") -> 125 | J9: =CONCATENATE('Lane 2 Team'!F9," ",'Lane 2 Team'!G9) | K9: ='Lane 2 Team'!H9 -> 0 | M9: =DATEDIF(K9,$A$1,"Y") -> 125 | N9: =CONCATENATE('Lane 3 Team'!F9," ",'Lane 3 Team'!G9) | O9: ='Lane 3 Team'!H9 -> 0 | Q9: =DATEDIF(O9,$A$1,"Y") -> 125 | R9: =CONCATENATE('Lane 4 Team'!F9," ",'Lane 4 Team'!G9) | S9: ='Lane 4 Team'!H9 -> 0 | U9: =DATEDIF(S9,$A$1,"Y") -> 125 | V9: =CONCATENATE('Lane 5 Team'!F9," ",'Lane 5 Team'!G9) | W9: ='Lane 5 Team'!H9 -> 0 | Y9: =DATEDIF(W9,$A$1,"Y") -> 125 | Z9: =CONCATENATE('Lane 6 Team'!F9," ",'Lane 6 Team'!G9) | AA9: ='Lane 6 Team'!H9 -> 0 | AC9: =DATEDIF(AA9,$A$1,"Y") -> 125
C10: 9 | E10: Swimmer 2 | F10: =CONCATENATE('Lane 1 Team'!F10," ",'Lane 1 Team'!G10) | G10: ='Lane 1 Team'!H10 -> 0 | I10: =DATEDIF(G10,$A$1,"Y") -> 125 | J10: =CONCATENATE('Lane 2 Team'!F10," ",'Lane 2 Team'!G10) | K10: ='Lane 2 Team'!H10 -> 0 | M10: =DATEDIF(K10,$A$1,"Y") -> 125 | N10: =CONCATENATE('Lane 3 Team'!F10," ",'Lane 3 Team'!G10) | O10: ='Lane 3 Team'!H10 -> 0 | Q10: =DATEDIF(O10,$A$1,"Y") -> 125 | R10: =CONCATENATE('Lane 4 Team'!F10," ",'Lane 4 Team'!G10) | S10: ='Lane 4 Team'!H10 -> 0 | U10: =DATEDIF(S10,$A$1,"Y") -> 125 | V10: =CONCATENATE('Lane 5 Team'!F10," ",'Lane 5 Team'!G10) | W10: ='Lane 5 Team'!H10 -> 0 | Y10: =DATEDIF(W10,$A$1,"Y") -> 125 | Z10: =CONCATENATE('Lane 6 Team'!F10," ",'Lane 6 Team'!G10) | AA10: ='Lane 6 Team'!H10 -> 0 | AC10: =DATEDIF(AA10,$A$1,"Y") -> 125
C11: 9 | E11: Swimmer 3 | F11: =CONCATENATE('Lane 1 Team'!F11," ",'Lane 1 Team'!G11) | G11: ='Lane 1 Team'!H11 -> 0 | I11: =DATEDIF(G11,$A$1,"Y") -> 125 | J11: =CONCATENATE('Lane 2 Team'!F11," ",'Lane 2 Team'!G11) | K11: ='Lane 2 Team'!H11 -> 0 | M11: =DATEDIF(K11,$A$1,"Y") -> 125 | N11: =CONCATENATE('Lane 3 Team'!F11," ",'Lane 3 Team'!G11) | O11: ='Lane 3 Team'!H11 -> 0 | Q11: =DATEDIF(O11,$A$1,"Y") -> 125 | R11: =CONCATENATE('Lane 4 Team'!F11," ",'Lane 4 Team'!G11) | S11: ='Lane 4 Team'!H11 -> 0 | U11: =DATEDIF(S11,$A$1,"Y") -> 125 | V11: =CONCATENATE('Lane 5 Team'!F11," ",'Lane 5 Team'!G11) | W11: ='Lane 5 Team'!H11 -> 0 | Y11: =DATEDIF(W11,$A$1,"Y") -> 125 | Z11: =CONCATENATE('Lane 6 Team'!F11," ",'Lane 6 Team'!G11) | AA11: ='Lane 6 Team'!H11 -> 0 | AC11: =DATEDIF(AA11,$A$1,"Y") -> 125
C12: 9 | E12: Swimmer 4 | F12: =CONCATENATE('Lane 1 Team'!F12," ",'Lane 1 Team'!G12) | G12: ='Lane 1 Team'!H12 -> 0 | I12: =DATEDIF(G12,$A$1,"Y") -> 125 | J12: =CONCATENATE('Lane 2 Team'!F12," ",'Lane 2 Team'!G12) | K12: ='Lane 2 Team'!H12 -> 0 | M12: =DATEDIF(K12,$A$1,"Y") -> 125 | N12: =CONCATENATE('Lane 3 Team'!F12," ",'Lane 3 Team'!G12) | O12: ='Lane 3 Team'!H12 -> 0 | Q12: =DATEDIF(O12,$A$1,"Y") -> 125 | R12: =CONCATENATE('Lane 4 Team'!F12," ",'Lane 4 Team'!G12) | S12: ='Lane 4 Team'!H12 -> 0 | U12: =DATEDIF(S12,$A$1,"Y") -> 125 | V12: =CONCATENATE('Lane 5 Team'!F12," ",'Lane 5 Team'!G12) | W12: ='Lane 5 Team'!H12 -> 0 | Y12: =DATEDIF(W12,$A$1,"Y") -> 125 | Z12: =CONCATENATE('Lane 6 Team'!F12," ",'Lane 6 Team'!G12) | AA12: ='Lane 6 Team'!H12 -> 0 | AC12: =DATEDIF(AA12,$A$1,"Y") -> 125
A13: 3 | B13: Mixed | C13: 10 | D13: 4 x 25m | E13: Medley Relay | F13: Relay | H13: =CONCATENATE(F14,", ",F15,", ",F16,", ",F17) -> , , , | J13: Relay | L13: =CONCATENATE(J14,", ",J15,", ",J16,", ",J17) -> , , , | N13: Relay | P13: =CONCATENATE(N14,", ",N15,", ",N16,", ",N17) -> , , , | R13: Relay | T13: =CONCATENATE(R14,", ",R15,", ",R16,", ",R17) -> , , , | V13: Relay | X13: =CONCATENATE(V14,", ",V15,", ",V16,", ",V17) -> , , , | Z13: Relay | AB13: =CONCATENATE(Z14,", ",Z15,", ",Z16,", ",Z17) -> , , ,
C14: 10 | E14: Swimmer 1 | F14: =CONCATENATE('Lane 1 Team'!F14," ",'Lane 1 Team'!G14) | G14: ='Lane 1 Team'!H14 -> 0 | I14: =DATEDIF(G14,$A$1,"Y") -> 125 | J14: =CONCATENATE('Lane 2 Team'!F14," ",'Lane 2 Team'!G14) | K14: ='Lane 2 Team'!H14 -> 0 | M14: =DATEDIF(K14,$A$1,"Y") -> 125 | N14: =CONCATENATE('Lane 3 Team'!F14," ",'Lane 3 Team'!G14) | O14: ='Lane 3 Team'!H14 -> 0 | Q14: =DATEDIF(O14,$A$1,"Y") -> 125 | R14: =CONCATENATE('Lane 4 Team'!F14," ",'Lane 4 Team'!G14) | S14: ='Lane 4 Team'!H14 -> 0 | U14: =DATEDIF(S14,$A$1,"Y") -> 125 | V14: =CONCATENATE('Lane 5 Team'!F14," ",'Lane 5 Team'!G14) | W14: ='Lane 5 Team'!H14 -> 0 | Y14: =DATEDIF(W14,$A$1,"Y") -> 125 | Z14: =CONCATENATE('Lane 6 Team'!F14," ",'Lane 6 Team'!G14) | AA14: ='Lane 6 Team'!H14 -> 0 | AC14: =DATEDIF(AA14,$A$1,"Y") -> 125
C15: 10 | E15: Swimmer 2 | F15: =CONCATENATE('Lane 1 Team'!F15," ",'Lane 1 Team'!G15) | G15: ='Lane 1 Team'!H15 -> 0 | I15: =DATEDIF(G15,$A$1,"Y") -> 125 | J15: =CONCATENATE('Lane 2 Team'!F15," ",'Lane 2 Team'!G15) | K15: ='Lane 2 Team'!H15 -> 0 | M15: =DATEDIF(K15,$A$1,"Y") -> 125 | N15: =CONCATENATE('Lane 3 Team'!F15," ",'Lane 3 Team'!G15) | O15: ='Lane 3 Team'!H15 -> 0 | Q15: =DATEDIF(O15,$A$1,"Y") -> 125 | R15: =CONCATENATE('Lane 4 Team'!F15," ",'Lane 4 Team'!G15) | S15: ='Lane 4 Team'!H15 -> 0 | U15: =DATEDIF(S15,$A$1,"Y") -> 125 | V15: =CONCATENATE('Lane 5 Team'!F15," ",'Lane 5 Team'!G15) | W15: ='Lane 5 Team'!H15 -> 0 | Y15: =DATEDIF(W15,$A$1,"Y") -> 125 | Z15: =CONCATENATE('Lane 6 Team'!F15," ",'Lane 6 Team'!G15) | AA15: ='Lane 6 Team'!H15 -> 0 | AC15: =DATEDIF(AA15,$A$1,"Y") -> 125
C16: 10 | E16: Swimmer 3 | F16: =CONCATENATE('Lane 1 Team'!F16," ",'Lane 1 Team'!G16) | G16: ='Lane 1 Team'!H16 -> 0 | I16: =DATEDIF(G16,$A$1,"Y") -> 125 | J16: =CONCATENATE('Lane 2 Team'!F16," ",'Lane 2 Team'!G16) | K16: ='Lane 2 Team'!H16 -> 0 | M16: =DATEDIF(K16,$A$1,"Y") -> 125 | N16: =CONCATENATE('Lane 3 Team'!F16," ",'Lane 3 Team'!G16) | O16: ='Lane 3 Team'!H16 -> 0 | Q16: =DATEDIF(O16,$A$1,"Y") -> 125 | R16: =CONCATENATE('Lane 4 Team'!F16," ",'Lane 4 Team'!G16) | S16: ='Lane 4 Team'!H16 -> 0 | U16: =DATEDIF(S16,$A$1,"Y") -> 125 | V16: =CONCATENATE('Lane 5 Team'!F16," ",'Lane 5 Team'!G16) | W16: ='Lane 5 Team'!H16 -> 0 | Y16: =DATEDIF(W16,$A$1,"Y") -> 125 | Z16: =CONCATENATE('Lane 6 Team'!F16," ",'Lane 6 Team'!G16) | AA16: ='Lane 6 Team'!H16 -> 0 | AC16: =DATEDIF(AA16,$A$1,"Y") -> 125
C17: 10 | E17: Swimmer 4 | F17: =CONCATENATE('Lane 1 Team'!F17," ",'Lane 1 Team'!G17) | G17: ='Lane 1 Team'!H17 -> 0 | I17: =DATEDIF(G17,$A$1,"Y") -> 125 | J17: =CONCATENATE('Lane 2 Team'!F17," ",'Lane 2 Team'!G17) | K17: ='Lane 2 Team'!H17 -> 0 | M17: =DATEDIF(K17,$A$1,"Y") -> 125 | N17: =CONCATENATE('Lane 3 Team'!F17," ",'Lane 3 Team'!G17) | O17: ='Lane 3 Team'!H17 -> 0 | Q17: =DATEDIF(O17,$A$1,"Y") -> 125 | R17: =CONCATENATE('Lane 4 Team'!F17," ",'Lane 4 Team'!G17) | S17: ='Lane 4 Team'!H17 -> 0 | U17: =DATEDIF(S17,$A$1,"Y") -> 125 | V17: =CONCATENATE('Lane 5 Team'!F17," ",'Lane 5 Team'!G17) | W17: ='Lane 5 Team'!H17 -> 0 | Y17: =DATEDIF(W17,$A$1,"Y") -> 125 | Z17: =CONCATENATE('Lane 6 Team'!F17," ",'Lane 6 Team'!G17) | AA17: ='Lane 6 Team'!H17 -> 0 | AC17: =DATEDIF(AA17,$A$1,"Y") -> 125
A18: 4 | B18: Mixed | C18: 11 | D18: 4 x 25m | E18: Freestyle Relay | F18: Relay | H18: =CONCATENATE(F19,", ",F20,", ",F21,", ",F22) -> , , , | J18: Relay | L18: =CONCATENATE(J19,", ",J20,", ",J21,", ",J22) -> , , , | N18: Relay | P18: =CONCATENATE(N19,", ",N20,", ",N21,", ",N22) -> , , , | R18: Relay | T18: =CONCATENATE(R19,", ",R20,", ",R21,", ",R22) -> , , , | V18: Relay | X18: =CONCATENATE(V19,", ",V20,", ",V21,", ",V22) -> , , , | Z18: Relay | AB18: =CONCATENATE(Z19,", ",Z20,", ",Z21,", ",Z22) -> , , ,
C19: 11 | E19: Swimmer 1 | F19: =CONCATENATE('Lane 1 Team'!F19," ",'Lane 1 Team'!G19) | G19: ='Lane 1 Team'!H19 -> 0 | I19: =DATEDIF(G19,$A$1,"Y") -> 125 | J19: =CONCATENATE('Lane 2 Team'!F19," ",'Lane 2 Team'!G19) | K19: ='Lane 2 Team'!H19 -> 0 | M19: =DATEDIF(K19,$A$1,"Y") -> 125 | N19: =CONCATENATE('Lane 3 Team'!F19," ",'Lane 3 Team'!G19) | O19: ='Lane 3 Team'!H19 -> 0 | Q19: =DATEDIF(O19,$A$1,"Y") -> 125 | R19: =CONCATENATE('Lane 4 Team'!F19," ",'Lane 4 Team'!G19) | S19: ='Lane 4 Team'!H19 -> 0 | U19: =DATEDIF(S19,$A$1,"Y") -> 125 | V19: =CONCATENATE('Lane 5 Team'!F19," ",'Lane 5 Team'!G19) | W19: ='Lane 5 Team'!H19 -> 0 | Y19: =DATEDIF(W19,$A$1,"Y") -> 125 | Z19: =CONCATENATE('Lane 6 Team'!F19," ",'Lane 6 Team'!G19) | AA19: ='Lane 6 Team'!H19 -> 0 | AC19: =DATEDIF(AA19,$A$1,"Y") -> 125
C20: 11 | E20: Swimmer 2 | F20: =CONCATENATE('Lane 1 Team'!F20," ",'Lane 1 Team'!G20) | G20: ='Lane 1 Team'!H20 -> 0 | I20: =DATEDIF(G20,$A$1,"Y") -> 125 | J20: =CONCATENATE('Lane 2 Team'!F20," ",'Lane 2 Team'!G20) | K20: ='Lane 2 Team'!H20 -> 0 | M20: =DATEDIF(K20,$A$1,"Y") -> 125 | N20: =CONCATENATE('Lane 3 Team'!F20," ",'Lane 3 Team'!G20) | O20: ='Lane 3 Team'!H20 -> 0 | Q20: =DATEDIF(O20,$A$1,"Y") -> 125 | R20: =CONCATENATE('Lane 4 Team'!F20," ",'Lane 4 Team'!G20) | S20: ='Lane 4 Team'!H20 -> 0 | U20: =DATEDIF(S20,$A$1,"Y") -> 125 | V20: =CONCATENATE('Lane 5 Team'!F20," ",'Lane 5 Team'!G20) | W20: ='Lane 5 Team'!H20 -> 0 | Y20: =DATEDIF(W20,$A$1,"Y") -> 125 | Z20: =CONCATENATE('Lane 6 Team'!F20," ",'Lane 6 Team'!G20) | AA20: ='Lane 6 Team'!H20 -> 0 | AC20: =DATEDIF(AA20,$A$1,"Y") -> 125
C21: 11 | E21: Swimmer 3 | F21: =CONCATENATE('Lane 1 Team'!F21," ",'Lane 1 Team'!G21) | G21: ='Lane 1 Team'!H21 -> 0 | I21: =DATEDIF(G21,$A$1,"Y") -> 125 | J21: =CONCATENATE('Lane 2 Team'!F21," ",'Lane 2 Team'!G21) | K21: ='Lane 2 Team'!H21 -> 0 | M21: =DATEDIF(K21,$A$1,"Y") -> 125 | N21: =CONCATENATE('Lane 3 Team'!F21," ",'Lane 3 Team'!G21) | O21: ='Lane 3 Team'!H21 -> 0 | Q21: =DATEDIF(O21,$A$1,"Y") -> 125 | R21: =CONCATENATE('Lane 4 Team'!F21," ",'Lane 4 Team'!G21) | S21: ='Lane 4 Team'!H21 -> 0 | U21: =DATEDIF(S21,$A$1,"Y") -> 125 | V21: =CONCATENATE('Lane 5 Team'!F21," ",'Lane 5 Team'!G21) | W21: ='Lane 5 Team'!H21 -> 0 | Y21: =DATEDIF(W21,$A$1,"Y") -> 125 | Z21: =CONCATENATE('Lane 6 Team'!F21," ",'Lane 6 Team'!G21) | AA21: ='Lane 6 Team'!H21 -> 0 | AC21: =DATEDIF(AA21,$A$1,"Y") -> 125
C22: 11 | E22: Swimmer 4 | F22: =CONCATENATE('Lane 1 Team'!F22," ",'Lane 1 Team'!G22) | G22: ='Lane 1 Team'!H22 -> 0 | I22: =DATEDIF(G22,$A$1,"Y") -> 125 | J22: =CONCATENATE('Lane 2 Team'!F22," ",'Lane 2 Team'!G22) | K22: ='Lane 2 Team'!H22 -> 0 | M22: =DATEDIF(K22,$A$1,"Y") -> 125 | N22: =CONCATENATE('Lane 3 Team'!F22," ",'Lane 3 Team'!G22) | O22: ='Lane 3 Team'!H22 -> 0 | Q22: =DATEDIF(O22,$A$1,"Y") -> 125 | R22: =CONCATENATE('Lane 4 Team'!F22," ",'Lane 4 Team'!G22) | S22: ='Lane 4 Team'!H22 -> 0 | U22: =DATEDIF(S22,$A$1,"Y") -> 125 | V22: =CONCATENATE('Lane 5 Team'!F22," ",'Lane 5 Team'!G22) | W22: ='Lane 5 Team'!H22 -> 0 | Y22: =DATEDIF(W22,$A$1,"Y") -> 125 | Z22: =CONCATENATE('Lane 6 Team'!F22," ",'Lane 6 Team'!G22) | AA22: ='Lane 6 Team'!H22 -> 0 | AC22: =DATEDIF(AA22,$A$1,"Y") -> 125
A23: 5 | B23: Boys | C23: 9 | D23: 25m | E23: Freestyle | F23: =CONCATENATE('Lane 1 Team'!F23," ",'Lane 1 Team'!G23) | G23: ='Lane 1 Team'!H23 -> 0 | I23: =DATEDIF(G23,$A$1,"Y") -> 125 | J23: =CONCATENATE('Lane 2 Team'!F23," ",'Lane 2 Team'!G23) | K23: ='Lane 2 Team'!H23 -> 0 | M23: =DATEDIF(K23,$A$1,"Y") -> 125 | N23: =CONCATENATE('Lane 3 Team'!F23," ",'Lane 3 Team'!G23) | O23: ='Lane 3 Team'!H23 -> 0 | Q23: =DATEDIF(O23,$A$1,"Y") -> 125 | R23: =CONCATENATE('Lane 4 Team'!F23," ",'Lane 4 Team'!G23) | S23: ='Lane 4 Team'!H23 -> 0 | U23: =DATEDIF(S23,$A$1,"Y") -> 125 | V23: =CONCATENATE('Lane 5 Team'!F23," ",'Lane 5 Team'!G23) | W23: ='Lane 5 Team'!H23 -> 0 | Y23: =DATEDIF(W23,$A$1,"Y") -> 125 | Z23: =CONCATENATE('Lane 6 Team'!F23," ",'Lane 6 Team'!G23) | AA23: ='Lane 6 Team'!H23 -> 0 | AC23: =DATEDIF(AA23,$A$1,"Y") -> 125
A24: 6 | B24: Girls | C24: 9 | D24: 25m | E24: Freestyle | F24: =CONCATENATE('Lane 1 Team'!F24," ",'Lane 1 Team'!G24) | G24: ='Lane 1 Team'!H24 -> 0 | I24: =DATEDIF(G24,$A$1,"Y") -> 125 | J24: =CONCATENATE('Lane 2 Team'!F24," ",'Lane 2 Team'!G24) | K24: ='Lane 2 Team'!H24 -> 0 | M24: =DATEDIF(K24,$A$1,"Y") -> 125 | N24: =CONCATENATE('Lane 3 Team'!F24," ",'Lane 3 Team'!G24) | O24: ='Lane 3 Team'!H24 -> 0 | Q24: =DATEDIF(O24,$A$1,"Y") -> 125 | R24: =CONCATENATE('Lane 4 Team'!F24," ",'Lane 4 Team'!G24) | S24: ='Lane 4 Team'!H24 -> 0 | U24: =DATEDIF(S24,$A$1,"Y") -> 125 | V24: =CONCATENATE('Lane 5 Team'!F24," ",'Lane 5 Team'!G24) | W24: ='Lane 5 Team'!H24 -> 0 | Y24: =DATEDIF(W24,$A$1,"Y") -> 125 | Z24: =CONCATENATE('Lane 6 Team'!F24," ",'Lane 6 Team'!G24) | AA24: ='Lane 6 Team'!H24 -> 0 | AC24: =DATEDIF(AA24,$A$1,"Y") -> 125
A25: 7 | B25: Boys | C25: 10 | D25: 50m | E25: Breaststroke | F25: =CONCATENATE('Lane 1 Team'!F25," ",'Lane 1 Team'!G25) | G25: ='Lane 1 Team'!H25 -> 0 | I25: =DATEDIF(G25,$A$1,"Y") -> 125 | J25: =CONCATENATE('Lane 2 Team'!F25," ",'Lane 2 Team'!G25) | K25: ='Lane 2 Team'!H25 -> 0 | M25: =DATEDIF(K25,$A$1,"Y") -> 125 | N25: =CONCATENATE('Lane 3 Team'!F25," ",'Lane 3 Team'!G25) | O25: ='Lane 3 Team'!H25 -> 0 | Q25: =DATEDIF(O25,$A$1,"Y") -> 125 | R25: =CONCATENATE('Lane 4 Team'!F25," ",'Lane 4 Team'!G25) | S25: ='Lane 4 Team'!H25 -> 0 | U25: =DATEDIF(S25,$A$1,"Y") -> 125 | V25: =CONCATENATE('Lane 5 Team'!F25," ",'Lane 5 Team'!G25) | W25: ='Lane 5 Team'!H25 -> 0 | Y25: =DATEDIF(W25,$A$1,"Y") -> 125 | Z25: =CONCATENATE('Lane 6 Team'!F25," ",'Lane 6 Team'!G25) | AA25: ='Lane 6 Team'!H25 -> 0 | AC25: =DATEDIF(AA25,$A$1,"Y") -> 125
A26: 8 | B26: Girls | C26: 10 | D26: 50m | E26: Breaststroke | F26: =CONCATENATE('Lane 1 Team'!F26," ",'Lane 1 Team'!G26) | G26: ='Lane 1 Team'!H26 -> 0 | I26: =DATEDIF(G26,$A$1,"Y") -> 125 | J26: =CONCATENATE('Lane 2 Team'!F26," ",'Lane 2 Team'!G26) | K26: ='Lane 2 Team'!H26 -> 0 | M26: =DATEDIF(K26,$A$1,"Y") -> 125 | N26: =CONCATENATE('Lane 3 Team'!F26," ",'Lane 3 Team'!G26) | O26: ='Lane 3 Team'!H26 -> 0 | Q26: =DATEDIF(O26,$A$1,"Y") -> 125 | R26: =CONCATENATE('Lane 4 Team'!F26," ",'Lane 4 Team'!G26) | S26: ='Lane 4 Team'!H26 -> 0 | U26: =DATEDIF(S26,$A$1,"Y") -> 125 | V26: =CONCATENATE('Lane 5 Team'!F26," ",'Lane 5 Team'!G26) | W26: ='Lane 5 Team'!H26 -> 0 | Y26: =DATEDIF(W26,$A$1,"Y") -> 125 | Z26: =CONCATENATE('Lane 6 Team'!F26," ",'Lane 6 Team'!G26) | AA26: ='Lane 6 Team'!H26 -> 0 | AC26: =DATEDIF(AA26,$A$1,"Y") -> 125
A27: 9 | B27: Boys | C27: 11 | D27: 50m | E27: Backstroke | F27: =CONCATENATE('Lane 1 Team'!F27," ",'Lane 1 Team'!G27) | G27: ='Lane 1 Team'!H27 -> 0 | I27: =DATEDIF(G27,$A$1,"Y") -> 125 | J27: =CONCATENATE('Lane 2 Team'!F27," ",'Lane 2 Team'!G27) | K27: ='Lane 2 Team'!H27 -> 0 | M27: =DATEDIF(K27,$A$1,"Y") -> 125 | N27: =CONCATENATE('Lane 3 Team'!F27," ",'Lane 3 Team'!G27) | O27: ='Lane 3 Team'!H27 -> 0 | Q27: =DATEDIF(O27,$A$1,"Y") -> 125 | R27: =CONCATENATE('Lane 4 Team'!F27," ",'Lane 4 Team'!G27) | S27: ='Lane 4 Team'!H27 -> 0 | U27: =DATEDIF(S27,$A$1,"Y") -> 125 | V27: =CONCATENATE('Lane 5 Team'!F27," ",'Lane 5 Team'!G27) | W27: ='Lane 5 Team'!H27 -> 0 | Y27: =DATEDIF(W27,$A$1,"Y") -> 125 | Z27: =CONCATENATE('Lane 6 Team'!F27," ",'Lane 6 Team'!G27) | AA27: ='Lane 6 Team'!H27 -> 0 | AC27: =DATEDIF(AA27,$A$1,"Y") -> 125
A28: 10 | B28: Girls | C28: 11 | D28: 50m | E28: Backstroke | F28: =CONCATENATE('Lane 1 Team'!F28," ",'Lane 1 Team'!G28) | G28: ='Lane 1 Team'!H28 -> 0 | I28: =DATEDIF(G28,$A$1,"Y") -> 125 | J28: =CONCATENATE('Lane 2 Team'!F28," ",'Lane 2 Team'!G28) | K28: ='Lane 2 Team'!H28 -> 0 | M28: =DATEDIF(K28,$A$1,"Y") -> 125 | N28: =CONCATENATE('Lane 3 Team'!F28," ",'Lane 3 Team'!G28) | O28: ='Lane 3 Team'!H28 -> 0 | Q28: =DATEDIF(O28,$A$1,"Y") -> 125 | R28: =CONCATENATE('Lane 4 Team'!F28," ",'Lane 4 Team'!G28) | S28: ='Lane 4 Team'!H28 -> 0 | U28: =DATEDIF(S28,$A$1,"Y") -> 125 | V28: =CONCATENATE('Lane 5 Team'!F28," ",'Lane 5 Team'!G28) | W28: ='Lane 5 Team'!H28 -> 0 | Y28: =DATEDIF(W28,$A$1,"Y") -> 125 | Z28: =CONCATENATE('Lane 6 Team'!F28," ",'Lane 6 Team'!G28) | AA28: ='Lane 6 Team'!H28 -> 0 | AC28: =DATEDIF(AA28,$A$1,"Y") -> 125
A29: 11 | B29: Boys | C29: 12 | D29: 50m | E29: Butterfly | F29: =CONCATENATE('Lane 1 Team'!F29," ",'Lane 1 Team'!G29) | G29: ='Lane 1 Team'!H29 -> 0 | I29: =DATEDIF(G29,$A$1,"Y") -> 125 | J29: =CONCATENATE('Lane 2 Team'!F29," ",'Lane 2 Team'!G29) | K29: ='Lane 2 Team'!H29 -> 0 | M29: =DATEDIF(K29,$A$1,"Y") -> 125 | N29: =CONCATENATE('Lane 3 Team'!F29," ",'Lane 3 Team'!G29) | O29: ='Lane 3 Team'!H29 -> 0 | Q29: =DATEDIF(O29,$A$1,"Y") -> 125 | R29: =CONCATENATE('Lane 4 Team'!F29," ",'Lane 4 Team'!G29) | S29: ='Lane 4 Team'!H29 -> 0 | U29: =DATEDIF(S29,$A$1,"Y") -> 125 | V29: =CONCATENATE('Lane 5 Team'!F29," ",'Lane 5 Team'!G29) | W29: ='Lane 5 Team'!H29 -> 0 | Y29: =DATEDIF(W29,$A$1,"Y") -> 125 | Z29: =CONCATENATE('Lane 6 Team'!F29," ",'Lane 6 Team'!G29) | AA29: ='Lane 6 Team'!H29 -> 0 | AC29: =DATEDIF(AA29,$A$1,"Y") -> 125
A30: 12 | B30: Girls | C30: 12 | D30: 50m | E30: Butterfly | F30: =CONCATENATE('Lane 1 Team'!F30," ",'Lane 1 Team'!G30) | G30: ='Lane 1 Team'!H30 -> 0 | I30: =DATEDIF(G30,$A$1,"Y") -> 125 | J30: =CONCATENATE('Lane 2 Team'!F30," ",'Lane 2 Team'!G30) | K30: ='Lane 2 Team'!H30 -> 0 | M30: =DATEDIF(K30,$A$1,"Y") -> 125 | N30: =CONCATENATE('Lane 3 Team'!F30," ",'Lane 3 Team'!G30) | O30: ='Lane 3 Team'!H30 -> 0 | Q30: =DATEDIF(O30,$A$1,"Y") -> 125 | R30: =CONCATENATE('Lane 4 Team'!F30," ",'Lane 4 Team'!G30) | S30: ='Lane 4 Team'!H30 -> 0 | U30: =DATEDIF(S30,$A$1,"Y") -> 125 | V30: =CONCATENATE('Lane 5 Team'!F30," ",'Lane 5 Team'!G30) | W30: ='Lane 5 Team'!H30 -> 0 | Y30: =DATEDIF(W30,$A$1,"Y") -> 125 | Z30: =CONCATENATE('Lane 6 Team'!F30," ",'Lane 6 Team'!G30) | AA30: ='Lane 6 Team'!H30 -> 0 | AC30: =DATEDIF(AA30,$A$1,"Y") -> 125
A31: 13 | B31: Boys | C31: 9 | D31: 25m | E31: Breaststroke | F31: =CONCATENATE('Lane 1 Team'!F31," ",'Lane 1 Team'!G31) | G31: ='Lane 1 Team'!H31 -> 0 | I31: =DATEDIF(G31,$A$1,"Y") -> 125 | J31: =CONCATENATE('Lane 2 Team'!F31," ",'Lane 2 Team'!G31) | K31: ='Lane 2 Team'!H31 -> 0 | M31: =DATEDIF(K31,$A$1,"Y") -> 125 | N31: =CONCATENATE('Lane 3 Team'!F31," ",'Lane 3 Team'!G31) | O31: ='Lane 3 Team'!H31 -> 0 | Q31: =DATEDIF(O31,$A$1,"Y") -> 125 | R31: =CONCATENATE('Lane 4 Team'!F31," ",'Lane 4 Team'!G31) | S31: ='Lane 4 Team'!H31 -> 0 | U31: =DATEDIF(S31,$A$1,"Y") -> 125 | V31: =CONCATENATE('Lane 5 Team'!F31," ",'Lane 5 Team'!G31) | W31: ='Lane 5 Team'!H31 -> 0 | Y31: =DATEDIF(W31,$A$1,"Y") -> 125 | Z31: =CONCATENATE('Lane 6 Team'!F31," ",'Lane 6 Team'!G31) | AA31: ='Lane 6 Team'!H31 -> 0 | AC31: =DATEDIF(AA31,$A$1,"Y") -> 125
A32: 14 | B32: Girls | C32: 9 | D32: 25m | E32: Breaststroke | F32: =CONCATENATE('Lane 1 Team'!F32," ",'Lane 1 Team'!G32) | G32: ='Lane 1 Team'!H32 -> 0 | I32: =DATEDIF(G32,$A$1,"Y") -> 125 | J32: =CONCATENATE('Lane 2 Team'!F32," ",'Lane 2 Team'!G32) | K32: ='Lane 2 Team'!H32 -> 0 | M32: =DATEDIF(K32,$A$1,"Y") -> 125 | N32: =CONCATENATE('Lane 3 Team'!F32," ",'Lane 3 Team'!G32) | O32: ='Lane 3 Team'!H32 -> 0 | Q32: =DATEDIF(O32,$A$1,"Y") -> 125 | R32: =CONCATENATE('Lane 4 Team'!F32," ",'Lane 4 Team'!G32) | S32: ='Lane 4 Team'!H32 -> 0 | U32: =DATEDIF(S32,$A$1,"Y") -> 125 | V32: =CONCATENATE('Lane 5 Team'!F32," ",'Lane 5 Team'!G32) | W32: ='Lane 5 Team'!H32 -> 0 | Y32: =DATEDIF(W32,$A$1,"Y") -> 125 | Z32: =CONCATENATE('Lane 6 Team'!F32," ",'Lane 6 Team'!G32) | AA32: ='Lane 6 Team'!H32 -> 0 | AC32: =DATEDIF(AA32,$A$1,"Y") -> 125
A33: 15 | B33: Boys | C33: 10 | D33: 50m | E33: Backstroke | F33: =CONCATENATE('Lane 1 Team'!F33," ",'Lane 1 Team'!G33) | G33: ='Lane 1 Team'!H33 -> 0 | I33: =DATEDIF(G33,$A$1,"Y") -> 125 | J33: =CONCATENATE('Lane 2 Team'!F33," ",'Lane 2 Team'!G33) | K33: ='Lane 2 Team'!H33 -> 0 | M33: =DATEDIF(K33,$A$1,"Y") -> 125 | N33: =CONCATENATE('Lane 3 Team'!F33," ",'Lane 3 Team'!G33) | O33: ='Lane 3 Team'!H33 -> 0 | Q33: =DATEDIF(O33,$A$1,"Y") -> 125 | R33: =CONCATENATE('Lane 4 Team'!F33," ",'Lane 4 Team'!G33) | S33: ='Lane 4 Team'!H33 -> 0 | U33: =DATEDIF(S33,$A$1,"Y") -> 125 | V33: =CONCATENATE('Lane 5 Team'!F33," ",'Lane 5 Team'!G33) | W33: ='Lane 5 Team'!H33 -> 0 | Y33: =DATEDIF(W33,$A$1,"Y") -> 125 | Z33: =CONCATENATE('Lane 6 Team'!F33," ",'Lane 6 Team'!G33) | AA33: ='Lane 6 Team'!H33 -> 0 | AC33: =DATEDIF(AA33,$A$1,"Y") -> 125
A34: 16 | B34: Girls | C34: 10 | D34: 50m | E34: Backstroke | F34: =CONCATENATE('Lane 1 Team'!F34," ",'Lane 1 Team'!G34) | G34: ='Lane 1 Team'!H34 -> 0 | I34: =DATEDIF(G34,$A$1,"Y") -> 125 | J34: =CONCATENATE('Lane 2 Team'!F34," ",'Lane 2 Team'!G34) | K34: ='Lane 2 Team'!H34 -> 0 | M34: =DATEDIF(K34,$A$1,"Y") -> 125 | N34: =CONCATENATE('Lane 3 Team'!F34," ",'Lane 3 Team'!G34) | O34: ='Lane 3 Team'!H34 -> 0 | Q34: =DATEDIF(O34,$A$1,"Y") -> 125 | R34: =CONCATENATE('Lane 4 Team'!F34," ",'Lane 4 Team'!G34) | S34: ='Lane 4 Team'!H34 -> 0 | U34: =DATEDIF(S34,$A$1,"Y") -> 125 | V34: =CONCATENATE('Lane 5 Team'!F34," ",'Lane 5 Team'!G34) | W34: ='Lane 5 Team'!H34 -> 0 | Y34: =DATEDIF(W34,$A$1,"Y") -> 125 | Z34: =CONCATENATE('Lane 6 Team'!F34," ",'Lane 6 Team'!G34) | AA34: ='Lane 6 Team'!H34 -> 0 | AC34: =DATEDIF(AA34,$A$1,"Y") -> 125
... A54: 36 | B54: Girls | C54: 12 | D54: 50m | E54: Backstroke | F54: =CONCATENATE('Lane 1 Team'!F54," ",'Lane 1 Team'!G54) | G54: ='Lane 1 Team'!H54 -> 0 | I54: =DATEDIF(G54,$A$1,"Y") -> 125 | J54: =CONCATENATE('Lane 2 Team'!F54," ",'Lane 2 Team'!G54) | K54: ='Lane 2 Team'!H54 -> 0 | M54: =DATEDIF(K54,$A$1,"Y") -> 125 | N54: =CONCATENATE('Lane 3 Team'!F54," ",'Lane 3 Team'!G54) | O54: ='Lane 3 Team'!H54 -> 0 | Q54: =DATEDIF(O54,$A$1,"Y") -> 125 | R54: =CONCATENATE('Lane 4 Team'!F54," ",'Lane 4 Team'!G54) | S54: ='Lane 4 Team'!H54 -> 0 | U54: =DATEDIF(S54,$A$1,"Y") -> 125 | V54: =CONCATENATE('Lane 5 Team'!F54," ",'Lane 5 Team'!G54) | W54: ='Lane 5 Team'!H54 -> 0 | Y54: =DATEDIF(W54,$A$1,"Y") -> 125 | Z54: =CONCATENATE('Lane 6 Team'!F54," ",'Lane 6 Team'!G54) | AA54: ='Lane 6 Team'!H54 -> 0 | AC54: =DATEDIF(AA54,$A$1,"Y") -> 125
A55: 37 | B55: Mixed | C55: 9 | D55: 4 x 25m | E55: Medley Relay | F55: Relay | H55: =CONCATENATE(F56,", ",F57,", ",F58,", ",F59) -> , , , | J55: Relay | L55: =CONCATENATE(J56,", ",J57,", ",J58,", ",J59) -> , , , | N55: Relay | P55: =CONCATENATE(N56,", ",N57,", ",N58,", ",N59) -> , , , | R55: Relay | T55: =CONCATENATE(R56,", ",R57,", ",R58,", ",R59) -> , , , | V55: Relay | X55: =CONCATENATE(V56,", ",V57,", ",V58,", ",V59) -> , , , | Z55: Relay | AB55: =CONCATENATE(Z56,", ",Z57,", ",Z58,", ",Z59) -> , , ,
C56: 9 | E56: Swimmer 1 | F56: =CONCATENATE('Lane 1 Team'!F56," ",'Lane 1 Team'!G56) | G56: ='Lane 1 Team'!H56 -> 0 | I56: =DATEDIF(G56,$A$1,"Y") -> 125 | J56: =CONCATENATE('Lane 2 Team'!F56," ",'Lane 2 Team'!G56) | K56: ='Lane 2 Team'!H56 -> 0 | M56: =DATEDIF(K56,$A$1,"Y") -> 125 | N56: =CONCATENATE('Lane 3 Team'!F56," ",'Lane 3 Team'!G56) | O56: ='Lane 3 Team'!H56 -> 0 | Q56: =DATEDIF(O56,$A$1,"Y") -> 125 | R56: =CONCATENATE('Lane 4 Team'!F56," ",'Lane 4 Team'!G56) | S56: ='Lane 4 Team'!H56 -> 0 | U56: =DATEDIF(S56,$A$1,"Y") -> 125 | V56: =CONCATENATE('Lane 5 Team'!F56," ",'Lane 5 Team'!G56) | W56: ='Lane 5 Team'!H56 -> 0 | Y56: =DATEDIF(W56,$A$1,"Y") -> 125 | Z56: =CONCATENATE('Lane 6 Team'!F56," ",'Lane 6 Team'!G56) | AA56: ='Lane 6 Team'!H56 -> 0 | AC56: =DATEDIF(AA56,$A$1,"Y") -> 125
C57: 9 | E57: Swimmer 2 | F57: =CONCATENATE('Lane 1 Team'!F57," ",'Lane 1 Team'!G57) | G57: ='Lane 1 Team'!H57 -> 0 | I57: =DATEDIF(G57,$A$1,"Y") -> 125 | J57: =CONCATENATE('Lane 2 Team'!F57," ",'Lane 2 Team'!G57) | K57: ='Lane 2 Team'!H57 -> 0 | M57: =DATEDIF(K57,$A$1,"Y") -> 125 | N57: =CONCATENATE('Lane 3 Team'!F57," ",'Lane 3 Team'!G57) | O57: ='Lane 3 Team'!H57 -> 0 | Q57: =DATEDIF(O57,$A$1,"Y") -> 125 | R57: =CONCATENATE('Lane 4 Team'!F57," ",'Lane 4 Team'!G57) | S57: ='Lane 4 Team'!H57 -> 0 | U57: =DATEDIF(S57,$A$1,"Y") -> 125 | V57: =CONCATENATE('Lane 5 Team'!F57," ",'Lane 5 Team'!G57) | W57: ='Lane 5 Team'!H57 -> 0 | Y57: =DATEDIF(W57,$A$1,"Y") -> 125 | Z57: =CONCATENATE('Lane 6 Team'!F57," ",'Lane 6 Team'!G57) | AA57: ='Lane 6 Team'!H57 -> 0 | AC57: =DATEDIF(AA57,$A$1,"Y") -> 125
C58: 9 | E58: Swimmer 3 | F58: =CONCATENATE('Lane 1 Team'!F58," ",'Lane 1 Team'!G58) | G58: ='Lane 1 Team'!H58 -> 0 | I58: =DATEDIF(G58,$A$1,"Y") -> 125 | J58: =CONCATENATE('Lane 2 Team'!F58," ",'Lane 2 Team'!G58) | K58: ='Lane 2 Team'!H58 -> 0 | M58: =DATEDIF(K58,$A$1,"Y") -> 125 | N58: =CONCATENATE('Lane 3 Team'!F58," ",'Lane 3 Team'!G58) | O58: ='Lane 3 Team'!H58 -> 0 | Q58: =DATEDIF(O58,$A$1,"Y") -> 125 | R58: =CONCATENATE('Lane 4 Team'!F58," ",'Lane 4 Team'!G58) | S58: ='Lane 4 Team'!H58 -> 0 | U58: =DATEDIF(S58,$A$1,"Y") -> 125 | V58: =CONCATENATE('Lane 5 Team'!F58," ",'Lane 5 Team'!G58) | W58: ='Lane 5 Team'!H58 -> 0 | Y58: =DATEDIF(W58,$A$1,"Y") -> 125 | Z58: =CONCATENATE('Lane 6 Team'!F58," ",'Lane 6 Team'!G58) | AA58: ='Lane 6 Team'!H58 -> 0 | AC58: =DATEDIF(AA58,$A$1,"Y") -> 125
C59: 9 | E59: Swimmer 4 | F59: =CONCATENATE('Lane 1 Team'!F59," ",'Lane 1 Team'!G59) | G59: ='Lane 1 Team'!H59 -> 0 | I59: =DATEDIF(G59,$A$1,"Y") -> 125 | J59: =CONCATENATE('Lane 2 Team'!F59," ",'Lane 2 Team'!G59) | K59: ='Lane 2 Team'!H59 -> 0 | M59: =DATEDIF(K59,$A$1,"Y") -> 125 | N59: =CONCATENATE('Lane 3 Team'!F59," ",'Lane 3 Team'!G59) | O59: ='Lane 3 Team'!H59 -> 0 | Q59: =DATEDIF(O59,$A$1,"Y") -> 125 | R59: =CONCATENATE('Lane 4 Team'!F59," ",'Lane 4 Team'!G59) | S59: ='Lane 4 Team'!H59 -> 0 | U59: =DATEDIF(S59,$A$1,"Y") -> 125 | V59: =CONCATENATE('Lane 5 Team'!F59," ",'Lane 5 Team'!G59) | W59: ='Lane 5 Team'!H59 -> 0 | Y59: =DATEDIF(W59,$A$1,"Y") -> 125 | Z59: =CONCATENATE('Lane 6 Team'!F59," ",'Lane 6 Team'!G59) | AA59: ='Lane 6 Team'!H59 -> 0 | AC59: =DATEDIF(AA59,$A$1,"Y") -> 125
A60: 38 | B60: Mixed | C60: 10 | D60: 4 x 25m | E60: Freestyle Relay | F60: Relay | H60: =CONCATENATE(F61,", ",F62,", ",F63,", ",F64) -> , , , | J60: Relay | L60: =CONCATENATE(J61,", ",J62,", ",J63,", ",J64) -> , , , | N60: Relay | P60: =CONCATENATE(N61,", ",N62,", ",N63,", ",N64) -> , , , | R60: Relay | T60: =CONCATENATE(R61,", ",R62,", ",R63,", ",R64) -> , , , | V60: Relay | X60: =CONCATENATE(V61,", ",V62,", ",V63,", ",V64) -> , , , | Z60: Relay | AB60: =CONCATENATE(Z61,", ",Z62,", ",Z63,", ",Z64) -> , , ,
C61: 10 | E61: Swimmer 1 | F61: =CONCATENATE('Lane 1 Team'!F61," ",'Lane 1 Team'!G61) | G61: ='Lane 1 Team'!H61 -> 0 | I61: =DATEDIF(G61,$A$1,"Y") -> 125 | J61: =CONCATENATE('Lane 2 Team'!F61," ",'Lane 2 Team'!G61) | K61: ='Lane 2 Team'!H61 -> 0 | M61: =DATEDIF(K61,$A$1,"Y") -> 125 | N61: =CONCATENATE('Lane 3 Team'!F61," ",'Lane 3 Team'!G61) | O61: ='Lane 3 Team'!H61 -> 0 | Q61: =DATEDIF(O61,$A$1,"Y") -> 125 | R61: =CONCATENATE('Lane 4 Team'!F61," ",'Lane 4 Team'!G61) | S61: ='Lane 4 Team'!H61 -> 0 | U61: =DATEDIF(S61,$A$1,"Y") -> 125 | V61: =CONCATENATE('Lane 5 Team'!F61," ",'Lane 5 Team'!G61) | W61: ='Lane 5 Team'!H61 -> 0 | Y61: =DATEDIF(W61,$A$1,"Y") -> 125 | Z61: =CONCATENATE('Lane 6 Team'!F61," ",'Lane 6 Team'!G61) | AA61: ='Lane 6 Team'!H61 -> 0 | AC61: =DATEDIF(AA61,$A$1,"Y") -> 125
C62: 10 | E62: Swimmer 2 | F62: =CONCATENATE('Lane 1 Team'!F62," ",'Lane 1 Team'!G62) | G62: ='Lane 1 Team'!H62 -> 0 | I62: =DATEDIF(G62,$A$1,"Y") -> 125 | J62: =CONCATENATE('Lane 2 Team'!F62," ",'Lane 2 Team'!G62) | K62: ='Lane 2 Team'!H62 -> 0 | M62: =DATEDIF(K62,$A$1,"Y") -> 125 | N62: =CONCATENATE('Lane 3 Team'!F62," ",'Lane 3 Team'!G62) | O62: ='Lane 3 Team'!H62 -> 0 | Q62: =DATEDIF(O62,$A$1,"Y") -> 125 | R62: =CONCATENATE('Lane 4 Team'!F62," ",'Lane 4 Team'!G62) | S62: ='Lane 4 Team'!H62 -> 0 | U62: =DATEDIF(S62,$A$1,"Y") -> 125 | V62: =CONCATENATE('Lane 5 Team'!F62," ",'Lane 5 Team'!G62) | W62: ='Lane 5 Team'!H62 -> 0 | Y62: =DATEDIF(W62,$A$1,"Y") -> 125 | Z62: =CONCATENATE('Lane 6 Team'!F62," ",'Lane 6 Team'!G62) | AA62: ='Lane 6 Team'!H62 -> 0 | AC62: =DATEDIF(AA62,$A$1,"Y") -> 125
C63: 10 | E63: Swimmer 3 | F63: =CONCATENATE('Lane 1 Team'!F63," ",'Lane 1 Team'!G63) | G63: ='Lane 1 Team'!H63 -> 0 | I63: =DATEDIF(G63,$A$1,"Y") -> 125 | J63: =CONCATENATE('Lane 2 Team'!F63," ",'Lane 2 Team'!G63) | K63: ='Lane 2 Team'!H63 -> 0 | M63: =DATEDIF(K63,$A$1,"Y") -> 125 | N63: =CONCATENATE('Lane 3 Team'!F63," ",'Lane 3 Team'!G63) | O63: ='Lane 3 Team'!H63 -> 0 | Q63: =DATEDIF(O63,$A$1,"Y") -> 125 | R63: =CONCATENATE('Lane 4 Team'!F63," ",'Lane 4 Team'!G63) | S63: ='Lane 4 Team'!H63 -> 0 | U63: =DATEDIF(S63,$A$1,"Y") -> 125 | V63: =CONCATENATE('Lane 5 Team'!F63," ",'Lane 5 Team'!G63) | W63: ='Lane 5 Team'!H63 -> 0 | Y63: =DATEDIF(W63,$A$1,"Y") -> 125 | Z63: =CONCATENATE('Lane 6 Team'!F63," ",'Lane 6 Team'!G63) | AA63: ='Lane 6 Team'!H63 -> 0 | AC63: =DATEDIF(AA63,$A$1,"Y") -> 125
C64: 10 | E64: Swimmer 4 | F64: =CONCATENATE('Lane 1 Team'!F64," ",'Lane 1 Team'!G64) | G64: ='Lane 1 Team'!H64 -> 0 | I64: =DATEDIF(G64,$A$1,"Y") -> 125 | J64: =CONCATENATE('Lane 2 Team'!F64," ",'Lane 2 Team'!G64) | K64: ='Lane 2 Team'!H64 -> 0 | M64: =DATEDIF(K64,$A$1,"Y") -> 125 | N64: =CONCATENATE('Lane 3 Team'!F64," ",'Lane 3 Team'!G64) | O64: ='Lane 3 Team'!H64 -> 0 | Q64: =DATEDIF(O64,$A$1,"Y") -> 125 | R64: =CONCATENATE('Lane 4 Team'!F64," ",'Lane 4 Team'!G64) | S64: ='Lane 4 Team'!H64 -> 0 | U64: =DATEDIF(S64,$A$1,"Y") -> 125 | V64: =CONCATENATE('Lane 5 Team'!F64," ",'Lane 5 Team'!G64) | W64: ='Lane 5 Team'!H64 -> 0 | Y64: =DATEDIF(W64,$A$1,"Y") -> 125 | Z64: =CONCATENATE('Lane 6 Team'!F64," ",'Lane 6 Team'!G64) | AA64: ='Lane 6 Team'!H64 -> 0 | AC64: =DATEDIF(AA64,$A$1,"Y") -> 125
A65: 39 | B65: Mixed | C65: 11 | D65: 4 x 25m | E65: Medley Relay | F65: Relay | H65: =CONCATENATE(F66,", ",F67,", ",F68,", ",F69) -> , , , | J65: Relay | L65: =CONCATENATE(J66,", ",J67,", ",J68,", ",J69) -> , , , | N65: Relay | P65: =CONCATENATE(N66,", ",N67,", ",N68,", ",N69) -> , , , | R65: Relay | T65: =CONCATENATE(R66,", ",R67,", ",R68,", ",R69) -> , , , | V65: Relay | X65: =CONCATENATE(V66,", ",V67,", ",V68,", ",V69) -> , , , | Z65: Relay | AB65: =CONCATENATE(Z66,", ",Z67,", ",Z68,", ",Z69) -> , , ,
C66: 11 | E66: Swimmer 1 | F66: =CONCATENATE('Lane 1 Team'!F66," ",'Lane 1 Team'!G66) | G66: ='Lane 1 Team'!H66 -> 0 | I66: =DATEDIF(G66,$A$1,"Y") -> 125 | J66: =CONCATENATE('Lane 2 Team'!F66," ",'Lane 2 Team'!G66) | K66: ='Lane 2 Team'!H66 -> 0 | M66: =DATEDIF(K66,$A$1,"Y") -> 125 | N66: =CONCATENATE('Lane 3 Team'!F66," ",'Lane 3 Team'!G66) | O66: ='Lane 3 Team'!H66 -> 0 | Q66: =DATEDIF(O66,$A$1,"Y") -> 125 | R66: =CONCATENATE('Lane 4 Team'!F66," ",'Lane 4 Team'!G66) | S66: ='Lane 4 Team'!H66 -> 0 | U66: =DATEDIF(S66,$A$1,"Y") -> 125 | V66: =CONCATENATE('Lane 5 Team'!F66," ",'Lane 5 Team'!G66) | W66: ='Lane 5 Team'!H66 -> 0 | Y66: =DATEDIF(W66,$A$1,"Y") -> 125 | Z66: =CONCATENATE('Lane 6 Team'!F66," ",'Lane 6 Team'!G66) | AA66: ='Lane 6 Team'!H66 -> 0 | AC66: =DATEDIF(AA66,$A$1,"Y") -> 125
C67: 11 | E67: Swimmer 2 | F67: =CONCATENATE('Lane 1 Team'!F67," ",'Lane 1 Team'!G67) | G67: ='Lane 1 Team'!H67 -> 0 | I67: =DATEDIF(G67,$A$1,"Y") -> 125 | J67: =CONCATENATE('Lane 2 Team'!F67," ",'Lane 2 Team'!G67) | K67: ='Lane 2 Team'!H67 -> 0 | M67: =DATEDIF(K67,$A$1,"Y") -> 125 | N67: =CONCATENATE('Lane 3 Team'!F67," ",'Lane 3 Team'!G67) | O67: ='Lane 3 Team'!H67 -> 0 | Q67: =DATEDIF(O67,$A$1,"Y") -> 125 | R67: =CONCATENATE('Lane 4 Team'!F67," ",'Lane 4 Team'!G67) | S67: ='Lane 4 Team'!H67 -> 0 | U67: =DATEDIF(S67,$A$1,"Y") -> 125 | V67: =CONCATENATE('Lane 5 Team'!F67," ",'Lane 5 Team'!G67) | W67: ='Lane 5 Team'!H67 -> 0 | Y67: =DATEDIF(W67,$A$1,"Y") -> 125 | Z67: =CONCATENATE('Lane 6 Team'!F67," ",'Lane 6 Team'!G67) | AA67: ='Lane 6 Team'!H67 -> 0 | AC67: =DATEDIF(AA67,$A$1,"Y") -> 125
C68: 11 | E68: Swimmer 3 | F68: =CONCATENATE('Lane 1 Team'!F68," ",'Lane 1 Team'!G68) | G68: ='Lane 1 Team'!H68 -> 0 | I68: =DATEDIF(G68,$A$1,"Y") -> 125 | J68: =CONCATENATE('Lane 2 Team'!F68," ",'Lane 2 Team'!G68) | K68: ='Lane 2 Team'!H68 -> 0 | M68: =DATEDIF(K68,$A$1,"Y") -> 125 | N68: =CONCATENATE('Lane 3 Team'!F68," ",'Lane 3 Team'!G68) | O68: ='Lane 3 Team'!H68 -> 0 | Q68: =DATEDIF(O68,$A$1,"Y") -> 125 | R68: =CONCATENATE('Lane 4 Team'!F68," ",'Lane 4 Team'!G68) | S68: ='Lane 4 Team'!H68 -> 0 | U68: =DATEDIF(S68,$A$1,"Y") -> 125 | V68: =CONCATENATE('Lane 5 Team'!F68," ",'Lane 5 Team'!G68) | W68: ='Lane 5 Team'!H68 -> 0 | Y68: =DATEDIF(W68,$A$1,"Y") -> 125 | Z68: =CONCATENATE('Lane 6 Team'!F68," ",'Lane 6 Team'!G68) | AA68: ='Lane 6 Team'!H68 -> 0 | AC68: =DATEDIF(AA68,$A$1,"Y") -> 125
C69: 11 | E69: Swimmer 4 | F69: =CONCATENATE('Lane 1 Team'!F69," ",'Lane 1 Team'!G69) | G69: ='Lane 1 Team'!H69 -> 0 | I69: =DATEDIF(G69,$A$1,"Y") -> 125 | J69: =CONCATENATE('Lane 2 Team'!F69," ",'Lane 2 Team'!G69) | K69: ='Lane 2 Team'!H69 -> 0 | M69: =DATEDIF(K69,$A$1,"Y") -> 125 | N69: =CONCATENATE('Lane 3 Team'!F69," ",'Lane 3 Team'!G69) | O69: ='Lane 3 Team'!H69 -> 0 | Q69: =DATEDIF(O69,$A$1,"Y") -> 125 | R69: =CONCATENATE('Lane 4 Team'!F69," ",'Lane 4 Team'!G69) | S69: ='Lane 4 Team'!H69 -> 0 | U69: =DATEDIF(S69,$A$1,"Y") -> 125 | V69: =CONCATENATE('Lane 5 Team'!F69," ",'Lane 5 Team'!G69) | W69: ='Lane 5 Team'!H69 -> 0 | Y69: =DATEDIF(W69,$A$1,"Y") -> 125 | Z69: =CONCATENATE('Lane 6 Team'!F69," ",'Lane 6 Team'!G69) | AA69: ='Lane 6 Team'!H69 -> 0 | AC69: =DATEDIF(AA69,$A$1,"Y") -> 125
A70: 40 | B70: Mixed | C70: 12 | D70: 4 x 25m | E70: Freestyle Relay | F70: Relay | H70: =CONCATENATE(F71,", ",F72,", ",F73,", ",F74) -> , , , | J70: Relay | L70: =CONCATENATE(J71,", ",J72,", ",J73,", ",J74) -> , , , | N70: Relay | P70: =CONCATENATE(N71,", ",N72,", ",N73,", ",N74) -> , , , | R70: Relay | T70: =CONCATENATE(R71,", ",R72,", ",R73,", ",R74) -> , , , | V70: Relay | X70: =CONCATENATE(V71,", ",V72,", ",V73,", ",V74) -> , , , | Z70: Relay | AB70: =CONCATENATE(Z71,", ",Z72,", ",Z73,", ",Z74) -> , , ,
C71: 12 | E71: Swimmer 1 | F71: =CONCATENATE('Lane 1 Team'!F71," ",'Lane 1 Team'!G71) | G71: ='Lane 1 Team'!H71 -> 0 | I71: =DATEDIF(G71,$A$1,"Y") -> 125 | J71: =CONCATENATE('Lane 2 Team'!F71," ",'Lane 2 Team'!G71) | K71: ='Lane 2 Team'!H71 -> 0 | M71: =DATEDIF(K71,$A$1,"Y") -> 125 | N71: =CONCATENATE('Lane 3 Team'!F71," ",'Lane 3 Team'!G71) | O71: ='Lane 3 Team'!H71 -> 0 | Q71: =DATEDIF(O71,$A$1,"Y") -> 125 | R71: =CONCATENATE('Lane 4 Team'!F71," ",'Lane 4 Team'!G71) | S71: ='Lane 4 Team'!H71 -> 0 | U71: =DATEDIF(S71,$A$1,"Y") -> 125 | V71: =CONCATENATE('Lane 5 Team'!F71," ",'Lane 5 Team'!G71) | W71: ='Lane 5 Team'!H71 -> 0 | Y71: =DATEDIF(W71,$A$1,"Y") -> 125 | Z71: =CONCATENATE('Lane 6 Team'!F71," ",'Lane 6 Team'!G71) | AA71: ='Lane 6 Team'!H71 -> 0 | AC71: =DATEDIF(AA71,$A$1,"Y") -> 125
C72: 12 | E72: Swimmer 2 | F72: =CONCATENATE('Lane 1 Team'!F72," ",'Lane 1 Team'!G72) | G72: ='Lane 1 Team'!H72 -> 0 | I72: =DATEDIF(G72,$A$1,"Y") -> 125 | J72: =CONCATENATE('Lane 2 Team'!F72," ",'Lane 2 Team'!G72) | K72: ='Lane 2 Team'!H72 -> 0 | M72: =DATEDIF(K72,$A$1,"Y") -> 125 | N72: =CONCATENATE('Lane 3 Team'!F72," ",'Lane 3 Team'!G72) | O72: ='Lane 3 Team'!H72 -> 0 | Q72: =DATEDIF(O72,$A$1,"Y") -> 125 | R72: =CONCATENATE('Lane 4 Team'!F72," ",'Lane 4 Team'!G72) | S72: ='Lane 4 Team'!H72 -> 0 | U72: =DATEDIF(S72,$A$1,"Y") -> 125 | V72: =CONCATENATE('Lane 5 Team'!F72," ",'Lane 5 Team'!G72) | W72: ='Lane 5 Team'!H72 -> 0 | Y72: =DATEDIF(W72,$A$1,"Y") -> 125 | Z72: =CONCATENATE('Lane 6 Team'!F72," ",'Lane 6 Team'!G72) | AA72: ='Lane 6 Team'!H72 -> 0 | AC72: =DATEDIF(AA72,$A$1,"Y") -> 125
C73: 12 | E73: Swimmer 3 | F73: =CONCATENATE('Lane 1 Team'!F73," ",'Lane 1 Team'!G73) | G73: ='Lane 1 Team'!H73 -> 0 | I73: =DATEDIF(G73,$A$1,"Y") -> 125 | J73: =CONCATENATE('Lane 2 Team'!F73," ",'Lane 2 Team'!G73) | K73: ='Lane 2 Team'!H73 -> 0 | M73: =DATEDIF(K73,$A$1,"Y") -> 125 | N73: =CONCATENATE('Lane 3 Team'!F73," ",'Lane 3 Team'!G73) | O73: ='Lane 3 Team'!H73 -> 0 | Q73: =DATEDIF(O73,$A$1,"Y") -> 125 | R73: =CONCATENATE('Lane 4 Team'!F73," ",'Lane 4 Team'!G73) | S73: ='Lane 4 Team'!H73 -> 0 | U73: =DATEDIF(S73,$A$1,"Y") -> 125 | V73: =CONCATENATE('Lane 5 Team'!F73," ",'Lane 5 Team'!G73) | W73: ='Lane 5 Team'!H73 -> 0 | Y73: =DATEDIF(W73,$A$1,"Y") -> 125 | Z73: =CONCATENATE('Lane 6 Team'!F73," ",'Lane 6 Team'!G73) | AA73: ='Lane 6 Team'!H73 -> 0 | AC73: =DATEDIF(AA73,$A$1,"Y") -> 125
C74: 12 | E74: Swimmer 4 | F74: =CONCATENATE('Lane 1 Team'!F74," ",'Lane 1 Team'!G74) | G74: ='Lane 1 Team'!H74 -> 0 | I74: =DATEDIF(G74,$A$1,"Y") -> 125 | J74: =CONCATENATE('Lane 2 Team'!F74," ",'Lane 2 Team'!G74) | K74: ='Lane 2 Team'!H74 -> 0 | M74: =DATEDIF(K74,$A$1,"Y") -> 125 | N74: =CONCATENATE('Lane 3 Team'!F74," ",'Lane 3 Team'!G74) | O74: ='Lane 3 Team'!H74 -> 0 | Q74: =DATEDIF(O74,$A$1,"Y") -> 125 | R74: =CONCATENATE('Lane 4 Team'!F74," ",'Lane 4 Team'!G74) | S74: ='Lane 4 Team'!H74 -> 0 | U74: =DATEDIF(S74,$A$1,"Y") -> 125 | V74: =CONCATENATE('Lane 5 Team'!F74," ",'Lane 5 Team'!G74) | W74: ='Lane 5 Team'!H74 -> 0 | Y74: =DATEDIF(W74,$A$1,"Y") -> 125 | Z74: =CONCATENATE('Lane 6 Team'!F74," ",'Lane 6 Team'!G74) | AA74: ='Lane 6 Team'!H74 -> 0 | AC74: =DATEDIF(AA74,$A$1,"Y") -> 125
A75: 41 | B75: Mixed | D75: 8 x 25m | E75: Cannon Relay | F75: Relay | H75: =CONCATENATE(F76,", ",F77,", ",F78,", ",F79,", ",F80,", ",F81,", ",F82,", ",F83) -> , , , , , , , | J75: Relay | L75: =CONCATENATE(J76,", ",J77,", ",J78,", ",J79,", ",J80,", ",J81,", ",J82,", ",J83) -> , , , , , , , | N75: Relay | P75: =CONCATENATE(N76,", ",N77,", ",N78,", ",N79,", ",N80,", ",N81,", ",N82,", ",N83) -> , , , , , , , | R75: Relay | T75: =CONCATENATE(R76,", ",R77,", ",R78,", ",R79,", ",R80,", ",R81,", ",R82,", ",R83) -> , , , , , , , | V75: Relay | X75: =CONCATENATE(V76,", ",V77,", ",V78,", ",V79,", ",V80,", ",V81,", ",V82,", ",V83) -> , , , , , , , | Z75: Relay | AB75: =CONCATENATE(Z76,", ",Z77,", ",Z78,", ",Z79,", ",Z80,", ",Z81,", ",Z82,", ",Z83) -> , , , , , , ,
C76: 9 | E76: Swimmer 1 | F76: =CONCATENATE('Lane 1 Team'!F76," ",'Lane 1 Team'!G76) | G76: ='Lane 1 Team'!H76 -> 0 | I76: =DATEDIF(G76,$A$1,"Y") -> 125 | J76: =CONCATENATE('Lane 2 Team'!F76," ",'Lane 2 Team'!G76) | K76: ='Lane 2 Team'!H76 -> 0 | M76: =DATEDIF(K76,$A$1,"Y") -> 125 | N76: =CONCATENATE('Lane 3 Team'!F76," ",'Lane 3 Team'!G76) | O76: ='Lane 3 Team'!H76 -> 0 | Q76: =DATEDIF(O76,$A$1,"Y") -> 125 | R76: =CONCATENATE('Lane 4 Team'!F76," ",'Lane 4 Team'!G76) | S76: ='Lane 4 Team'!H76 -> 0 | U76: =DATEDIF(S76,$A$1,"Y") -> 125 | V76: =CONCATENATE('Lane 5 Team'!F76," ",'Lane 5 Team'!G76) | W76: ='Lane 5 Team'!H76 -> 0 | Y76: =DATEDIF(W76,$A$1,"Y") -> 125 | Z76: =CONCATENATE('Lane 6 Team'!F76," ",'Lane 6 Team'!G76) | AA76: ='Lane 6 Team'!H76 -> 0 | AC76: =DATEDIF(AA76,$A$1,"Y") -> 125
C77: 9 | E77: Swimmer 2 | F77: =CONCATENATE('Lane 1 Team'!F77," ",'Lane 1 Team'!G77) | G77: ='Lane 1 Team'!H77 -> 0 | I77: =DATEDIF(G77,$A$1,"Y") -> 125 | J77: =CONCATENATE('Lane 2 Team'!F77," ",'Lane 2 Team'!G77) | K77: ='Lane 2 Team'!H77 -> 0 | M77: =DATEDIF(K77,$A$1,"Y") -> 125 | N77: =CONCATENATE('Lane 3 Team'!F77," ",'Lane 3 Team'!G77) | O77: ='Lane 3 Team'!H77 -> 0 | Q77: =DATEDIF(O77,$A$1,"Y") -> 125 | R77: =CONCATENATE('Lane 4 Team'!F77," ",'Lane 4 Team'!G77) | S77: ='Lane 4 Team'!H77 -> 0 | U77: =DATEDIF(S77,$A$1,"Y") -> 125 | V77: =CONCATENATE('Lane 5 Team'!F77," ",'Lane 5 Team'!G77) | W77: ='Lane 5 Team'!H77 -> 0 | Y77: =DATEDIF(W77,$A$1,"Y") -> 125 | Z77: =CONCATENATE('Lane 6 Team'!F77," ",'Lane 6 Team'!G77) | AA77: ='Lane 6 Team'!H77 -> 0 | AC77: =DATEDIF(AA77,$A$1,"Y") -> 125
C78: 10 | E78: Swimmer 3 | F78: =CONCATENATE('Lane 1 Team'!F78," ",'Lane 1 Team'!G78) | G78: ='Lane 1 Team'!H78 -> 0 | I78: =DATEDIF(G78,$A$1,"Y") -> 125 | J78: =CONCATENATE('Lane 2 Team'!F78," ",'Lane 2 Team'!G78) | K78: ='Lane 2 Team'!H78 -> 0 | M78: =DATEDIF(K78,$A$1,"Y") -> 125 | N78: =CONCATENATE('Lane 3 Team'!F78," ",'Lane 3 Team'!G78) | O78: ='Lane 3 Team'!H78 -> 0 | Q78: =DATEDIF(O78,$A$1,"Y") -> 125 | R78: =CONCATENATE('Lane 4 Team'!F78," ",'Lane 4 Team'!G78) | S78: ='Lane 4 Team'!H78 -> 0 | U78: =DATEDIF(S78,$A$1,"Y") -> 125 | V78: =CONCATENATE('Lane 5 Team'!F78," ",'Lane 5 Team'!G78) | W78: ='Lane 5 Team'!H78 -> 0 | Y78: =DATEDIF(W78,$A$1,"Y") -> 125 | Z78: =CONCATENATE('Lane 6 Team'!F78," ",'Lane 6 Team'!G78) | AA78: ='Lane 6 Team'!H78 -> 0 | AC78: =DATEDIF(AA78,$A$1,"Y") -> 125
C79: 10 | E79: Swimmer 4 | F79: =CONCATENATE('Lane 1 Team'!F79," ",'Lane 1 Team'!G79) | G79: ='Lane 1 Team'!H79 -> 0 | I79: =DATEDIF(G79,$A$1,"Y") -> 125 | J79: =CONCATENATE('Lane 2 Team'!F79," ",'Lane 2 Team'!G79) | K79: ='Lane 2 Team'!H79 -> 0 | M79: =DATEDIF(K79,$A$1,"Y") -> 125 | N79: =CONCATENATE('Lane 3 Team'!F79," ",'Lane 3 Team'!G79) | O79: ='Lane 3 Team'!H79 -> 0 | Q79: =DATEDIF(O79,$A$1,"Y") -> 125 | R79: =CONCATENATE('Lane 4 Team'!F79," ",'Lane 4 Team'!G79) | S79: ='Lane 4 Team'!H79 -> 0 | U79: =DATEDIF(S79,$A$1,"Y") -> 125 | V79: =CONCATENATE('Lane 5 Team'!F79," ",'Lane 5 Team'!G79) | W79: ='Lane 5 Team'!H79 -> 0 | Y79: =DATEDIF(W79,$A$1,"Y") -> 125 | Z79: =CONCATENATE('Lane 6 Team'!F79," ",'Lane 6 Team'!G79) | AA79: ='Lane 6 Team'!H79 -> 0 | AC79: =DATEDIF(AA79,$A$1,"Y") -> 125
C80: 11 | E80: Swimmer 5 | F80: =CONCATENATE('Lane 1 Team'!F80," ",'Lane 1 Team'!G80) | G80: ='Lane 1 Team'!H80 -> 0 | I80: =DATEDIF(G80,$A$1,"Y") -> 125 | J80: =CONCATENATE('Lane 2 Team'!F80," ",'Lane 2 Team'!G80) | K80: ='Lane 2 Team'!H80 -> 0 | M80: =DATEDIF(K80,$A$1,"Y") -> 125 | N80: =CONCATENATE('Lane 3 Team'!F80," ",'Lane 3 Team'!G80) | O80: ='Lane 3 Team'!H80 -> 0 | Q80: =DATEDIF(O80,$A$1,"Y") -> 125 | R80: =CONCATENATE('Lane 4 Team'!F80," ",'Lane 4 Team'!G80) | S80: ='Lane 4 Team'!H80 -> 0 | U80: =DATEDIF(S80,$A$1,"Y") -> 125 | V80: =CONCATENATE('Lane 5 Team'!F80," ",'Lane 5 Team'!G80) | W80: ='Lane 5 Team'!H80 -> 0 | Y80: =DATEDIF(W80,$A$1,"Y") -> 125 | Z80: =CONCATENATE('Lane 6 Team'!F80," ",'Lane 6 Team'!G80) | AA80: ='Lane 6 Team'!H80 -> 0 | AC80: =DATEDIF(AA80,$A$1,"Y") -> 125
C81: 11 | E81: Swimmer 6 | F81: =CONCATENATE('Lane 1 Team'!F81," ",'Lane 1 Team'!G81) | G81: ='Lane 1 Team'!H81 -> 0 | I81: =DATEDIF(G81,$A$1,"Y") -> 125 | J81: =CONCATENATE('Lane 2 Team'!F81," ",'Lane 2 Team'!G81) | K81: ='Lane 2 Team'!H81 -> 0 | M81: =DATEDIF(K81,$A$1,"Y") -> 125 | N81: =CONCATENATE('Lane 3 Team'!F81," ",'Lane 3 Team'!G81) | O81: ='Lane 3 Team'!H81 -> 0 | Q81: =DATEDIF(O81,$A$1,"Y") -> 125 | R81: =CONCATENATE('Lane 4 Team'!F81," ",'Lane 4 Team'!G81) | S81: ='Lane 4 Team'!H81 -> 0 | U81: =DATEDIF(S81,$A$1,"Y") -> 125 | V81: =CONCATENATE('Lane 5 Team'!F81," ",'Lane 5 Team'!G81) | W81: ='Lane 5 Team'!H81 -> 0 | Y81: =DATEDIF(W81,$A$1,"Y") -> 125 | Z81: =CONCATENATE('Lane 6 Team'!F81," ",'Lane 6 Team'!G81) | AA81: ='Lane 6 Team'!H81 -> 0 | AC81: =DATEDIF(AA81,$A$1,"Y") -> 125
C82: 12 | E82: Swimmer 7 | F82: =CONCATENATE('Lane 1 Team'!F82," ",'Lane 1 Team'!G82) | G82: ='Lane 1 Team'!H82 -> 0 | I82: =DATEDIF(G82,$A$1,"Y") -> 125 | J82: =CONCATENATE('Lane 2 Team'!F82," ",'Lane 2 Team'!G82) | K82: ='Lane 2 Team'!H82 -> 0 | M82: =DATEDIF(K82,$A$1,"Y") -> 125 | N82: =CONCATENATE('Lane 3 Team'!F82," ",'Lane 3 Team'!G82) | O82: ='Lane 3 Team'!H82 -> 0 | Q82: =DATEDIF(O82,$A$1,"Y") -> 125 | R82: =CONCATENATE('Lane 4 Team'!F82," ",'Lane 4 Team'!G82) | S82: ='Lane 4 Team'!H82 -> 0 | U82: =DATEDIF(S82,$A$1,"Y") -> 125 | V82: =CONCATENATE('Lane 5 Team'!F82," ",'Lane 5 Team'!G82) | W82: ='Lane 5 Team'!H82 -> 0 | Y82: =DATEDIF(W82,$A$1,"Y") -> 125 | Z82: =CONCATENATE('Lane 6 Team'!F82," ",'Lane 6 Team'!G82) | AA82: ='Lane 6 Team'!H82 -> 0 | AC82: =DATEDIF(AA82,$A$1,"Y") -> 125
C83: 12 | E83: Swimmer 8 | F83: =CONCATENATE('Lane 1 Team'!F83," ",'Lane 1 Team'!G83) | G83: ='Lane 1 Team'!H83 -> 0 | I83: =DATEDIF(G83,$A$1,"Y") -> 125 | J83: =CONCATENATE('Lane 2 Team'!F83," ",'Lane 2 Team'!G83) | K83: ='Lane 2 Team'!H83 -> 0 | M83: =DATEDIF(K83,$A$1,"Y") -> 125 | N83: =CONCATENATE('Lane 3 Team'!F83," ",'Lane 3 Team'!G83) | O83: ='Lane 3 Team'!H83 -> 0 | Q83: =DATEDIF(O83,$A$1,"Y") -> 125 | R83: =CONCATENATE('Lane 4 Team'!F83," ",'Lane 4 Team'!G83) | S83: ='Lane 4 Team'!H83 -> 0 | U83: =DATEDIF(S83,$A$1,"Y") -> 125 | V83: =CONCATENATE('Lane 5 Team'!F83," ",'Lane 5 Team'!G83) | W83: ='Lane 5 Team'!H83 -> 0 | Y83: =DATEDIF(W83,$A$1,"Y") -> 125 | Z83: =CONCATENATE('Lane 6 Team'!F83," ",'Lane 6 Team'!G83) | AA83: ='Lane 6 Team'!H83 -> 0 | AC83: =DATEDIF(AA83,$A$1,"Y") -> 125

Sheet Swimmer Check (Swim England)
B2: Lane No. | C2: Event No | D2: Gender | E2: Forename | F2: Surname | G2: Club | H2: dob | I2: reg no. | J2: dob formatted | L2: Swimmer Check information
B3: 1 | C3: ='Results - Derby and Notts'!A14 -> 5 | D3: =IF(LEFT('Results - Derby and Notts'!E14,1)="O","M",IF(LEFT('Results - Derby and Notts'!E14,1)="F","F",IF(LEFT('Results - Derby and Notts'!E14,1)="B","M",IF(LEFT('Results - Derby and Notts'!E14,1)="G","F","ERROR")))) -> M | E3: =PROPER('Lane 1 Team'!F23) | F3: =PROPER('Lane 1 Team'!G23) | G3: =VLOOKUP(Instructions!$C$27,Clubs,3,FALSE) -> #N/A | H3: ='Lane 1 Team'!H23 -> 0 | I3: ='Lane 1 Team'!I23 -> 0 | J3: =(TEXT(H3,"YYYY/MM/DD")) -> 1900/01/00 | L3: =CONCATENATE(F3,",",E3,",",J3,",",G3,",",D3,",",I3,",,,,") -> #N/A | N3: You can use this information to copy and paste out to a text file (name the file anything.txt). This file can then be imported into the online competitor check system found on the link below to check the swimmers infromation is correct with the online membership systems. https://www.swimmingresults.org/competitionentrycheck/
B4: 1 | C4: ='Results - Derby and Notts'!A16 -> 6 | D4: =IF(LEFT('Results - Derby and Notts'!E16,1)="O","M",IF(LEFT('Results - Derby and Notts'!E16,1)="F","F",IF(LEFT('Results - Derby and Notts'!E16,1)="B","M",IF(LEFT('Results - Derby and Notts'!E16,1)="G","F","ERROR")))) -> F | E4: =PROPER('Lane 1 Team'!F24) | F4: =PROPER('Lane 1 Team'!G24) | G4: =VLOOKUP(Instructions!$C$27,Clubs,3,FALSE) -> #N/A | H4: ='Lane 1 Team'!H24 -> 0 | I4: ='Lane 1 Team'!I24 -> 0 | J4: =(TEXT(H4,"YYYY/MM/DD")) -> 1900/01/00 | L4: =CONCATENATE(F4,",",E4,",",J4,",",G4,",",D4,",",I4,",,,,") -> #N/A
B5: 1 | C5: ='Results - Derby and Notts'!A18 -> 7 | D5: =IF(LEFT('Results - Derby and Notts'!E18,1)="O","M",IF(LEFT('Results - Derby and Notts'!E18,1)="F","F",IF(LEFT('Results - Derby and Notts'!E18,1)="B","M",IF(LEFT('Results - Derby and Notts'!E18,1)="G","F","ERROR")))) -> M | E5: =PROPER('Lane 1 Team'!F25) | F5: =PROPER('Lane 1 Team'!G25) | G5: =VLOOKUP(Instructions!$C$27,Clubs,3,FALSE) -> #N/A | H5: ='Lane 1 Team'!H25 -> 0 | I5: ='Lane 1 Team'!I25 -> 0 | J5: =(TEXT(H5,"YYYY/MM/DD")) -> 1900/01/00 | L5: =CONCATENATE(F5,",",E5,",",J5,",",G5,",",D5,",",I5,",,,,") -> #N/A
B6: 1 | C6: ='Results - Derby and Notts'!A20 -> 8 | D6: =IF(LEFT('Results - Derby and Notts'!E20,1)="O","M",IF(LEFT('Results - Derby and Notts'!E20,1)="F","F",IF(LEFT('Results - Derby and Notts'!E20,1)="B","M",IF(LEFT('Results - Derby and Notts'!E20,1)="G","F","ERROR")))) -> F | E6: =PROPER('Lane 1 Team'!F26) | F6: =PROPER('Lane 1 Team'!G26) | G6: =VLOOKUP(Instructions!$C$27,Clubs,3,FALSE) -> #N/A | H6: ='Lane 1 Team'!H26 -> 0 | I6: ='Lane 1 Team'!I26 -> 0 | J6: =(TEXT(H6,"YYYY/MM/DD")) -> 1900/01/00 | L6: =CONCATENATE(F6,",",E6,",",J6,",",G6,",",D6,",",I6,",,,,") -> #N/A
B7: 1 | C7: ='Results - Derby and Notts'!A22 -> 9 | D7: =IF(LEFT('Results - Derby and Notts'!E22,1)="O","M",IF(LEFT('Results - Derby and Notts'!E22,1)="F","F",IF(LEFT('Results - Derby and Notts'!E22,1)="B","M",IF(LEFT('Results - Derby and Notts'!E22,1)="G","F","ERROR")))) -> M | E7: =PROPER('Lane 1 Team'!F27) | F7: =PROPER('Lane 1 Team'!G27) | G7: =VLOOKUP(Instructions!$C$27,Clubs,3,FALSE) -> #N/A | H7: ='Lane 1 Team'!H27 -> 0 | I7: ='Lane 1 Team'!I27 -> 0 | J7: =(TEXT(H7,"YYYY/MM/DD")) -> 1900/01/00 | L7: =CONCATENATE(F7,",",E7,",",J7,",",G7,",",D7,",",I7,",,,,") -> #N/A
B8: 1 | C8: ='Results - Derby and Notts'!A24 -> 10 | D8: =IF(LEFT('Results - Derby and Notts'!E24,1)="O","M",IF(LEFT('Results - Derby and Notts'!E24,1)="F","F",IF(LEFT('Results - Derby and Notts'!E24,1)="B","M",IF(LEFT('Results - Derby and Notts'!E24,1)="G","F","ERROR")))) -> F | E8: =PROPER('Lane 1 Team'!F28) | F8: =PROPER('Lane 1 Team'!G28) | G8: =VLOOKUP(Instructions!$C$27,Clubs,3,FALSE) -> #N/A | H8: ='Lane 1 Team'!H28 -> 0 | I8: ='Lane 1 Team'!I28 -> 0 | J8: =(TEXT(H8,"YYYY/MM/DD")) -> 1900/01/00 | L8: =CONCATENATE(F8,",",E8,",",J8,",",G8,",",D8,",",I8,",,,,") -> #N/A
B9: 1 | C9: ='Results - Derby and Notts'!A26 -> 11 | D9: =IF(LEFT('Results - Derby and Notts'!E26,1)="O","M",IF(LEFT('Results - Derby and Notts'!E26,1)="F","F",IF(LEFT('Results - Derby and Notts'!E26,1)="B","M",IF(LEFT('Results - Derby and Notts'!E26,1)="G","F","ERROR")))) -> M | E9: =PROPER('Lane 1 Team'!F29) | F9: =PROPER('Lane 1 Team'!G29) | G9: =VLOOKUP(Instructions!$C$27,Clubs,3,FALSE) -> #N/A | H9: ='Lane 1 Team'!H29 -> 0 | I9: ='Lane 1 Team'!I29 -> 0 | J9: =(TEXT(H9,"YYYY/MM/DD")) -> 1900/01/00 | L9: =CONCATENATE(F9,",",E9,",",J9,",",G9,",",D9,",",I9,",,,,") -> #N/A
B10: 1 | C10: ='Results - Derby and Notts'!A28 -> 12 | D10: =IF(LEFT('Results - Derby and Notts'!E28,1)="O","M",IF(LEFT('Results - Derby and Notts'!E28,1)="F","F",IF(LEFT('Results - Derby and Notts'!E28,1)="B","M",IF(LEFT('Results - Derby and Notts'!E28,1)="G","F","ERROR")))) -> F | E10: =PROPER('Lane 1 Team'!F30) | F10: =PROPER('Lane 1 Team'!G30) | G10: =VLOOKUP(Instructions!$C$27,Clubs,3,FALSE) -> #N/A | H10: ='Lane 1 Team'!H30 -> 0 | I10: ='Lane 1 Team'!I30 -> 0 | J10: =(TEXT(H10,"YYYY/MM/DD")) -> 1900/01/00 | L10: =CONCATENATE(F10,",",E10,",",J10,",",G10,",",D10,",",I10,",,,,") -> #N/A
B11: 1 | C11: ='Results - Derby and Notts'!A30 -> 13 | D11: =IF(LEFT('Results - Derby and Notts'!E30,1)="O","M",IF(LEFT('Results - Derby and Notts'!E30,1)="F","F",IF(LEFT('Results - Derby and Notts'!E30,1)="B","M",IF(LEFT('Results - Derby and Notts'!E30,1)="G","F","ERROR")))) -> M | E11: =PROPER('Lane 1 Team'!F31) | F11: =PROPER('Lane 1 Team'!G31) | G11: =VLOOKUP(Instructions!$C$27,Clubs,3,FALSE) -> #N/A | H11: ='Lane 1 Team'!H31 -> 0 | I11: ='Lane 1 Team'!I31 -> 0 | J11: =(TEXT(H11,"YYYY/MM/DD")) -> 1900/01/00 | L11: =CONCATENATE(F11,",",E11,",",J11,",",G11,",",D11,",",I11,",,,,") -> #N/A
B12: 1 | C12: ='Results - Derby and Notts'!A32 -> 14 | D12: =IF(LEFT('Results - Derby and Notts'!E32,1)="O","M",IF(LEFT('Results - Derby and Notts'!E32,1)="F","F",IF(LEFT('Results - Derby and Notts'!E32,1)="B","M",IF(LEFT('Results - Derby and Notts'!E32,1)="G","F","ERROR")))) -> F | E12: =PROPER('Lane 1 Team'!F32) | F12: =PROPER('Lane 1 Team'!G32) | G12: =VLOOKUP(Instructions!$C$27,Clubs,3,FALSE) -> #N/A | H12: ='Lane 1 Team'!H32 -> 0 | I12: ='Lane 1 Team'!I32 -> 0 | J12: =(TEXT(H12,"YYYY/MM/DD")) -> 1900/01/00 | L12: =CONCATENATE(F12,",",E12,",",J12,",",G12,",",D12,",",I12,",,,,") -> #N/A
B13: 1 | C13: ='Results - Derby and Notts'!A34 -> 15 | D13: =IF(LEFT('Results - Derby and Notts'!E34,1)="O","M",IF(LEFT('Results - Derby and Notts'!E34,1)="F","F",IF(LEFT('Results - Derby and Notts'!E34,1)="B","M",IF(LEFT('Results - Derby and Notts'!E34,1)="G","F","ERROR")))) -> M | E13: =PROPER('Lane 1 Team'!F33) | F13: =PROPER('Lane 1 Team'!G33) | G13: =VLOOKUP(Instructions!$C$27,Clubs,3,FALSE) -> #N/A | H13: ='Lane 1 Team'!H33 -> 0 | I13: ='Lane 1 Team'!I33 -> 0 | J13: =(TEXT(H13,"YYYY/MM/DD")) -> 1900/01/00 | L13: =CONCATENATE(F13,",",E13,",",J13,",",G13,",",D13,",",I13,",,,,") -> #N/A
B14: 1 | C14: ='Results - Derby and Notts'!A36 -> 16 | D14: =IF(LEFT('Results - Derby and Notts'!E36,1)="O","M",IF(LEFT('Results - Derby and Notts'!E36,1)="F","F",IF(LEFT('Results - Derby and Notts'!E36,1)="B","M",IF(LEFT('Results - Derby and Notts'!E36,1)="G","F","ERROR")))) -> F | E14: =PROPER('Lane 1 Team'!F34) | F14: =PROPER('Lane 1 Team'!G34) | G14: =VLOOKUP(Instructions!$C$27,Clubs,3,FALSE) -> #N/A | H14: ='Lane 1 Team'!H34 -> 0 | I14: ='Lane 1 Team'!I34 -> 0 | J14: =(TEXT(H14,"YYYY/MM/DD")) -> 1900/01/00 | L14: =CONCATENATE(F14,",",E14,",",J14,",",G14,",",D14,",",I14,",,,,") -> #N/A
B15: 1 | C15: ='Results - Derby and Notts'!A38 -> 17 | D15: =IF(LEFT('Results - Derby and Notts'!E38,1)="O","M",IF(LEFT('Results - Derby and Notts'!E38,1)="F","F",IF(LEFT('Results - Derby and Notts'!E38,1)="B","M",IF(LEFT('Results - Derby and Notts'!E38,1)="G","F","ERROR")))) -> M | E15: =PROPER('Lane 1 Team'!F35) | F15: =PROPER('Lane 1 Team'!G35) | G15: =VLOOKUP(Instructions!$C$27,Clubs,3,FALSE) -> #N/A | H15: ='Lane 1 Team'!H35 -> 0 | I15: ='Lane 1 Team'!I35 -> 0 | J15: =(TEXT(H15,"YYYY/MM/DD")) -> 1900/01/00 | L15: =CONCATENATE(F15,",",E15,",",J15,",",G15,",",D15,",",I15,",,,,") -> #N/A
B16: 1 | C16: ='Results - Derby and Notts'!A40 -> 18 | D16: =IF(LEFT('Results - Derby and Notts'!E40,1)="O","M",IF(LEFT('Results - Derby and Notts'!E40,1)="F","F",IF(LEFT('Results - Derby and Notts'!E40,1)="B","M",IF(LEFT('Results - Derby and Notts'!E40,1)="G","F","ERROR")))) -> F | E16: =PROPER('Lane 1 Team'!F36) | F16: =PROPER('Lane 1 Team'!G36) | G16: =VLOOKUP(Instructions!$C$27,Clubs,3,FALSE) -> #N/A | H16: ='Lane 1 Team'!H36 -> 0 | I16: ='Lane 1 Team'!I36 -> 0 | J16: =(TEXT(H16,"YYYY/MM/DD")) -> 1900/01/00 | L16: =CONCATENATE(F16,",",E16,",",J16,",",G16,",",D16,",",I16,",,,,") -> #N/A
B17: 1 | C17: ='Results - Derby and Notts'!A42 -> 19 | D17: =IF(LEFT('Results - Derby and Notts'!E42,1)="O","M",IF(LEFT('Results - Derby and Notts'!E42,1)="F","F",IF(LEFT('Results - Derby and Notts'!E42,1)="B","M",IF(LEFT('Results - Derby and Notts'!E42,1)="G","F","ERROR")))) -> M | E17: =PROPER('Lane 1 Team'!F37) | F17: =PROPER('Lane 1 Team'!G37) | G17: =VLOOKUP(Instructions!$C$27,Clubs,3,FALSE) -> #N/A | H17: ='Lane 1 Team'!H37 -> 0 | I17: ='Lane 1 Team'!I37 -> 0 | J17: =(TEXT(H17,"YYYY/MM/DD")) -> 1900/01/00 | L17: =CONCATENATE(F17,",",E17,",",J17,",",G17,",",D17,",",I17,",,,,") -> #N/A
B18: 1 | C18: ='Results - Derby and Notts'!A44 -> 20 | D18: =IF(LEFT('Results - Derby and Notts'!E44,1)="O","M",IF(LEFT('Results - Derby and Notts'!E44,1)="F","F",IF(LEFT('Results - Derby and Notts'!E44,1)="B","M",IF(LEFT('Results - Derby and Notts'!E44,1)="G","F","ERROR")))) -> F | E18: =PROPER('Lane 1 Team'!F38) | F18: =PROPER('Lane 1 Team'!G38) | G18: =VLOOKUP(Instructions!$C$27,Clubs,3,FALSE) -> #N/A | H18: ='Lane 1 Team'!H38 -> 0 | I18: ='Lane 1 Team'!I38 -> 0 | J18: =(TEXT(H18,"YYYY/MM/DD")) -> 1900/01/00 | L18: =CONCATENATE(F18,",",E18,",",J18,",",G18,",",D18,",",I18,",,,,") -> #N/A
B19: 1 | C19: ='Results - Derby and Notts'!A46 -> 21 | D19: =IF(LEFT('Results - Derby and Notts'!E46,1)="O","M",IF(LEFT('Results - Derby and Notts'!E46,1)="F","F",IF(LEFT('Results - Derby and Notts'!E46,1)="B","M",IF(LEFT('Results - Derby and Notts'!E46,1)="G","F","ERROR")))) -> M | E19: =PROPER('Lane 1 Team'!F39) | F19: =PROPER('Lane 1 Team'!G39) | G19: =VLOOKUP(Instructions!$C$27,Clubs,3,FALSE) -> #N/A | H19: ='Lane 1 Team'!H39 -> 0 | I19: ='Lane 1 Team'!I39 -> 0 | J19: =(TEXT(H19,"YYYY/MM/DD")) -> 1900/01/00 | L19: =CONCATENATE(F19,",",E19,",",J19,",",G19,",",D19,",",I19,",,,,") -> #N/A
B20: 1 | C20: ='Results - Derby and Notts'!A48 -> 22 | D20: =IF(LEFT('Results - Derby and Notts'!E48,1)="O","M",IF(LEFT('Results - Derby and Notts'!E48,1)="F","F",IF(LEFT('Results - Derby and Notts'!E48,1)="B","M",IF(LEFT('Results - Derby and Notts'!E48,1)="G","F","ERROR")))) -> F | E20: =PROPER('Lane 1 Team'!F40) | F20: =PROPER('Lane 1 Team'!G40) | G20: =VLOOKUP(Instructions!$C$27,Clubs,3,FALSE) -> #N/A | H20: ='Lane 1 Team'!H40 -> 0 | I20: ='Lane 1 Team'!I40 -> 0 | J20: =(TEXT(H20,"YYYY/MM/DD")) -> 1900/01/00 | L20: =CONCATENATE(F20,",",E20,",",J20,",",G20,",",D20,",",I20,",,,,") -> #N/A
B21: 1 | C21: ='Results - Derby and Notts'!A50 -> 23 | D21: =IF(LEFT('Results - Derby and Notts'!E50,1)="O","M",IF(LEFT('Results - Derby and Notts'!E50,1)="F","F",IF(LEFT('Results - Derby and Notts'!E50,1)="B","M",IF(LEFT('Results - Derby and Notts'!E50,1)="G","F","ERROR")))) -> M | E21: =PROPER('Lane 1 Team'!F41) | F21: =PROPER('Lane 1 Team'!G41) | G21: =VLOOKUP(Instructions!$C$27,Clubs,3,FALSE) -> #N/A | H21: ='Lane 1 Team'!H41 -> 0 | I21: ='Lane 1 Team'!I41 -> 0 | J21: =(TEXT(H21,"YYYY/MM/DD")) -> 1900/01/00 | L21: =CONCATENATE(F21,",",E21,",",J21,",",G21,",",D21,",",I21,",,,,") -> #N/A
B22: 1 | C22: ='Results - Derby and Notts'!A52 -> 24 | D22: =IF(LEFT('Results - Derby and Notts'!E52,1)="O","M",IF(LEFT('Results - Derby and Notts'!E52,1)="F","F",IF(LEFT('Results - Derby and Notts'!E52,1)="B","M",IF(LEFT('Results - Derby and Notts'!E52,1)="G","F","ERROR")))) -> F | E22: =PROPER('Lane 1 Team'!F42) | F22: =PROPER('Lane 1 Team'!G42) | G22: =VLOOKUP(Instructions!$C$27,Clubs,3,FALSE) -> #N/A | H22: ='Lane 1 Team'!H42 -> 0 | I22: ='Lane 1 Team'!I42 -> 0 | J22: =(TEXT(H22,"YYYY/MM/DD")) -> 1900/01/00 | L22: =CONCATENATE(F22,",",E22,",",J22,",",G22,",",D22,",",I22,",,,,") -> #N/A
B23: 1 | C23: ='Results - Derby and Notts'!A54 -> 25 | D23: =IF(LEFT('Results - Derby and Notts'!E54,1)="O","M",IF(LEFT('Results - Derby and Notts'!E54,1)="F","F",IF(LEFT('Results - Derby and Notts'!E54,1)="B","M",IF(LEFT('Results - Derby and Notts'!E54,1)="G","F","ERROR")))) -> M | E23: =PROPER('Lane 1 Team'!F43) | F23: =PROPER('Lane 1 Team'!G43) | G23: =VLOOKUP(Instructions!$C$27,Clubs,3,FALSE) -> #N/A | H23: ='Lane 1 Team'!H43 -> 0 | I23: ='Lane 1 Team'!I43 -> 0 | J23: =(TEXT(H23,"YYYY/MM/DD")) -> 1900/01/00 | L23: =CONCATENATE(F23,",",E23,",",J23,",",G23,",",D23,",",I23,",,,,") -> #N/A
B24: 1 | C24: ='Results - Derby and Notts'!A56 -> 26 | D24: =IF(LEFT('Results - Derby and Notts'!E56,1)="O","M",IF(LEFT('Results - Derby and Notts'!E56,1)="F","F",IF(LEFT('Results - Derby and Notts'!E56,1)="B","M",IF(LEFT('Results - Derby and Notts'!E56,1)="G","F","ERROR")))) -> F | E24: =PROPER('Lane 1 Team'!F44) | F24: =PROPER('Lane 1 Team'!G44) | G24: =VLOOKUP(Instructions!$C$27,Clubs,3,FALSE) -> #N/A | H24: ='Lane 1 Team'!H44 -> 0 | I24: ='Lane 1 Team'!I44 -> 0 | J24: =(TEXT(H24,"YYYY/MM/DD")) -> 1900/01/00 | L24: =CONCATENATE(F24,",",E24,",",J24,",",G24,",",D24,",",I24,",,,,") -> #N/A
B25: 1 | C25: ='Results - Derby and Notts'!A58 -> 27 | D25: =IF(LEFT('Results - Derby and Notts'!E58,1)="O","M",IF(LEFT('Results - Derby and Notts'!E58,1)="F","F",IF(LEFT('Results - Derby and Notts'!E58,1)="B","M",IF(LEFT('Results - Derby and Notts'!E58,1)="G","F","ERROR")))) -> M | E25: =PROPER('Lane 1 Team'!F45) | F25: =PROPER('Lane 1 Team'!G45) | G25: =VLOOKUP(Instructions!$C$27,Clubs,3,FALSE) -> #N/A | H25: ='Lane 1 Team'!H45 -> 0 | I25: ='Lane 1 Team'!I45 -> 0 | J25: =(TEXT(H25,"YYYY/MM/DD")) -> 1900/01/00 | L25: =CONCATENATE(F25,",",E25,",",J25,",",G25,",",D25,",",I25,",,,,") -> #N/A
B26: 1 | C26: ='Results - Derby and Notts'!A60 -> 28 | D26: =IF(LEFT('Results - Derby and Notts'!E60,1)="O","M",IF(LEFT('Results - Derby and Notts'!E60,1)="F","F",IF(LEFT('Results - Derby and Notts'!E60,1)="B","M",IF(LEFT('Results - Derby and Notts'!E60,1)="G","F","ERROR")))) -> F | E26: =PROPER('Lane 1 Team'!F46) | F26: =PROPER('Lane 1 Team'!G46) | G26: =VLOOKUP(Instructions!$C$27,Clubs,3,FALSE) -> #N/A | H26: ='Lane 1 Team'!H46 -> 0 | I26: ='Lane 1 Team'!I46 -> 0 | J26: =(TEXT(H26,"YYYY/MM/DD")) -> 1900/01/00 | L26: =CONCATENATE(F26,",",E26,",",J26,",",G26,",",D26,",",I26,",,,,") -> #N/A
B27: 1 | C27: ='Results - Derby and Notts'!A62 -> 29 | D27: =IF(LEFT('Results - Derby and Notts'!E62,1)="O","M",IF(LEFT('Results - Derby and Notts'!E62,1)="F","F",IF(LEFT('Results - Derby and Notts'!E62,1)="B","M",IF(LEFT('Results - Derby and Notts'!E62,1)="G","F","ERROR")))) -> M | E27: =PROPER('Lane 1 Team'!F47) | F27: =PROPER('Lane 1 Team'!G47) | G27: =VLOOKUP(Instructions!$C$27,Clubs,3,FALSE) -> #N/A | H27: ='Lane 1 Team'!H47 -> 0 | I27: ='Lane 1 Team'!I47 -> 0 | J27: =(TEXT(H27,"YYYY/MM/DD")) -> 1900/01/00 | L27: =CONCATENATE(F27,",",E27,",",J27,",",G27,",",D27,",",I27,",,,,") -> #N/A
B28: 1 | C28: ='Results - Derby and Notts'!A64 -> 30 | D28: =IF(LEFT('Results - Derby and Notts'!E64,1)="O","M",IF(LEFT('Results - Derby and Notts'!E64,1)="F","F",IF(LEFT('Results - Derby and Notts'!E64,1)="B","M",IF(LEFT('Results - Derby and Notts'!E64,1)="G","F","ERROR")))) -> F | E28: =PROPER('Lane 1 Team'!F48) | F28: =PROPER('Lane 1 Team'!G48) | G28: =VLOOKUP(Instructions!$C$27,Clubs,3,FALSE) -> #N/A | H28: ='Lane 1 Team'!H48 -> 0 | I28: ='Lane 1 Team'!I48 -> 0 | J28: =(TEXT(H28,"YYYY/MM/DD")) -> 1900/01/00 | L28: =CONCATENATE(F28,",",E28,",",J28,",",G28,",",D28,",",I28,",,,,") -> #N/A
B29: 1 | C29: ='Results - Derby and Notts'!A66 -> 31 | D29: =IF(LEFT('Results - Derby and Notts'!E66,1)="O","M",IF(LEFT('Results - Derby and Notts'!E66,1)="F","F",IF(LEFT('Results - Derby and Notts'!E66,1)="B","M",IF(LEFT('Results - Derby and Notts'!E66,1)="G","F","ERROR")))) -> M | E29: =PROPER('Lane 1 Team'!F49) | F29: =PROPER('Lane 1 Team'!G49) | G29: =VLOOKUP(Instructions!$C$27,Clubs,3,FALSE) -> #N/A | H29: ='Lane 1 Team'!H49 -> 0 | I29: ='Lane 1 Team'!I49 -> 0 | J29: =(TEXT(H29,"YYYY/MM/DD")) -> 1900/01/00 | L29: =CONCATENATE(F29,",",E29,",",J29,",",G29,",",D29,",",I29,",,,,") -> #N/A
B30: 1 | C30: ='Results - Derby and Notts'!A68 -> 32 | D30: =IF(LEFT('Results - Derby and Notts'!E68,1)="O","M",IF(LEFT('Results - Derby and Notts'!E68,1)="F","F",IF(LEFT('Results - Derby and Notts'!E68,1)="B","M",IF(LEFT('Results - Derby and Notts'!E68,1)="G","F","ERROR")))) -> F | E30: =PROPER('Lane 1 Team'!F50) | F30: =PROPER('Lane 1 Team'!G50) | G30: =VLOOKUP(Instructions!$C$27,Clubs,3,FALSE) -> #N/A | H30: ='Lane 1 Team'!H50 -> 0 | I30: ='Lane 1 Team'!I50 -> 0 | J30: =(TEXT(H30,"YYYY/MM/DD")) -> 1900/01/00 | L30: =CONCATENATE(F30,",",E30,",",J30,",",G30,",",D30,",",I30,",,,,") -> #N/A
B31: 1 | C31: ='Results - Derby and Notts'!A70 -> 33 | D31: =IF(LEFT('Results - Derby and Notts'!E70,1)="O","M",IF(LEFT('Results - Derby and Notts'!E70,1)="F","F",IF(LEFT('Results - Derby and Notts'!E70,1)="B","M",IF(LEFT('Results - Derby and Notts'!E70,1)="G","F","ERROR")))) -> M | E31: =PROPER('Lane 1 Team'!F51) | F31: =PROPER('Lane 1 Team'!G51) | G31: =VLOOKUP(Instructions!$C$27,Clubs,3,FALSE) -> #N/A | H31: ='Lane 1 Team'!H51 -> 0 | I31: ='Lane 1 Team'!I51 -> 0 | J31: =(TEXT(H31,"YYYY/MM/DD")) -> 1900/01/00 | L31: =CONCATENATE(F31,",",E31,",",J31,",",G31,",",D31,",",I31,",,,,") -> #N/A
B32: 1 | C32: ='Results - Derby and Notts'!A72 -> 34 | D32: =IF(LEFT('Results - Derby and Notts'!E72,1)="O","M",IF(LEFT('Results - Derby and Notts'!E72,1)="F","F",IF(LEFT('Results - Derby and Notts'!E72,1)="B","M",IF(LEFT('Results - Derby and Notts'!E72,1)="G","F","ERROR")))) -> F | E32: =PROPER('Lane 1 Team'!F52) | F32: =PROPER('Lane 1 Team'!G52) | G32: =VLOOKUP(Instructions!$C$27,Clubs,3,FALSE) -> #N/A | H32: ='Lane 1 Team'!H52 -> 0 | I32: ='Lane 1 Team'!I52 -> 0 | J32: =(TEXT(H32,"YYYY/MM/DD")) -> 1900/01/00 | L32: =CONCATENATE(F32,",",E32,",",J32,",",G32,",",D32,",",I32,",,,,") -> #N/A
B33: 1 | C33: ='Results - Derby and Notts'!A74 -> 35 | D33: =IF(LEFT('Results - Derby and Notts'!E74,1)="O","M",IF(LEFT('Results - Derby and Notts'!E74,1)="F","F",IF(LEFT('Results - Derby and Notts'!E74,1)="B","M",IF(LEFT('Results - Derby and Notts'!E74,1)="G","F","ERROR")))) -> M | E33: =PROPER('Lane 1 Team'!F53) | F33: =PROPER('Lane 1 Team'!G53) | G33: =VLOOKUP(Instructions!$C$27,Clubs,3,FALSE) -> #N/A | H33: ='Lane 1 Team'!H53 -> 0 | I33: ='Lane 1 Team'!I53 -> 0 | J33: =(TEXT(H33,"YYYY/MM/DD")) -> 1900/01/00 | L33: =CONCATENATE(F33,",",E33,",",J33,",",G33,",",D33,",",I33,",,,,") -> #N/A
B34: 1 | C34: ='Results - Derby and Notts'!A76 -> 36 | D34: =IF(LEFT('Results - Derby and Notts'!E76,1)="O","M",IF(LEFT('Results - Derby and Notts'!E76,1)="F","F",IF(LEFT('Results - Derby and Notts'!E76,1)="B","M",IF(LEFT('Results - Derby and Notts'!E76,1)="G","F","ERROR")))) -> F | E34: =PROPER('Lane 1 Team'!F54) | F34: =PROPER('Lane 1 Team'!G54) | G34: =VLOOKUP(Instructions!$C$27,Clubs,3,FALSE) -> #N/A | H34: ='Lane 1 Team'!H54 -> 0 | I34: ='Lane 1 Team'!I54 -> 0 | J34: =(TEXT(H34,"YYYY/MM/DD")) -> 1900/01/00 | L34: =CONCATENATE(F34,",",E34,",",J34,",",G34,",",D34,",",I34,",,,,") -> #N/A
B35: 2 | C35: ='Results - Derby and Notts'!A14 -> 5 | D35: =IF(LEFT('Results - Derby and Notts'!E14,1)="O","M",IF(LEFT('Results - Derby and Notts'!E14,1)="F","F",IF(LEFT('Results - Derby and Notts'!E14,1)="B","M",IF(LEFT('Results - Derby and Notts'!E14,1)="G","F","ERROR")))) -> M | E35: =PROPER('Lane 2 Team'!F23) | F35: =PROPER('Lane 2 Team'!G23) | G35: =VLOOKUP(Instructions!$F$27,Clubs,3,FALSE) -> #N/A | H35: ='Lane 2 Team'!H23 -> 0 | I35: ='Lane 2 Team'!I23 -> 0 | J35: =(TEXT(H35,"YYYY/MM/DD")) -> 1900/01/00 | L35: =CONCATENATE(F35,",",E35,",",J35,",",G35,",",D35,",",I35,",,,,") -> #N/A
B36: 2 | C36: ='Results - Derby and Notts'!A16 -> 6 | D36: =IF(LEFT('Results - Derby and Notts'!E16,1)="O","M",IF(LEFT('Results - Derby and Notts'!E16,1)="F","F",IF(LEFT('Results - Derby and Notts'!E16,1)="B","M",IF(LEFT('Results - Derby and Notts'!E16,1)="G","F","ERROR")))) -> F | E36: =PROPER('Lane 2 Team'!F24) | F36: =PROPER('Lane 2 Team'!G24) | G36: =VLOOKUP(Instructions!$F$27,Clubs,3,FALSE) -> #N/A | H36: ='Lane 2 Team'!H24 -> 0 | I36: ='Lane 2 Team'!I24 -> 0 | J36: =(TEXT(H36,"YYYY/MM/DD")) -> 1900/01/00 | L36: =CONCATENATE(F36,",",E36,",",J36,",",G36,",",D36,",",I36,",,,,") -> #N/A
B37: 2 | C37: ='Results - Derby and Notts'!A18 -> 7 | D37: =IF(LEFT('Results - Derby and Notts'!E18,1)="O","M",IF(LEFT('Results - Derby and Notts'!E18,1)="F","F",IF(LEFT('Results - Derby and Notts'!E18,1)="B","M",IF(LEFT('Results - Derby and Notts'!E18,1)="G","F","ERROR")))) -> M | E37: =PROPER('Lane 2 Team'!F25) | F37: =PROPER('Lane 2 Team'!G25) | G37: =VLOOKUP(Instructions!$F$27,Clubs,3,FALSE) -> #N/A | H37: ='Lane 2 Team'!H25 -> 0 | I37: ='Lane 2 Team'!I25 -> 0 | J37: =(TEXT(H37,"YYYY/MM/DD")) -> 1900/01/00 | L37: =CONCATENATE(F37,",",E37,",",J37,",",G37,",",D37,",",I37,",,,,") -> #N/A
B38: 2 | C38: ='Results - Derby and Notts'!A20 -> 8 | D38: =IF(LEFT('Results - Derby and Notts'!E20,1)="O","M",IF(LEFT('Results - Derby and Notts'!E20,1)="F","F",IF(LEFT('Results - Derby and Notts'!E20,1)="B","M",IF(LEFT('Results - Derby and Notts'!E20,1)="G","F","ERROR")))) -> F | E38: =PROPER('Lane 2 Team'!F26) | F38: =PROPER('Lane 2 Team'!G26) | G38: =VLOOKUP(Instructions!$F$27,Clubs,3,FALSE) -> #N/A | H38: ='Lane 2 Team'!H26 -> 0 | I38: ='Lane 2 Team'!I26 -> 0 | J38: =(TEXT(H38,"YYYY/MM/DD")) -> 1900/01/00 | L38: =CONCATENATE(F38,",",E38,",",J38,",",G38,",",D38,",",I38,",,,,") -> #N/A
B39: 2 | C39: ='Results - Derby and Notts'!A22 -> 9 | D39: =IF(LEFT('Results - Derby and Notts'!E22,1)="O","M",IF(LEFT('Results - Derby and Notts'!E22,1)="F","F",IF(LEFT('Results - Derby and Notts'!E22,1)="B","M",IF(LEFT('Results - Derby and Notts'!E22,1)="G","F","ERROR")))) -> M | E39: =PROPER('Lane 2 Team'!F27) | F39: =PROPER('Lane 2 Team'!G27) | G39: =VLOOKUP(Instructions!$F$27,Clubs,3,FALSE) -> #N/A | H39: ='Lane 2 Team'!H27 -> 0 | I39: ='Lane 2 Team'!I27 -> 0 | J39: =(TEXT(H39,"YYYY/MM/DD")) -> 1900/01/00 | L39: =CONCATENATE(F39,",",E39,",",J39,",",G39,",",D39,",",I39,",,,,") -> #N/A
B40: 2 | C40: ='Results - Derby and Notts'!A24 -> 10 | D40: =IF(LEFT('Results - Derby and Notts'!E24,1)="O","M",IF(LEFT('Results - Derby and Notts'!E24,1)="F","F",IF(LEFT('Results - Derby and Notts'!E24,1)="B","M",IF(LEFT('Results - Derby and Notts'!E24,1)="G","F","ERROR")))) -> F | E40: =PROPER('Lane 2 Team'!F28) | F40: =PROPER('Lane 2 Team'!G28) | G40: =VLOOKUP(Instructions!$F$27,Clubs,3,FALSE) -> #N/A | H40: ='Lane 2 Team'!H28 -> 0 | I40: ='Lane 2 Team'!I28 -> 0 | J40: =(TEXT(H40,"YYYY/MM/DD")) -> 1900/01/00 | L40: =CONCATENATE(F40,",",E40,",",J40,",",G40,",",D40,",",I40,",,,,") -> #N/A
B41: 2 | C41: ='Results - Derby and Notts'!A26 -> 11 | D41: =IF(LEFT('Results - Derby and Notts'!E26,1)="O","M",IF(LEFT('Results - Derby and Notts'!E26,1)="F","F",IF(LEFT('Results - Derby and Notts'!E26,1)="B","M",IF(LEFT('Results - Derby and Notts'!E26,1)="G","F","ERROR")))) -> M | E41: =PROPER('Lane 2 Team'!F29) | F41: =PROPER('Lane 2 Team'!G29) | G41: =VLOOKUP(Instructions!$F$27,Clubs,3,FALSE) -> #N/A | H41: ='Lane 2 Team'!H29 -> 0 | I41: ='Lane 2 Team'!I29 -> 0 | J41: =(TEXT(H41,"YYYY/MM/DD")) -> 1900/01/00 | L41: =CONCATENATE(F41,",",E41,",",J41,",",G41,",",D41,",",I41,",,,,") -> #N/A
B42: 2 | C42: ='Results - Derby and Notts'!A28 -> 12 | D42: =IF(LEFT('Results - Derby and Notts'!E28,1)="O","M",IF(LEFT('Results - Derby and Notts'!E28,1)="F","F",IF(LEFT('Results - Derby and Notts'!E28,1)="B","M",IF(LEFT('Results - Derby and Notts'!E28,1)="G","F","ERROR")))) -> F | E42: =PROPER('Lane 2 Team'!F30) | F42: =PROPER('Lane 2 Team'!G30) | G42: =VLOOKUP(Instructions!$F$27,Clubs,3,FALSE) -> #N/A | H42: ='Lane 2 Team'!H30 -> 0 | I42: ='Lane 2 Team'!I30 -> 0 | J42: =(TEXT(H42,"YYYY/MM/DD")) -> 1900/01/00 | L42: =CONCATENATE(F42,",",E42,",",J42,",",G42,",",D42,",",I42,",,,,") -> #N/A
B43: 2 | C43: ='Results - Derby and Notts'!A30 -> 13 | D43: =IF(LEFT('Results - Derby and Notts'!E30,1)="O","M",IF(LEFT('Results - Derby and Notts'!E30,1)="F","F",IF(LEFT('Results - Derby and Notts'!E30,1)="B","M",IF(LEFT('Results - Derby and Notts'!E30,1)="G","F","ERROR")))) -> M | E43: =PROPER('Lane 2 Team'!F31) | F43: =PROPER('Lane 2 Team'!G31) | G43: =VLOOKUP(Instructions!$F$27,Clubs,3,FALSE) -> #N/A | H43: ='Lane 2 Team'!H31 -> 0 | I43: ='Lane 2 Team'!I31 -> 0 | J43: =(TEXT(H43,"YYYY/MM/DD")) -> 1900/01/00 | L43: =CONCATENATE(F43,",",E43,",",J43,",",G43,",",D43,",",I43,",,,,") -> #N/A
B44: 2 | C44: ='Results - Derby and Notts'!A32 -> 14 | D44: =IF(LEFT('Results - Derby and Notts'!E32,1)="O","M",IF(LEFT('Results - Derby and Notts'!E32,1)="F","F",IF(LEFT('Results - Derby and Notts'!E32,1)="B","M",IF(LEFT('Results - Derby and Notts'!E32,1)="G","F","ERROR")))) -> F | E44: =PROPER('Lane 2 Team'!F32) | F44: =PROPER('Lane 2 Team'!G32) | G44: =VLOOKUP(Instructions!$F$27,Clubs,3,FALSE) -> #N/A | H44: ='Lane 2 Team'!H32 -> 0 | I44: ='Lane 2 Team'!I32 -> 0 | J44: =(TEXT(H44,"YYYY/MM/DD")) -> 1900/01/00 | L44: =CONCATENATE(F44,",",E44,",",J44,",",G44,",",D44,",",I44,",,,,") -> #N/A
B45: 2 | C45: ='Results - Derby and Notts'!A34 -> 15 | D45: =IF(LEFT('Results - Derby and Notts'!E34,1)="O","M",IF(LEFT('Results - Derby and Notts'!E34,1)="F","F",IF(LEFT('Results - Derby and Notts'!E34,1)="B","M",IF(LEFT('Results - Derby and Notts'!E34,1)="G","F","ERROR")))) -> M | E45: =PROPER('Lane 2 Team'!F33) | F45: =PROPER('Lane 2 Team'!G33) | G45: =VLOOKUP(Instructions!$F$27,Clubs,3,FALSE) -> #N/A | H45: ='Lane 2 Team'!H33 -> 0 | I45: ='Lane 2 Team'!I33 -> 0 | J45: =(TEXT(H45,"YYYY/MM/DD")) -> 1900/01/00 | L45: =CONCATENATE(F45,",",E45,",",J45,",",G45,",",D45,",",I45,",,,,") -> #N/A
B46: 2 | C46: ='Results - Derby and Notts'!A36 -> 16 | D46: =IF(LEFT('Results - Derby and Notts'!E36,1)="O","M",IF(LEFT('Results - Derby and Notts'!E36,1)="F","F",IF(LEFT('Results - Derby and Notts'!E36,1)="B","M",IF(LEFT('Results - Derby and Notts'!E36,1)="G","F","ERROR")))) -> F | E46: =PROPER('Lane 2 Team'!F34) | F46: =PROPER('Lane 2 Team'!G34) | G46: =VLOOKUP(Instructions!$F$27,Clubs,3,FALSE) -> #N/A | H46: ='Lane 2 Team'!H34 -> 0 | I46: ='Lane 2 Team'!I34 -> 0 | J46: =(TEXT(H46,"YYYY/MM/DD")) -> 1900/01/00 | L46: =CONCATENATE(F46,",",E46,",",J46,",",G46,",",D46,",",I46,",,,,") -> #N/A
B47: 2 | C47: ='Results - Derby and Notts'!A38 -> 17 | D47: =IF(LEFT('Results - Derby and Notts'!E38,1)="O","M",IF(LEFT('Results - Derby and Notts'!E38,1)="F","F",IF(LEFT('Results - Derby and Notts'!E38,1)="B","M",IF(LEFT('Results - Derby and Notts'!E38,1)="G","F","ERROR")))) -> M | E47: =PROPER('Lane 2 Team'!F35) | F47: =PROPER('Lane 2 Team'!G35) | G47: =VLOOKUP(Instructions!$F$27,Clubs,3,FALSE) -> #N/A | H47: ='Lane 2 Team'!H35 -> 0 | I47: ='Lane 2 Team'!I35 -> 0 | J47: =(TEXT(H47,"YYYY/MM/DD")) -> 1900/01/00 | L47: =CONCATENATE(F47,",",E47,",",J47,",",G47,",",D47,",",I47,",,,,") -> #N/A
B48: 2 | C48: ='Results - Derby and Notts'!A40 -> 18 | D48: =IF(LEFT('Results - Derby and Notts'!E40,1)="O","M",IF(LEFT('Results - Derby and Notts'!E40,1)="F","F",IF(LEFT('Results - Derby and Notts'!E40,1)="B","M",IF(LEFT('Results - Derby and Notts'!E40,1)="G","F","ERROR")))) -> F | E48: =PROPER('Lane 2 Team'!F36) | F48: =PROPER('Lane 2 Team'!G36) | G48: =VLOOKUP(Instructions!$F$27,Clubs,3,FALSE) -> #N/A | H48: ='Lane 2 Team'!H36 -> 0 | I48: ='Lane 2 Team'!I36 -> 0 | J48: =(TEXT(H48,"YYYY/MM/DD")) -> 1900/01/00 | L48: =CONCATENATE(F48,",",E48,",",J48,",",G48,",",D48,",",I48,",,,,") -> #N/A
B49: 2 | C49: ='Results - Derby and Notts'!A42 -> 19 | D49: =IF(LEFT('Results - Derby and Notts'!E42,1)="O","M",IF(LEFT('Results - Derby and Notts'!E42,1)="F","F",IF(LEFT('Results - Derby and Notts'!E42,1)="B","M",IF(LEFT('Results - Derby and Notts'!E42,1)="G","F","ERROR")))) -> M | E49: =PROPER('Lane 2 Team'!F37) | F49: =PROPER('Lane 2 Team'!G37) | G49: =VLOOKUP(Instructions!$F$27,Clubs,3,FALSE) -> #N/A | H49: ='Lane 2 Team'!H37 -> 0 | I49: ='Lane 2 Team'!I37 -> 0 | J49: =(TEXT(H49,"YYYY/MM/DD")) -> 1900/01/00 | L49: =CONCATENATE(F49,",",E49,",",J49,",",G49,",",D49,",",I49,",,,,") -> #N/A
B50: 2 | C50: ='Results - Derby and Notts'!A44 -> 20 | D50: =IF(LEFT('Results - Derby and Notts'!E44,1)="O","M",IF(LEFT('Results - Derby and Notts'!E44,1)="F","F",IF(LEFT('Results - Derby and Notts'!E44,1)="B","M",IF(LEFT('Results - Derby and Notts'!E44,1)="G","F","ERROR")))) -> F | E50: =PROPER('Lane 2 Team'!F38) | F50: =PROPER('Lane 2 Team'!G38) | G50: =VLOOKUP(Instructions!$F$27,Clubs,3,FALSE) -> #N/A | H50: ='Lane 2 Team'!H38 -> 0 | I50: ='Lane 2 Team'!I38 -> 0 | J50: =(TEXT(H50,"YYYY/MM/DD")) -> 1900/01/00 | L50: =CONCATENATE(F50,",",E50,",",J50,",",G50,",",D50,",",I50,",,,,") -> #N/A
B51: 2 | C51: ='Results - Derby and Notts'!A46 -> 21 | D51: =IF(LEFT('Results - Derby and Notts'!E46,1)="O","M",IF(LEFT('Results - Derby and Notts'!E46,1)="F","F",IF(LEFT('Results - Derby and Notts'!E46,1)="B","M",IF(LEFT('Results - Derby and Notts'!E46,1)="G","F","ERROR")))) -> M | E51: =PROPER('Lane 2 Team'!F39) | F51: =PROPER('Lane 2 Team'!G39) | G51: =VLOOKUP(Instructions!$F$27,Clubs,3,FALSE) -> #N/A | H51: ='Lane 2 Team'!H39 -> 0 | I51: ='Lane 2 Team'!I39 -> 0 | J51: =(TEXT(H51,"YYYY/MM/DD")) -> 1900/01/00 | L51: =CONCATENATE(F51,",",E51,",",J51,",",G51,",",D51,",",I51,",,,,") -> #N/A
B52: 2 | C52: ='Results - Derby and Notts'!A48 -> 22 | D52: =IF(LEFT('Results - Derby and Notts'!E48,1)="O","M",IF(LEFT('Results - Derby and Notts'!E48,1)="F","F",IF(LEFT('Results - Derby and Notts'!E48,1)="B","M",IF(LEFT('Results - Derby and Notts'!E48,1)="G","F","ERROR")))) -> F | E52: =PROPER('Lane 2 Team'!F40) | F52: =PROPER('Lane 2 Team'!G40) | G52: =VLOOKUP(Instructions!$F$27,Clubs,3,FALSE) -> #N/A | H52: ='Lane 2 Team'!H40 -> 0 | I52: ='Lane 2 Team'!I40 -> 0 | J52: =(TEXT(H52,"YYYY/MM/DD")) -> 1900/01/00 | L52: =CONCATENATE(F52,",",E52,",",J52,",",G52,",",D52,",",I52,",,,,") -> #N/A
B53: 2 | C53: ='Results - Derby and Notts'!A50 -> 23 | D53: =IF(LEFT('Results - Derby and Notts'!E50,1)="O","M",IF(LEFT('Results - Derby and Notts'!E50,1)="F","F",IF(LEFT('Results - Derby and Notts'!E50,1)="B","M",IF(LEFT('Results - Derby and Notts'!E50,1)="G","F","ERROR")))) -> M | E53: =PROPER('Lane 2 Team'!F41) | F53: =PROPER('Lane 2 Team'!G41) | G53: =VLOOKUP(Instructions!$F$27,Clubs,3,FALSE) -> #N/A | H53: ='Lane 2 Team'!H41 -> 0 | I53: ='Lane 2 Team'!I41 -> 0 | J53: =(TEXT(H53,"YYYY/MM/DD")) -> 1900/01/00 | L53: =CONCATENATE(F53,",",E53,",",J53,",",G53,",",D53,",",I53,",,,,") -> #N/A
B54: 2 | C54: ='Results - Derby and Notts'!A52 -> 24 | D54: =IF(LEFT('Results - Derby and Notts'!E52,1)="O","M",IF(LEFT('Results - Derby and Notts'!E52,1)="F","F",IF(LEFT('Results - Derby and Notts'!E52,1)="B","M",IF(LEFT('Results - Derby and Notts'!E52,1)="G","F","ERROR")))) -> F | E54: =PROPER('Lane 2 Team'!F42) | F54: =PROPER('Lane 2 Team'!G42) | G54: =VLOOKUP(Instructions!$F$27,Clubs,3,FALSE) -> #N/A | H54: ='Lane 2 Team'!H42 -> 0 | I54: ='Lane 2 Team'!I42 -> 0 | J54: =(TEXT(H54,"YYYY/MM/DD")) -> 1900/01/00 | L54: =CONCATENATE(F54,",",E54,",",J54,",",G54,",",D54,",",I54,",,,,") -> #N/A
B55: 2 | C55: ='Results - Derby and Notts'!A54 -> 25 | D55: =IF(LEFT('Results - Derby and Notts'!E54,1)="O","M",IF(LEFT('Results - Derby and Notts'!E54,1)="F","F",IF(LEFT('Results - Derby and Notts'!E54,1)="B","M",IF(LEFT('Results - Derby and Notts'!E54,1)="G","F","ERROR")))) -> M | E55: =PROPER('Lane 2 Team'!F43) | F55: =PROPER('Lane 2 Team'!G43) | G55: =VLOOKUP(Instructions!$F$27,Clubs,3,FALSE) -> #N/A | H55: ='Lane 2 Team'!H43 -> 0 | I55: ='Lane 2 Team'!I43 -> 0 | J55: =(TEXT(H55,"YYYY/MM/DD")) -> 1900/01/00 | L55: =CONCATENATE(F55,",",E55,",",J55,",",G55,",",D55,",",I55,",,,,") -> #N/A
B56: 2 | C56: ='Results - Derby and Notts'!A56 -> 26 | D56: =IF(LEFT('Results - Derby and Notts'!E56,1)="O","M",IF(LEFT('Results - Derby and Notts'!E56,1)="F","F",IF(LEFT('Results - Derby and Notts'!E56,1)="B","M",IF(LEFT('Results - Derby and Notts'!E56,1)="G","F","ERROR")))) -> F | E56: =PROPER('Lane 2 Team'!F44) | F56: =PROPER('Lane 2 Team'!G44) | G56: =VLOOKUP(Instructions!$F$27,Clubs,3,FALSE) -> #N/A | H56: ='Lane 2 Team'!H44 -> 0 | I56: ='Lane 2 Team'!I44 -> 0 | J56: =(TEXT(H56,"YYYY/MM/DD")) -> 1900/01/00 | L56: =CONCATENATE(F56,",",E56,",",J56,",",G56,",",D56,",",I56,",,,,") -> #N/A
B57: 2 | C57: ='Results - Derby and Notts'!A58 -> 27 | D57: =IF(LEFT('Results - Derby and Notts'!E58,1)="O","M",IF(LEFT('Results - Derby and Notts'!E58,1)="F","F",IF(LEFT('Results - Derby and Notts'!E58,1)="B","M",IF(LEFT('Results - Derby and Notts'!E58,1)="G","F","ERROR")))) -> M | E57: =PROPER('Lane 2 Team'!F45) | F57: =PROPER('Lane 2 Team'!G45) | G57: =VLOOKUP(Instructions!$F$27,Clubs,3,FALSE) -> #N/A | H57: ='Lane 2 Team'!H45 -> 0 | I57: ='Lane 2 Team'!I45 -> 0 | J57: =(TEXT(H57,"YYYY/MM/DD")) -> 1900/01/00 | L57: =CONCATENATE(F57,",",E57,",",J57,",",G57,",",D57,",",I57,",,,,") -> #N/A
B58: 2 | C58: ='Results - Derby and Notts'!A60 -> 28 | D58: =IF(LEFT('Results - Derby and Notts'!E60,1)="O","M",IF(LEFT('Results - Derby and Notts'!E60,1)="F","F",IF(LEFT('Results - Derby and Notts'!E60,1)="B","M",IF(LEFT('Results - Derby and Notts'!E60,1)="G","F","ERROR")))) -> F | E58: =PROPER('Lane 2 Team'!F46) | F58: =PROPER('Lane 2 Team'!G46) | G58: =VLOOKUP(Instructions!$F$27,Clubs,3,FALSE) -> #N/A | H58: ='Lane 2 Team'!H46 -> 0 | I58: ='Lane 2 Team'!I46 -> 0 | J58: =(TEXT(H58,"YYYY/MM/DD")) -> 1900/01/00 | L58: =CONCATENATE(F58,",",E58,",",J58,",",G58,",",D58,",",I58,",,,,") -> #N/A
B59: 2 | C59: ='Results - Derby and Notts'!A62 -> 29 | D59: =IF(LEFT('Results - Derby and Notts'!E62,1)="O","M",IF(LEFT('Results - Derby and Notts'!E62,1)="F","F",IF(LEFT('Results - Derby and Notts'!E62,1)="B","M",IF(LEFT('Results - Derby and Notts'!E62,1)="G","F","ERROR")))) -> M | E59: =PROPER('Lane 2 Team'!F47) | F59: =PROPER('Lane 2 Team'!G47) | G59: =VLOOKUP(Instructions!$F$27,Clubs,3,FALSE) -> #N/A | H59: ='Lane 2 Team'!H47 -> 0 | I59: ='Lane 2 Team'!I47 -> 0 | J59: =(TEXT(H59,"YYYY/MM/DD")) -> 1900/01/00 | L59: =CONCATENATE(F59,",",E59,",",J59,",",G59,",",D59,",",I59,",,,,") -> #N/A
B60: 2 | C60: ='Results - Derby and Notts'!A64 -> 30 | D60: =IF(LEFT('Results - Derby and Notts'!E64,1)="O","M",IF(LEFT('Results - Derby and Notts'!E64,1)="F","F",IF(LEFT('Results - Derby and Notts'!E64,1)="B","M",IF(LEFT('Results - Derby and Notts'!E64,1)="G","F","ERROR")))) -> F | E60: =PROPER('Lane 2 Team'!F48) | F60: =PROPER('Lane 2 Team'!G48) | G60: =VLOOKUP(Instructions!$F$27,Clubs,3,FALSE) -> #N/A | H60: ='Lane 2 Team'!H48 -> 0 | I60: ='Lane 2 Team'!I48 -> 0 | J60: =(TEXT(H60,"YYYY/MM/DD")) -> 1900/01/00 | L60: =CONCATENATE(F60,",",E60,",",J60,",",G60,",",D60,",",I60,",,,,") -> #N/A
B61: 2 | C61: ='Results - Derby and Notts'!A66 -> 31 | D61: =IF(LEFT('Results - Derby and Notts'!E66,1)="O","M",IF(LEFT('Results - Derby and Notts'!E66,1)="F","F",IF(LEFT('Results - Derby and Notts'!E66,1)="B","M",IF(LEFT('Results - Derby and Notts'!E66,1)="G","F","ERROR")))) -> M | E61: =PROPER('Lane 2 Team'!F49) | F61: =PROPER('Lane 2 Team'!G49) | G61: =VLOOKUP(Instructions!$F$27,Clubs,3,FALSE) -> #N/A | H61: ='Lane 2 Team'!H49 -> 0 | I61: ='Lane 2 Team'!I49 -> 0 | J61: =(TEXT(H61,"YYYY/MM/DD")) -> 1900/01/00 | L61: =CONCATENATE(F61,",",E61,",",J61,",",G61,",",D61,",",I61,",,,,") -> #N/A
B62: 2 | C62: ='Results - Derby and Notts'!A68 -> 32 | D62: =IF(LEFT('Results - Derby and Notts'!E68,1)="O","M",IF(LEFT('Results - Derby and Notts'!E68,1)="F","F",IF(LEFT('Results - Derby and Notts'!E68,1)="B","M",IF(LEFT('Results - Derby and Notts'!E68,1)="G","F","ERROR")))) -> F | E62: =PROPER('Lane 2 Team'!F50) | F62: =PROPER('Lane 2 Team'!G50) | G62: =VLOOKUP(Instructions!$F$27,Clubs,3,FALSE) -> #N/A | H62: ='Lane 2 Team'!H50 -> 0 | I62: ='Lane 2 Team'!I50 -> 0 | J62: =(TEXT(H62,"YYYY/MM/DD")) -> 1900/01/00 | L62: =CONCATENATE(F62,",",E62,",",J62,",",G62,",",D62,",",I62,",,,,") -> #N/A
B63: 2 | C63: ='Results - Derby and Notts'!A70 -> 33 | D63: =IF(LEFT('Results - Derby and Notts'!E70,1)="O","M",IF(LEFT('Results - Derby and Notts'!E70,1)="F","F",IF(LEFT('Results - Derby and Notts'!E70,1)="B","M",IF(LEFT('Results - Derby and Notts'!E70,1)="G","F","ERROR")))) -> M | E63: =PROPER('Lane 2 Team'!F51) | F63: =PROPER('Lane 2 Team'!G51) | G63: =VLOOKUP(Instructions!$F$27,Clubs,3,FALSE) -> #N/A | H63: ='Lane 2 Team'!H51 -> 0 | I63: ='Lane 2 Team'!I51 -> 0 | J63: =(TEXT(H63,"YYYY/MM/DD")) -> 1900/01/00 | L63: =CONCATENATE(F63,",",E63,",",J63,",",G63,",",D63,",",I63,",,,,") -> #N/A
B64: 2 | C64: ='Results - Derby and Notts'!A72 -> 34 | D64: =IF(LEFT('Results - Derby and Notts'!E72,1)="O","M",IF(LEFT('Results - Derby and Notts'!E72,1)="F","F",IF(LEFT('Results - Derby and Notts'!E72,1)="B","M",IF(LEFT('Results - Derby and Notts'!E72,1)="G","F","ERROR")))) -> F | E64: =PROPER('Lane 2 Team'!F52) | F64: =PROPER('Lane 2 Team'!G52) | G64: =VLOOKUP(Instructions!$F$27,Clubs,3,FALSE) -> #N/A | H64: ='Lane 2 Team'!H52 -> 0 | I64: ='Lane 2 Team'!I52 -> 0 | J64: =(TEXT(H64,"YYYY/MM/DD")) -> 1900/01/00 | L64: =CONCATENATE(F64,",",E64,",",J64,",",G64,",",D64,",",I64,",,,,") -> #N/A
B65: 2 | C65: ='Results - Derby and Notts'!A74 -> 35 | D65: =IF(LEFT('Results - Derby and Notts'!E74,1)="O","M",IF(LEFT('Results - Derby and Notts'!E74,1)="F","F",IF(LEFT('Results - Derby and Notts'!E74,1)="B","M",IF(LEFT('Results - Derby and Notts'!E74,1)="G","F","ERROR")))) -> M | E65: =PROPER('Lane 2 Team'!F53) | F65: =PROPER('Lane 2 Team'!G53) | G65: =VLOOKUP(Instructions!$F$27,Clubs,3,FALSE) -> #N/A | H65: ='Lane 2 Team'!H53 -> 0 | I65: ='Lane 2 Team'!I53 -> 0 | J65: =(TEXT(H65,"YYYY/MM/DD")) -> 1900/01/00 | L65: =CONCATENATE(F65,",",E65,",",J65,",",G65,",",D65,",",I65,",,,,") -> #N/A
B66: 2 | C66: ='Results - Derby and Notts'!A76 -> 36 | D66: =IF(LEFT('Results - Derby and Notts'!E76,1)="O","M",IF(LEFT('Results - Derby and Notts'!E76,1)="F","F",IF(LEFT('Results - Derby and Notts'!E76,1)="B","M",IF(LEFT('Results - Derby and Notts'!E76,1)="G","F","ERROR")))) -> F | E66: =PROPER('Lane 2 Team'!F54) | F66: =PROPER('Lane 2 Team'!G54) | G66: =VLOOKUP(Instructions!$F$27,Clubs,3,FALSE) -> #N/A | H66: ='Lane 2 Team'!H54 -> 0 | I66: ='Lane 2 Team'!I54 -> 0 | J66: =(TEXT(H66,"YYYY/MM/DD")) -> 1900/01/00 | L66: =CONCATENATE(F66,",",E66,",",J66,",",G66,",",D66,",",I66,",,,,") -> #N/A
B67: 3 | C67: ='Results - Derby and Notts'!A14 -> 5 | D67: =IF(LEFT('Results - Derby and Notts'!E14,1)="O","M",IF(LEFT('Results - Derby and Notts'!E14,1)="F","F",IF(LEFT('Results - Derby and Notts'!E14,1)="B","M",IF(LEFT('Results - Derby and Notts'!E14,1)="G","F","ERROR")))) -> M | E67: =PROPER('Lane 3 Team'!F23) | F67: =PROPER('Lane 3 Team'!G23) | G67: =VLOOKUP(Instructions!$I$27,Clubs,3,FALSE) -> #N/A | H67: ='Lane 3 Team'!H23 -> 0 | I67: ='Lane 3 Team'!I23 -> 0 | J67: =(TEXT(H67,"YYYY/MM/DD")) -> 1900/01/00 | L67: =CONCATENATE(F67,",",E67,",",J67,",",G67,",",D67,",",I67,",,,,") -> #N/A
B68: 3 | C68: ='Results - Derby and Notts'!A16 -> 6 | D68: =IF(LEFT('Results - Derby and Notts'!E16,1)="O","M",IF(LEFT('Results - Derby and Notts'!E16,1)="F","F",IF(LEFT('Results - Derby and Notts'!E16,1)="B","M",IF(LEFT('Results - Derby and Notts'!E16,1)="G","F","ERROR")))) -> F | E68: =PROPER('Lane 3 Team'!F24) | F68: =PROPER('Lane 3 Team'!G24) | G68: =VLOOKUP(Instructions!$I$27,Clubs,3,FALSE) -> #N/A | H68: ='Lane 3 Team'!H24 -> 0 | I68: ='Lane 3 Team'!I24 -> 0 | J68: =(TEXT(H68,"YYYY/MM/DD")) -> 1900/01/00 | L68: =CONCATENATE(F68,",",E68,",",J68,",",G68,",",D68,",",I68,",,,,") -> #N/A
B69: 3 | C69: ='Results - Derby and Notts'!A18 -> 7 | D69: =IF(LEFT('Results - Derby and Notts'!E18,1)="O","M",IF(LEFT('Results - Derby and Notts'!E18,1)="F","F",IF(LEFT('Results - Derby and Notts'!E18,1)="B","M",IF(LEFT('Results - Derby and Notts'!E18,1)="G","F","ERROR")))) -> M | E69: =PROPER('Lane 3 Team'!F25) | F69: =PROPER('Lane 3 Team'!G25) | G69: =VLOOKUP(Instructions!$I$27,Clubs,3,FALSE) -> #N/A | H69: ='Lane 3 Team'!H25 -> 0 | I69: ='Lane 3 Team'!I25 -> 0 | J69: =(TEXT(H69,"YYYY/MM/DD")) -> 1900/01/00 | L69: =CONCATENATE(F69,",",E69,",",J69,",",G69,",",D69,",",I69,",,,,") -> #N/A
B70: 3 | C70: ='Results - Derby and Notts'!A20 -> 8 | D70: =IF(LEFT('Results - Derby and Notts'!E20,1)="O","M",IF(LEFT('Results - Derby and Notts'!E20,1)="F","F",IF(LEFT('Results - Derby and Notts'!E20,1)="B","M",IF(LEFT('Results - Derby and Notts'!E20,1)="G","F","ERROR")))) -> F | E70: =PROPER('Lane 3 Team'!F26) | F70: =PROPER('Lane 3 Team'!G26) | G70: =VLOOKUP(Instructions!$I$27,Clubs,3,FALSE) -> #N/A | H70: ='Lane 3 Team'!H26 -> 0 | I70: ='Lane 3 Team'!I26 -> 0 | J70: =(TEXT(H70,"YYYY/MM/DD")) -> 1900/01/00 | L70: =CONCATENATE(F70,",",E70,",",J70,",",G70,",",D70,",",I70,",,,,") -> #N/A
B71: 3 | C71: ='Results - Derby and Notts'!A22 -> 9 | D71: =IF(LEFT('Results - Derby and Notts'!E22,1)="O","M",IF(LEFT('Results - Derby and Notts'!E22,1)="F","F",IF(LEFT('Results - Derby and Notts'!E22,1)="B","M",IF(LEFT('Results - Derby and Notts'!E22,1)="G","F","ERROR")))) -> M | E71: =PROPER('Lane 3 Team'!F27) | F71: =PROPER('Lane 3 Team'!G27) | G71: =VLOOKUP(Instructions!$I$27,Clubs,3,FALSE) -> #N/A | H71: ='Lane 3 Team'!H27 -> 0 | I71: ='Lane 3 Team'!I27 -> 0 | J71: =(TEXT(H71,"YYYY/MM/DD")) -> 1900/01/00 | L71: =CONCATENATE(F71,",",E71,",",J71,",",G71,",",D71,",",I71,",,,,") -> #N/A
B72: 3 | C72: ='Results - Derby and Notts'!A24 -> 10 | D72: =IF(LEFT('Results - Derby and Notts'!E24,1)="O","M",IF(LEFT('Results - Derby and Notts'!E24,1)="F","F",IF(LEFT('Results - Derby and Notts'!E24,1)="B","M",IF(LEFT('Results - Derby and Notts'!E24,1)="G","F","ERROR")))) -> F | E72: =PROPER('Lane 3 Team'!F28) | F72: =PROPER('Lane 3 Team'!G28) | G72: =VLOOKUP(Instructions!$I$27,Clubs,3,FALSE) -> #N/A | H72: ='Lane 3 Team'!H28 -> 0 | I72: ='Lane 3 Team'!I28 -> 0 | J72: =(TEXT(H72,"YYYY/MM/DD")) -> 1900/01/00 | L72: =CONCATENATE(F72,",",E72,",",J72,",",G72,",",D72,",",I72,",,,,") -> #N/A
B73: 3 | C73: ='Results - Derby and Notts'!A26 -> 11 | D73: =IF(LEFT('Results - Derby and Notts'!E26,1)="O","M",IF(LEFT('Results - Derby and Notts'!E26,1)="F","F",IF(LEFT('Results - Derby and Notts'!E26,1)="B","M",IF(LEFT('Results - Derby and Notts'!E26,1)="G","F","ERROR")))) -> M | E73: =PROPER('Lane 3 Team'!F29) | F73: =PROPER('Lane 3 Team'!G29) | G73: =VLOOKUP(Instructions!$I$27,Clubs,3,FALSE) -> #N/A | H73: ='Lane 3 Team'!H29 -> 0 | I73: ='Lane 3 Team'!I29 -> 0 | J73: =(TEXT(H73,"YYYY/MM/DD")) -> 1900/01/00 | L73: =CONCATENATE(F73,",",E73,",",J73,",",G73,",",D73,",",I73,",,,,") -> #N/A
B74: 3 | C74: ='Results - Derby and Notts'!A28 -> 12 | D74: =IF(LEFT('Results - Derby and Notts'!E28,1)="O","M",IF(LEFT('Results - Derby and Notts'!E28,1)="F","F",IF(LEFT('Results - Derby and Notts'!E28,1)="B","M",IF(LEFT('Results - Derby and Notts'!E28,1)="G","F","ERROR")))) -> F | E74: =PROPER('Lane 3 Team'!F30) | F74: =PROPER('Lane 3 Team'!G30) | G74: =VLOOKUP(Instructions!$I$27,Clubs,3,FALSE) -> #N/A | H74: ='Lane 3 Team'!H30 -> 0 | I74: ='Lane 3 Team'!I30 -> 0 | J74: =(TEXT(H74,"YYYY/MM/DD")) -> 1900/01/00 | L74: =CONCATENATE(F74,",",E74,",",J74,",",G74,",",D74,",",I74,",,,,") -> #N/A
B75: 3 | C75: ='Results - Derby and Notts'!A30 -> 13 | D75: =IF(LEFT('Results - Derby and Notts'!E30,1)="O","M",IF(LEFT('Results - Derby and Notts'!E30,1)="F","F",IF(LEFT('Results - Derby and Notts'!E30,1)="B","M",IF(LEFT('Results - Derby and Notts'!E30,1)="G","F","ERROR")))) -> M | E75: =PROPER('Lane 3 Team'!F31) | F75: =PROPER('Lane 3 Team'!G31) | G75: =VLOOKUP(Instructions!$I$27,Clubs,3,FALSE) -> #N/A | H75: ='Lane 3 Team'!H31 -> 0 | I75: ='Lane 3 Team'!I31 -> 0 | J75: =(TEXT(H75,"YYYY/MM/DD")) -> 1900/01/00 | L75: =CONCATENATE(F75,",",E75,",",J75,",",G75,",",D75,",",I75,",,,,") -> #N/A
B76: 3 | C76: ='Results - Derby and Notts'!A32 -> 14 | D76: =IF(LEFT('Results - Derby and Notts'!E32,1)="O","M",IF(LEFT('Results - Derby and Notts'!E32,1)="F","F",IF(LEFT('Results - Derby and Notts'!E32,1)="B","M",IF(LEFT('Results - Derby and Notts'!E32,1)="G","F","ERROR")))) -> F | E76: =PROPER('Lane 3 Team'!F32) | F76: =PROPER('Lane 3 Team'!G32) | G76: =VLOOKUP(Instructions!$I$27,Clubs,3,FALSE) -> #N/A | H76: ='Lane 3 Team'!H32 -> 0 | I76: ='Lane 3 Team'!I32 -> 0 | J76: =(TEXT(H76,"YYYY/MM/DD")) -> 1900/01/00 | L76: =CONCATENATE(F76,",",E76,",",J76,",",G76,",",D76,",",I76,",,,,") -> #N/A
B77: 3 | C77: ='Results - Derby and Notts'!A34 -> 15 | D77: =IF(LEFT('Results - Derby and Notts'!E34,1)="O","M",IF(LEFT('Results - Derby and Notts'!E34,1)="F","F",IF(LEFT('Results - Derby and Notts'!E34,1)="B","M",IF(LEFT('Results - Derby and Notts'!E34,1)="G","F","ERROR")))) -> M | E77: =PROPER('Lane 3 Team'!F33) | F77: =PROPER('Lane 3 Team'!G33) | G77: =VLOOKUP(Instructions!$I$27,Clubs,3,FALSE) -> #N/A | H77: ='Lane 3 Team'!H33 -> 0 | I77: ='Lane 3 Team'!I33 -> 0 | J77: =(TEXT(H77,"YYYY/MM/DD")) -> 1900/01/00 | L77: =CONCATENATE(F77,",",E77,",",J77,",",G77,",",D77,",",I77,",,,,") -> #N/A
B78: 3 | C78: ='Results - Derby and Notts'!A36 -> 16 | D78: =IF(LEFT('Results - Derby and Notts'!E36,1)="O","M",IF(LEFT('Results - Derby and Notts'!E36,1)="F","F",IF(LEFT('Results - Derby and Notts'!E36,1)="B","M",IF(LEFT('Results - Derby and Notts'!E36,1)="G","F","ERROR")))) -> F | E78: =PROPER('Lane 3 Team'!F34) | F78: =PROPER('Lane 3 Team'!G34) | G78: =VLOOKUP(Instructions!$I$27,Clubs,3,FALSE) -> #N/A | H78: ='Lane 3 Team'!H34 -> 0 | I78: ='Lane 3 Team'!I34 -> 0 | J78: =(TEXT(H78,"YYYY/MM/DD")) -> 1900/01/00 | L78: =CONCATENATE(F78,",",E78,",",J78,",",G78,",",D78,",",I78,",,,,") -> #N/A
B79: 3 | C79: ='Results - Derby and Notts'!A38 -> 17 | D79: =IF(LEFT('Results - Derby and Notts'!E38,1)="O","M",IF(LEFT('Results - Derby and Notts'!E38,1)="F","F",IF(LEFT('Results - Derby and Notts'!E38,1)="B","M",IF(LEFT('Results - Derby and Notts'!E38,1)="G","F","ERROR")))) -> M | E79: =PROPER('Lane 3 Team'!F35) | F79: =PROPER('Lane 3 Team'!G35) | G79: =VLOOKUP(Instructions!$I$27,Clubs,3,FALSE) -> #N/A | H79: ='Lane 3 Team'!H35 -> 0 | I79: ='Lane 3 Team'!I35 -> 0 | J79: =(TEXT(H79,"YYYY/MM/DD")) -> 1900/01/00 | L79: =CONCATENATE(F79,",",E79,",",J79,",",G79,",",D79,",",I79,",,,,") -> #N/A
B80: 3 | C80: ='Results - Derby and Notts'!A40 -> 18 | D80: =IF(LEFT('Results - Derby and Notts'!E40,1)="O","M",IF(LEFT('Results - Derby and Notts'!E40,1)="F","F",IF(LEFT('Results - Derby and Notts'!E40,1)="B","M",IF(LEFT('Results - Derby and Notts'!E40,1)="G","F","ERROR")))) -> F | E80: =PROPER('Lane 3 Team'!F36) | F80: =PROPER('Lane 3 Team'!G36) | G80: =VLOOKUP(Instructions!$I$27,Clubs,3,FALSE) -> #N/A | H80: ='Lane 3 Team'!H36 -> 0 | I80: ='Lane 3 Team'!I36 -> 0 | J80: =(TEXT(H80,"YYYY/MM/DD")) -> 1900/01/00 | L80: =CONCATENATE(F80,",",E80,",",J80,",",G80,",",D80,",",I80,",,,,") -> #N/A
B81: 3 | C81: ='Results - Derby and Notts'!A42 -> 19 | D81: =IF(LEFT('Results - Derby and Notts'!E42,1)="O","M",IF(LEFT('Results - Derby and Notts'!E42,1)="F","F",IF(LEFT('Results - Derby and Notts'!E42,1)="B","M",IF(LEFT('Results - Derby and Notts'!E42,1)="G","F","ERROR")))) -> M | E81: =PROPER('Lane 3 Team'!F37) | F81: =PROPER('Lane 3 Team'!G37) | G81: =VLOOKUP(Instructions!$I$27,Clubs,3,FALSE) -> #N/A | H81: ='Lane 3 Team'!H37 -> 0 | I81: ='Lane 3 Team'!I37 -> 0 | J81: =(TEXT(H81,"YYYY/MM/DD")) -> 1900/01/00 | L81: =CONCATENATE(F81,",",E81,",",J81,",",G81,",",D81,",",I81,",,,,") -> #N/A
B82: 3 | C82: ='Results - Derby and Notts'!A44 -> 20 | D82: =IF(LEFT('Results - Derby and Notts'!E44,1)="O","M",IF(LEFT('Results - Derby and Notts'!E44,1)="F","F",IF(LEFT('Results - Derby and Notts'!E44,1)="B","M",IF(LEFT('Results - Derby and Notts'!E44,1)="G","F","ERROR")))) -> F | E82: =PROPER('Lane 3 Team'!F38) | F82: =PROPER('Lane 3 Team'!G38) | G82: =VLOOKUP(Instructions!$I$27,Clubs,3,FALSE) -> #N/A | H82: ='Lane 3 Team'!H38 -> 0 | I82: ='Lane 3 Team'!I38 -> 0 | J82: =(TEXT(H82,"YYYY/MM/DD")) -> 1900/01/00 | L82: =CONCATENATE(F82,",",E82,",",J82,",",G82,",",D82,",",I82,",,,,") -> #N/A
B83: 3 | C83: ='Results - Derby and Notts'!A46 -> 21 | D83: =IF(LEFT('Results - Derby and Notts'!E46,1)="O","M",IF(LEFT('Results - Derby and Notts'!E46,1)="F","F",IF(LEFT('Results - Derby and Notts'!E46,1)="B","M",IF(LEFT('Results - Derby and Notts'!E46,1)="G","F","ERROR")))) -> M | E83: =PROPER('Lane 3 Team'!F39) | F83: =PROPER('Lane 3 Team'!G39) | G83: =VLOOKUP(Instructions!$I$27,Clubs,3,FALSE) -> #N/A | H83: ='Lane 3 Team'!H39 -> 0 | I83: ='Lane 3 Team'!I39 -> 0 | J83: =(TEXT(H83,"YYYY/MM/DD")) -> 1900/01/00 | L83: =CONCATENATE(F83,",",E83,",",J83,",",G83,",",D83,",",I83,",,,,") -> #N/A
B84: 3 | C84: ='Results - Derby and Notts'!A48 -> 22 | D84: =IF(LEFT('Results - Derby and Notts'!E48,1)="O","M",IF(LEFT('Results - Derby and Notts'!E48,1)="F","F",IF(LEFT('Results - Derby and Notts'!E48,1)="B","M",IF(LEFT('Results - Derby and Notts'!E48,1)="G","F","ERROR")))) -> F | E84: =PROPER('Lane 3 Team'!F40) | F84: =PROPER('Lane 3 Team'!G40) | G84: =VLOOKUP(Instructions!$I$27,Clubs,3,FALSE) -> #N/A | H84: ='Lane 3 Team'!H40 -> 0 | I84: ='Lane 3 Team'!I40 -> 0 | J84: =(TEXT(H84,"YYYY/MM/DD")) -> 1900/01/00 | L84: =CONCATENATE(F84,",",E84,",",J84,",",G84,",",D84,",",I84,",,,,") -> #N/A
B85: 3 | C85: ='Results - Derby and Notts'!A50 -> 23 | D85: =IF(LEFT('Results - Derby and Notts'!E50,1)="O","M",IF(LEFT('Results - Derby and Notts'!E50,1)="F","F",IF(LEFT('Results - Derby and Notts'!E50,1)="B","M",IF(LEFT('Results - Derby and Notts'!E50,1)="G","F","ERROR")))) -> M | E85: =PROPER('Lane 3 Team'!F41) | F85: =PROPER('Lane 3 Team'!G41) | G85: =VLOOKUP(Instructions!$I$27,Clubs,3,FALSE) -> #N/A | H85: ='Lane 3 Team'!H41 -> 0 | I85: ='Lane 3 Team'!I41 -> 0 | J85: =(TEXT(H85,"YYYY/MM/DD")) -> 1900/01/00 | L85: =CONCATENATE(F85,",",E85,",",J85,",",G85,",",D85,",",I85,",,,,") -> #N/A
B86: 3 | C86: ='Results - Derby and Notts'!A52 -> 24 | D86: =IF(LEFT('Results - Derby and Notts'!E52,1)="O","M",IF(LEFT('Results - Derby and Notts'!E52,1)="F","F",IF(LEFT('Results - Derby and Notts'!E52,1)="B","M",IF(LEFT('Results - Derby and Notts'!E52,1)="G","F","ERROR")))) -> F | E86: =PROPER('Lane 3 Team'!F42) | F86: =PROPER('Lane 3 Team'!G42) | G86: =VLOOKUP(Instructions!$I$27,Clubs,3,FALSE) -> #N/A | H86: ='Lane 3 Team'!H42 -> 0 | I86: ='Lane 3 Team'!I42 -> 0 | J86: =(TEXT(H86,"YYYY/MM/DD")) -> 1900/01/00 | L86: =CONCATENATE(F86,",",E86,",",J86,",",G86,",",D86,",",I86,",,,,") -> #N/A
B87: 3 | C87: ='Results - Derby and Notts'!A54 -> 25 | D87: =IF(LEFT('Results - Derby and Notts'!E54,1)="O","M",IF(LEFT('Results - Derby and Notts'!E54,1)="F","F",IF(LEFT('Results - Derby and Notts'!E54,1)="B","M",IF(LEFT('Results - Derby and Notts'!E54,1)="G","F","ERROR")))) -> M | E87: =PROPER('Lane 3 Team'!F43) | F87: =PROPER('Lane 3 Team'!G43) | G87: =VLOOKUP(Instructions!$I$27,Clubs,3,FALSE) -> #N/A | H87: ='Lane 3 Team'!H43 -> 0 | I87: ='Lane 3 Team'!I43 -> 0 | J87: =(TEXT(H87,"YYYY/MM/DD")) -> 1900/01/00 | L87: =CONCATENATE(F87,",",E87,",",J87,",",G87,",",D87,",",I87,",,,,") -> #N/A
B88: 3 | C88: ='Results - Derby and Notts'!A56 -> 26 | D88: =IF(LEFT('Results - Derby and Notts'!E56,1)="O","M",IF(LEFT('Results - Derby and Notts'!E56,1)="F","F",IF(LEFT('Results - Derby and Notts'!E56,1)="B","M",IF(LEFT('Results - Derby and Notts'!E56,1)="G","F","ERROR")))) -> F | E88: =PROPER('Lane 3 Team'!F44) | F88: =PROPER('Lane 3 Team'!G44) | G88: =VLOOKUP(Instructions!$I$27,Clubs,3,FALSE) -> #N/A | H88: ='Lane 3 Team'!H44 -> 0 | I88: ='Lane 3 Team'!I44 -> 0 | J88: =(TEXT(H88,"YYYY/MM/DD")) -> 1900/01/00 | L88: =CONCATENATE(F88,",",E88,",",J88,",",G88,",",D88,",",I88,",,,,") -> #N/A
B89: 3 | C89: ='Results - Derby and Notts'!A58 -> 27 | D89: =IF(LEFT('Results - Derby and Notts'!E58,1)="O","M",IF(LEFT('Results - Derby and Notts'!E58,1)="F","F",IF(LEFT('Results - Derby and Notts'!E58,1)="B","M",IF(LEFT('Results - Derby and Notts'!E58,1)="G","F","ERROR")))) -> M | E89: =PROPER('Lane 3 Team'!F45) | F89: =PROPER('Lane 3 Team'!G45) | G89: =VLOOKUP(Instructions!$I$27,Clubs,3,FALSE) -> #N/A | H89: ='Lane 3 Team'!H45 -> 0 | I89: ='Lane 3 Team'!I45 -> 0 | J89: =(TEXT(H89,"YYYY/MM/DD")) -> 1900/01/00 | L89: =CONCATENATE(F89,",",E89,",",J89,",",G89,",",D89,",",I89,",,,,") -> #N/A
B90: 3 | C90: ='Results - Derby and Notts'!A60 -> 28 | D90: =IF(LEFT('Results - Derby and Notts'!E60,1)="O","M",IF(LEFT('Results - Derby and Notts'!E60,1)="F","F",IF(LEFT('Results - Derby and Notts'!E60,1)="B","M",IF(LEFT('Results - Derby and Notts'!E60,1)="G","F","ERROR")))) -> F | E90: =PROPER('Lane 3 Team'!F46) | F90: =PROPER('Lane 3 Team'!G46) | G90: =VLOOKUP(Instructions!$I$27,Clubs,3,FALSE) -> #N/A | H90: ='Lane 3 Team'!H46 -> 0 | I90: ='Lane 3 Team'!I46 -> 0 | J90: =(TEXT(H90,"YYYY/MM/DD")) -> 1900/01/00 | L90: =CONCATENATE(F90,",",E90,",",J90,",",G90,",",D90,",",I90,",,,,") -> #N/A
B91: 3 | C91: ='Results - Derby and Notts'!A62 -> 29 | D91: =IF(LEFT('Results - Derby and Notts'!E62,1)="O","M",IF(LEFT('Results - Derby and Notts'!E62,1)="F","F",IF(LEFT('Results - Derby and Notts'!E62,1)="B","M",IF(LEFT('Results - Derby and Notts'!E62,1)="G","F","ERROR")))) -> M | E91: =PROPER('Lane 3 Team'!F47) | F91: =PROPER('Lane 3 Team'!G47) | G91: =VLOOKUP(Instructions!$I$27,Clubs,3,FALSE) -> #N/A | H91: ='Lane 3 Team'!H47 -> 0 | I91: ='Lane 3 Team'!I47 -> 0 | J91: =(TEXT(H91,"YYYY/MM/DD")) -> 1900/01/00 | L91: =CONCATENATE(F91,",",E91,",",J91,",",G91,",",D91,",",I91,",,,,") -> #N/A
B92: 3 | C92: ='Results - Derby and Notts'!A64 -> 30 | D92: =IF(LEFT('Results - Derby and Notts'!E64,1)="O","M",IF(LEFT('Results - Derby and Notts'!E64,1)="F","F",IF(LEFT('Results - Derby and Notts'!E64,1)="B","M",IF(LEFT('Results - Derby and Notts'!E64,1)="G","F","ERROR")))) -> F | E92: =PROPER('Lane 3 Team'!F48) | F92: =PROPER('Lane 3 Team'!G48) | G92: =VLOOKUP(Instructions!$I$27,Clubs,3,FALSE) -> #N/A | H92: ='Lane 3 Team'!H48 -> 0 | I92: ='Lane 3 Team'!I48 -> 0 | J92: =(TEXT(H92,"YYYY/MM/DD")) -> 1900/01/00 | L92: =CONCATENATE(F92,",",E92,",",J92,",",G92,",",D92,",",I92,",,,,") -> #N/A
B93: 3 | C93: ='Results - Derby and Notts'!A66 -> 31 | D93: =IF(LEFT('Results - Derby and Notts'!E66,1)="O","M",IF(LEFT('Results - Derby and Notts'!E66,1)="F","F",IF(LEFT('Results - Derby and Notts'!E66,1)="B","M",IF(LEFT('Results - Derby and Notts'!E66,1)="G","F","ERROR")))) -> M | E93: =PROPER('Lane 3 Team'!F49) | F93: =PROPER('Lane 3 Team'!G49) | G93: =VLOOKUP(Instructions!$I$27,Clubs,3,FALSE) -> #N/A | H93: ='Lane 3 Team'!H49 -> 0 | I93: ='Lane 3 Team'!I49 -> 0 | J93: =(TEXT(H93,"YYYY/MM/DD")) -> 1900/01/00 | L93: =CONCATENATE(F93,",",E93,",",J93,",",G93,",",D93,",",I93,",,,,") -> #N/A
B94: 3 | C94: ='Results - Derby and Notts'!A68 -> 32 | D94: =IF(LEFT('Results - Derby and Notts'!E68,1)="O","M",IF(LEFT('Results - Derby and Notts'!E68,1)="F","F",IF(LEFT('Results - Derby and Notts'!E68,1)="B","M",IF(LEFT('Results - Derby and Notts'!E68,1)="G","F","ERROR")))) -> F | E94: =PROPER('Lane 3 Team'!F50) | F94: =PROPER('Lane 3 Team'!G50) | G94: =VLOOKUP(Instructions!$I$27,Clubs,3,FALSE) -> #N/A | H94: ='Lane 3 Team'!H50 -> 0 | I94: ='Lane 3 Team'!I50 -> 0 | J94: =(TEXT(H94,"YYYY/MM/DD")) -> 1900/01/00 | L94: =CONCATENATE(F94,",",E94,",",J94,",",G94,",",D94,",",I94,",,,,") -> #N/A
B95: 3 | C95: ='Results - Derby and Notts'!A70 -> 33 | D95: =IF(LEFT('Results - Derby and Notts'!E70,1)="O","M",IF(LEFT('Results - Derby and Notts'!E70,1)="F","F",IF(LEFT('Results - Derby and Notts'!E70,1)="B","M",IF(LEFT('Results - Derby and Notts'!E70,1)="G","F","ERROR")))) -> M | E95: =PROPER('Lane 3 Team'!F51) | F95: =PROPER('Lane 3 Team'!G51) | G95: =VLOOKUP(Instructions!$I$27,Clubs,3,FALSE) -> #N/A | H95: ='Lane 3 Team'!H51 -> 0 | I95: ='Lane 3 Team'!I51 -> 0 | J95: =(TEXT(H95,"YYYY/MM/DD")) -> 1900/01/00 | L95: =CONCATENATE(F95,",",E95,",",J95,",",G95,",",D95,",",I95,",,,,") -> #N/A
B96: 3 | C96: ='Results - Derby and Notts'!A72 -> 34 | D96: =IF(LEFT('Results - Derby and Notts'!E72,1)="O","M",IF(LEFT('Results - Derby and Notts'!E72,1)="F","F",IF(LEFT('Results - Derby and Notts'!E72,1)="B","M",IF(LEFT('Results - Derby and Notts'!E72,1)="G","F","ERROR")))) -> F | E96: =PROPER('Lane 3 Team'!F52) | F96: =PROPER('Lane 3 Team'!G52) | G96: =VLOOKUP(Instructions!$I$27,Clubs,3,FALSE) -> #N/A | H96: ='Lane 3 Team'!H52 -> 0 | I96: ='Lane 3 Team'!I52 -> 0 | J96: =(TEXT(H96,"YYYY/MM/DD")) -> 1900/01/00 | L96: =CONCATENATE(F96,",",E96,",",J96,",",G96,",",D96,",",I96,",,,,") -> #N/A
B97: 3 | C97: ='Results - Derby and Notts'!A74 -> 35 | D97: =IF(LEFT('Results - Derby and Notts'!E74,1)="O","M",IF(LEFT('Results - Derby and Notts'!E74,1)="F","F",IF(LEFT('Results - Derby and Notts'!E74,1)="B","M",IF(LEFT('Results - Derby and Notts'!E74,1)="G","F","ERROR")))) -> M | E97: =PROPER('Lane 3 Team'!F53) | F97: =PROPER('Lane 3 Team'!G53) | G97: =VLOOKUP(Instructions!$I$27,Clubs,3,FALSE) -> #N/A | H97: ='Lane 3 Team'!H53 -> 0 | I97: ='Lane 3 Team'!I53 -> 0 | J97: =(TEXT(H97,"YYYY/MM/DD")) -> 1900/01/00 | L97: =CONCATENATE(F97,",",E97,",",J97,",",G97,",",D97,",",I97,",,,,") -> #N/A
B98: 3 | C98: ='Results - Derby and Notts'!A76 -> 36 | D98: =IF(LEFT('Results - Derby and Notts'!E76,1)="O","M",IF(LEFT('Results - Derby and Notts'!E76,1)="F","F",IF(LEFT('Results - Derby and Notts'!E76,1)="B","M",IF(LEFT('Results - Derby and Notts'!E76,1)="G","F","ERROR")))) -> F | E98: =PROPER('Lane 3 Team'!F54) | F98: =PROPER('Lane 3 Team'!G54) | G98: =VLOOKUP(Instructions!$I$27,Clubs,3,FALSE) -> #N/A | H98: ='Lane 3 Team'!H54 -> 0 | I98: ='Lane 3 Team'!I54 -> 0 | J98: =(TEXT(H98,"YYYY/MM/DD")) -> 1900/01/00 | L98: =CONCATENATE(F98,",",E98,",",J98,",",G98,",",D98,",",I98,",,,,") -> #N/A
B99: 4 | C99: ='Results - Derby and Notts'!A14 -> 5 | D99: =IF(LEFT('Results - Derby and Notts'!E14,1)="O","M",IF(LEFT('Results - Derby and Notts'!E14,1)="F","F",IF(LEFT('Results - Derby and Notts'!E14,1)="B","M",IF(LEFT('Results - Derby and Notts'!E14,1)="G","F","ERROR")))) -> M | E99: =PROPER('Lane 4 Team'!F23) | F99: =PROPER('Lane 4 Team'!G23) | G99: =VLOOKUP(Instructions!$C$28,Clubs,3,FALSE) -> #N/A | H99: ='Lane 4 Team'!H23 -> 0 | I99: ='Lane 4 Team'!I23 -> 0 | J99: =(TEXT(H99,"YYYY/MM/DD")) -> 1900/01/00 | L99: =CONCATENATE(F99,",",E99,",",J99,",",G99,",",D99,",",I99,",,,,") -> #N/A
B100: 4 | C100: ='Results - Derby and Notts'!A16 -> 6 | D100: =IF(LEFT('Results - Derby and Notts'!E16,1)="O","M",IF(LEFT('Results - Derby and Notts'!E16,1)="F","F",IF(LEFT('Results - Derby and Notts'!E16,1)="B","M",IF(LEFT('Results - Derby and Notts'!E16,1)="G","F","ERROR")))) -> F | E100: =PROPER('Lane 4 Team'!F24) | F100: =PROPER('Lane 4 Team'!G24) | G100: =VLOOKUP(Instructions!$C$28,Clubs,3,FALSE) -> #N/A | H100: ='Lane 4 Team'!H24 -> 0 | I100: ='Lane 4 Team'!I24 -> 0 | J100: =(TEXT(H100,"YYYY/MM/DD")) -> 1900/01/00 | L100: =CONCATENATE(F100,",",E100,",",J100,",",G100,",",D100,",",I100,",,,,") -> #N/A
B101: 4 | C101: ='Results - Derby and Notts'!A18 -> 7 | D101: =IF(LEFT('Results - Derby and Notts'!E18,1)="O","M",IF(LEFT('Results - Derby and Notts'!E18,1)="F","F",IF(LEFT('Results - Derby and Notts'!E18,1)="B","M",IF(LEFT('Results - Derby and Notts'!E18,1)="G","F","ERROR")))) -> M | E101: =PROPER('Lane 4 Team'!F25) | F101: =PROPER('Lane 4 Team'!G25) | G101: =VLOOKUP(Instructions!$C$28,Clubs,3,FALSE) -> #N/A | H101: ='Lane 4 Team'!H25 -> 0 | I101: ='Lane 4 Team'!I25 -> 0 | J101: =(TEXT(H101,"YYYY/MM/DD")) -> 1900/01/00 | L101: =CONCATENATE(F101,",",E101,",",J101,",",G101,",",D101,",",I101,",,,,") -> #N/A
...

Sheet Results - Derby and Notts
A1: Derby & Notts Diddy League | F1: Please ensure that the instuctions are read before completing this results sheet. | AQ1: =SUM(AQ4:AV4) -> 21 | AR1: =SUM(AR4:AV4) -> 15 | AS1: =SUM(AS4:AV4) -> 10 | AT1: =SUM(AT4:AV4) -> 6 | AU1: =SUM(AU4:AV4) -> 3 | AV1: =SUM(AV4) -> 1
A2: =Instructions!I12 -> 45745
A3: =CONCATENATE("Round ",Instructions!J16," - Gala ",Instructions!J14," - at ",Instructions!I20) -> Round 1 - Gala 1 - at | F3: Lane 1 | G3: =I91 -> 0 | H3: =CONCATENATE("Place: ",I92) -> Place: 1 | J3: Lane 2 | K3: =M91 -> 0 | L3: =CONCATENATE("Place: ",M92) -> Place: 1 | N3: Lane 3 | O3: =Q91 -> 0 | P3: =CONCATENATE("Place: ",Q92) -> Place: 1 | R3: Lane 4 | S3: =U91 -> 0 | T3: =CONCATENATE("Place: ",U92) -> Place: 1 | V3: Lane 5 | W3: =Y91 -> 0 | X3: =CONCATENATE("Place: ",Y92) -> Place: 1 | Z3: Lane 6 | AA3: =AC91 -> 0 | AB3: =CONCATENATE("Place: ",AC92) -> Place: 1 | AP3: Place | AQ3: 1 | AR3: 2 | AS3: 3 | AT3: 4 | AU3: 5 | AV3: 6 | AW3: 0
A4: Club | F4: ='Lane 1 Team'!F1 -> 0 | J4: ='Lane 2 Team'!F1 -> 0 | N4: ='Lane 3 Team'!F1 -> 0 | R4: ='Lane 4 Team'!F1 -> 0 | V4: ='Lane 5 Team'!F1 -> 0 | Z4: ='Lane 6 Team'!F1 -> 0 | AP4: Points | AQ4: =Instructions!J18 -> 6 | AR4: =AQ4-1 -> 5 | AS4: =AR4-1 -> 4 | AT4: =AS4-1 -> 3 | AU4: =AT4-1 -> 2 | AV4: =AU4-1 -> 1 | AW4: 0
A5: Event | F5: Time | G5: Place | H5: Point | I5: Total | J5: Time | K5: Place | L5: Point | M5: Total | N5: Time | O5: Place | P5: Point | Q5: Total | R5: Time | S5: Place | T5: Point | U5: Total | V5: Time | W5: Place | X5: Point | Y5: Total | Z5: Time | AA5: Place | AB5: Point | AC5: Total | AE5: Judges Place Check | AK5: DQ's or No Points | AL5: Warnings | AM5: TPE | AN5: TP | AO5: Comments | AQ5: Ln1 | AR5: Ln2 | AS5: Ln3 | AT5: Ln4 | AU5: Ln5 | AV5: Ln6 | AY5: Places | BE5: Change | BF5: No of 0 points | BG5: points sum | BH5: Total Check
A6: 1 | B6: 12/u | C6: 4 x 25m | D6: Medley Relay | E6: Mixed | F6: =Validation!H3 -> , , , | J6: =Validation!L3 -> , , , | N6: =Validation!P3 -> , , , | R6: =Validation!T3 -> , , , | V6: =Validation!X3 -> , , , | Z6: =Validation!AB3 -> , , ,
A7: 2 Open/Males and 2 Females (any order) | F7: np | G7: =IF(AQ7=999,0,RANK(AQ7,$AQ7:$AV7,1)) -> 0 | H7: =HLOOKUP(G7,$AP$3:$AW$4,2,FALSE) -> 0 | I7: =H7 -> 0 | J7: np | K7: =IF(AR7=999,0,RANK(AR7,$AQ7:$AV7,1)) -> 0 | L7: =HLOOKUP(K7,$AP$3:$AW$4,2,FALSE) -> 0 | M7: =L7 -> 0 | N7: np | O7: =IF(AS7=999,0,RANK(AS7,$AQ7:$AV7,1)) -> 0 | P7: =HLOOKUP(O7,$AP$3:$AW$4,2,FALSE) -> 0 | Q7: =P7 -> 0 | R7: np | S7: =IF(AT7=999,0,RANK(AT7,$AQ7:$AV7,1)) -> 0 | T7: =HLOOKUP(S7,$AP$3:$AW$4,2,FALSE) -> 0 | U7: =T7 -> 0 | V7: np | W7: =IF(AU7=999,0,RANK(AU7,$AQ7:$AV7,1)) -> 0 | X7: =HLOOKUP(W7,$AP$3:$AW$4,2,FALSE) -> 0 | Y7: =X7 -> 0 | Z7: np | AA7: =IF(AV7=999,0,RANK(AV7,$AQ7:$AV7,1)) -> 0 | AB7: =HLOOKUP(AA7,$AP$3:$AW$4,2,FALSE) -> 0 | AC7: =AB7 -> 0 | AE7: =IF(BF7>$AR$4,"",MATCH(1,AY7:BD7,0)) | AF7: =IF(Instructions!$J$18>1,IF(BF7>$AS$4,"",MATCH(2,AY7:BD7,0)),"") | AG7: =IF(Instructions!$J$18>2,IF(BF7>$AT$4,"",MATCH(3,AY7:BD7,0)),"") | AH7: =IF(Instructions!$J$18>3,IF(BF7>$AU$4,"",MATCH(4,AY7:BD7,0)),"") | AI7: =IF(Instructions!$J$18>4,IF(BF7>$AV$4,"",MATCH(5,AY7:BD7,0)),"") | AJ7: =IF(Instructions!$J$18>5,IF(BF7>0,"",MATCH(6,AY7:BD7,0)),"") | AK7: =CONCATENATE(IF(AY7=0,"1, ",""),IF(AZ7=0,"2, ",""),IF(BA7=0,"3, ",""),IF(BB7=0,"4, ",""),IF(BC7=0,"5, ",""),IF(BD7=0,"6","")) -> 1, 2, 3, 4, 5, 6 | AL7: =IF(BH7>$AQ$1,"JOINT PLACING!!","") | AM7: =H7+L7+P7+T7+X7+AB7 -> 0 | AN7: =AM7 -> 0 | AQ7: =IF(LEFT(F7,2)="dq",999,IF(LEFT(F7,2)="dn",999,IF(F7="np",999,F7))) -> 999 | AR7: =IF(LEFT(J7,2)="dq",999,IF(LEFT(J7,2)="dn",999,IF(J7="np",999,J7))) -> 999 | AS7: =IF(LEFT(N7,2)="dq",999,IF(LEFT(N7,2)="dn",999,IF(N7="np",999,N7))) -> 999 | AT7: =IF(LEFT(R7,2)="dq",999,IF(LEFT(R7,2)="dn",999,IF(R7="np",999,R7))) -> 999 | AU7: =IF(LEFT(V7,2)="dq",999,IF(LEFT(V7,2)="dn",999,IF(V7="np",999,V7))) -> 999 | AV7: =IF(LEFT(Z7,2)="dq",999,IF(LEFT(Z7,2)="dn",999,IF(Z7="np",999,Z7))) -> 999 | AY7: =G7 -> 0 | AZ7: =K7 -> 0 | BA7: =O7 -> 0 | BB7: =S7 -> 0 | BC7: =W7 -> 0 | BD7: =AA7 -> 0 | BE7: =SUM(6-Instructions!$J$18) -> 0 | BF7: =COUNTIF(AY7:BD7,0)-BE7 -> 6 | BG7: =IF(BF7=$AQ$4,$AQ$1,IF(BF7=$AR$4,$AR$1,IF(BF7=$AS$4,$AS$1,IF(BF7=$AT$4,$AT$1,IF(BF7=$AU$4,$AU$1,IF(BF7=$AV$4,$AV$1,IF(BF7=0,0,"ERROR"))))))) -> 21 | BH7: =SUM(AM7+BG7) -> 21
A8: 2 | B8: 9 yrs | C8: 4 x 25m | D8: Freestyle Relay | E8: Mixed | F8: =Validation!H8 -> , , , | J8: =Validation!L8 -> , , , | N8: =Validation!P8 -> , , , | R8: =Validation!T8 -> , , , | V8: =Validation!X8 -> , , , | Z8: =Validation!AB8 -> , , ,
A9: 2 Open/Males and 2 Females (any order) | F9: np | G9: =IF(AQ9=999,0,RANK(AQ9,$AQ9:$AV9,1)) -> 0 | H9: =HLOOKUP(G9,$AP$3:$AW$4,2,FALSE) -> 0 | I9: =I7+H9 -> 0 | J9: np | K9: =IF(AR9=999,0,RANK(AR9,$AQ9:$AV9,1)) -> 0 | L9: =HLOOKUP(K9,$AP$3:$AW$4,2,FALSE) -> 0 | M9: =M7+L9 -> 0 | N9: np | O9: =IF(AS9=999,0,RANK(AS9,$AQ9:$AV9,1)) -> 0 | P9: =HLOOKUP(O9,$AP$3:$AW$4,2,FALSE) -> 0 | Q9: =Q7+P9 -> 0 | R9: np | S9: =IF(AT9=999,0,RANK(AT9,$AQ9:$AV9,1)) -> 0 | T9: =HLOOKUP(S9,$AP$3:$AW$4,2,FALSE) -> 0 | U9: =U7+T9 -> 0 | V9: np | W9: =IF(AU9=999,0,RANK(AU9,$AQ9:$AV9,1)) -> 0 | X9: =HLOOKUP(W9,$AP$3:$AW$4,2,FALSE) -> 0 | Y9: =Y7+X9 -> 0 | Z9: np | AA9: =IF(AV9=999,0,RANK(AV9,$AQ9:$AV9,1)) -> 0 | AB9: =HLOOKUP(AA9,$AP$3:$AW$4,2,FALSE) -> 0 | AC9: =AC7+AB9 -> 0 | AE9: =IF(BF9>$AR$4,"",MATCH(1,AY9:BD9,0)) | AF9: =IF(Instructions!$J$18>1,IF(BF9>$AS$4,"",MATCH(2,AY9:BD9,0)),"") | AG9: =IF(Instructions!$J$18>2,IF(BF9>$AT$4,"",MATCH(3,AY9:BD9,0)),"") | AH9: =IF(Instructions!$J$18>3,IF(BF9>$AU$4,"",MATCH(4,AY9:BD9,0)),"") | AI9: =IF(Instructions!$J$18>4,IF(BF9>$AV$4,"",MATCH(5,AY9:BD9,0)),"") | AJ9: =IF(Instructions!$J$18>5,IF(BF9>0,"",MATCH(6,AY9:BD9,0)),"") | AK9: =CONCATENATE(IF(AY9=0,"1, ",""),IF(AZ9=0,"2, ",""),IF(BA9=0,"3, ",""),IF(BB9=0,"4, ",""),IF(BC9=0,"5, ",""),IF(BD9=0,"6","")) -> 1, 2, 3, 4, 5, 6 | AL9: =IF(BH9>$AQ$1,"JOINT PLACING!!","") | AM9: =H9+L9+P9+T9+X9+AB9 -> 0 | AN9: =#REF!+AM9 -> #REF! | AQ9: =IF(LEFT(F9,2)="dq",999,IF(LEFT(F9,2)="dn",999,IF(F9="np",999,F9))) -> 999 | AR9: =IF(LEFT(J9,2)="dq",999,IF(LEFT(J9,2)="dn",999,IF(J9="np",999,J9))) -> 999 | AS9: =IF(LEFT(N9,2)="dq",999,IF(LEFT(N9,2)="dn",999,IF(N9="np",999,N9))) -> 999 | AT9: =IF(LEFT(R9,2)="dq",999,IF(LEFT(R9,2)="dn",999,IF(R9="np",999,R9))) -> 999 | AU9: =IF(LEFT(V9,2)="dq",999,IF(LEFT(V9,2)="dn",999,IF(V9="np",999,V9))) -> 999 | AV9: =IF(LEFT(Z9,2)="dq",999,IF(LEFT(Z9,2)="dn",999,IF(Z9="np",999,Z9))) -> 999 | AY9: =G9 -> 0 | AZ9: =K9 -> 0 | BA9: =O9 -> 0 | BB9: =S9 -> 0 | BC9: =W9 -> 0 | BD9: =AA9 -> 0 | BE9: =SUM(6-Instructions!$J$18) -> 0 | BF9: =COUNTIF(AY9:BD9,0)-BE9 -> 6 | BG9: =IF(BF9=$AQ$4,$AQ$1,IF(BF9=$AR$4,$AR$1,IF(BF9=$AS$4,$AS$1,IF(BF9=$AT$4,$AT$1,IF(BF9=$AU$4,$AU$1,IF(BF9=$AV$4,$AV$1,IF(BF9=0,0,"ERROR"))))))) -> 21 | BH9: =SUM(AM9+BG9) -> 21
A10: 3 | B10: 10/u | C10: 4 x 25m | D10: Medley Relay | E10: Mixed | F10: =Validation!H13 -> , , , | J10: =Validation!L13 -> , , , | N10: =Validation!P13 -> , , , | R10: =Validation!T13 -> , , , | V10: =Validation!X13 -> , , , | Z10: =Validation!AB13 -> , , ,
A11: 2 Open/Males and 2 Females (any order) | F11: np | G11: =IF(AQ11=999,0,RANK(AQ11,$AQ11:$AV11,1)) -> 0 | H11: =HLOOKUP(G11,$AP$3:$AW$4,2,FALSE) -> 0 | I11: =I9+H11 -> 0 | J11: np | K11: =IF(AR11=999,0,RANK(AR11,$AQ11:$AV11,1)) -> 0 | L11: =HLOOKUP(K11,$AP$3:$AW$4,2,FALSE) -> 0 | M11: =M9+L11 -> 0 | N11: np | O11: =IF(AS11=999,0,RANK(AS11,$AQ11:$AV11,1)) -> 0 | P11: =HLOOKUP(O11,$AP$3:$AW$4,2,FALSE) -> 0 | Q11: =Q9+P11 -> 0 | R11: np | S11: =IF(AT11=999,0,RANK(AT11,$AQ11:$AV11,1)) -> 0 | T11: =HLOOKUP(S11,$AP$3:$AW$4,2,FALSE) -> 0 | U11: =U9+T11 -> 0 | V11: np | W11: =IF(AU11=999,0,RANK(AU11,$AQ11:$AV11,1)) -> 0 | X11: =HLOOKUP(W11,$AP$3:$AW$4,2,FALSE) -> 0 | Y11: =Y9+X11 -> 0 | Z11: np | AA11: =IF(AV11=999,0,RANK(AV11,$AQ11:$AV11,1)) -> 0 | AB11: =HLOOKUP(AA11,$AP$3:$AW$4,2,FALSE) -> 0 | AC11: =AC9+AB11 -> 0 | AE11: =IF(BF11>$AR$4,"",MATCH(1,AY11:BD11,0)) | AF11: =IF(Instructions!$J$18>1,IF(BF11>$AS$4,"",MATCH(2,AY11:BD11,0)),"") | AG11: =IF(Instructions!$J$18>2,IF(BF11>$AT$4,"",MATCH(3,AY11:BD11,0)),"") | AH11: =IF(Instructions!$J$18>3,IF(BF11>$AU$4,"",MATCH(4,AY11:BD11,0)),"") | AI11: =IF(Instructions!$J$18>4,IF(BF11>$AV$4,"",MATCH(5,AY11:BD11,0)),"") | AJ11: =IF(Instructions!$J$18>5,IF(BF11>0,"",MATCH(6,AY11:BD11,0)),"") | AK11: =CONCATENATE(IF(AY11=0,"1, ",""),IF(AZ11=0,"2, ",""),IF(BA11=0,"3, ",""),IF(BB11=0,"4, ",""),IF(BC11=0,"5, ",""),IF(BD11=0,"6","")) -> 1, 2, 3, 4, 5, 6 | AL11: =IF(BH11>$AQ$1,"JOINT PLACING!!","") | AM11: =H11+L11+P11+T11+X11+AB11 -> 0 | AN11: =AN9+AM11 -> #REF! | AQ11: =IF(LEFT(F11,2)="dq",999,IF(LEFT(F11,2)="dn",999,IF(F11="np",999,F11))) -> 999 | AR11: =IF(LEFT(J11,2)="dq",999,IF(LEFT(J11,2)="dn",999,IF(J11="np",999,J11))) -> 999 | AS11: =IF(LEFT(N11,2)="dq",999,IF(LEFT(N11,2)="dn",999,IF(N11="np",999,N11))) -> 999 | AT11: =IF(LEFT(R11,2)="dq",999,IF(LEFT(R11,2)="dn",999,IF(R11="np",999,R11))) -> 999 | AU11: =IF(LEFT(V11,2)="dq",999,IF(LEFT(V11,2)="dn",999,IF(V11="np",999,V11))) -> 999 | AV11: =IF(LEFT(Z11,2)="dq",999,IF(LEFT(Z11,2)="dn",999,IF(Z11="np",999,Z11))) -> 999 | AY11: =G11 -> 0 | AZ11: =K11 -> 0 | BA11: =O11 -> 0 | BB11: =S11 -> 0 | BC11: =W11 -> 0 | BD11: =AA11 -> 0 | BE11: =SUM(6-Instructions!$J$18) -> 0 | BF11: =COUNTIF(AY11:BD11,0)-BE11 -> 6 | BG11: =IF(BF11=$AQ$4,$AQ$1,IF(BF11=$AR$4,$AR$1,IF(BF11=$AS$4,$AS$1,IF(BF11=$AT$4,$AT$1,IF(BF11=$AU$4,$AU$1,IF(BF11=$AV$4,$AV$1,IF(BF11=0,0,"ERROR"))))))) -> 21 | BH11: =SUM(AM11+BG11) -> 21
A12: 4 | B12: 11/u | C12: 4 x 25m | D12: Freestyle Relay | E12: Mixed | F12: =Validation!H18 -> , , , | J12: =Validation!L18 -> , , , | N12: =Validation!P18 -> , , , | R12: =Validation!T18 -> , , , | V12: =Validation!X18 -> , , , | Z12: =Validation!AB18 -> , , ,
A13: 2 Open/Males and 2 Females (any order) | F13: np | G13: =IF(AQ13=999,0,RANK(AQ13,$AQ13:$AV13,1)) -> 0 | H13: =HLOOKUP(G13,$AP$3:$AW$4,2,FALSE) -> 0 | I13: =I11+H13 -> 0 | J13: np | K13: =IF(AR13=999,0,RANK(AR13,$AQ13:$AV13,1)) -> 0 | L13: =HLOOKUP(K13,$AP$3:$AW$4,2,FALSE) -> 0 | M13: =M11+L13 -> 0 | N13: np | O13: =IF(AS13=999,0,RANK(AS13,$AQ13:$AV13,1)) -> 0 | P13: =HLOOKUP(O13,$AP$3:$AW$4,2,FALSE) -> 0 | Q13: =Q11+P13 -> 0 | R13: np | S13: =IF(AT13=999,0,RANK(AT13,$AQ13:$AV13,1)) -> 0 | T13: =HLOOKUP(S13,$AP$3:$AW$4,2,FALSE) -> 0 | U13: =U11+T13 -> 0 | V13: np | W13: =IF(AU13=999,0,RANK(AU13,$AQ13:$AV13,1)) -> 0 | X13: =HLOOKUP(W13,$AP$3:$AW$4,2,FALSE) -> 0 | Y13: =Y11+X13 -> 0 | Z13: np | AA13: =IF(AV13=999,0,RANK(AV13,$AQ13:$AV13,1)) -> 0 | AB13: =HLOOKUP(AA13,$AP$3:$AW$4,2,FALSE) -> 0 | AC13: =AC11+AB13 -> 0 | AE13: =IF(BF13>$AR$4,"",MATCH(1,AY13:BD13,0)) | AF13: =IF(Instructions!$J$18>1,IF(BF13>$AS$4,"",MATCH(2,AY13:BD13,0)),"") | AG13: =IF(Instructions!$J$18>2,IF(BF13>$AT$4,"",MATCH(3,AY13:BD13,0)),"") | AH13: =IF(Instructions!$J$18>3,IF(BF13>$AU$4,"",MATCH(4,AY13:BD13,0)),"") | AI13: =IF(Instructions!$J$18>4,IF(BF13>$AV$4,"",MATCH(5,AY13:BD13,0)),"") | AJ13: =IF(Instructions!$J$18>5,IF(BF13>0,"",MATCH(6,AY13:BD13,0)),"") | AK13: =CONCATENATE(IF(AY13=0,"1, ",""),IF(AZ13=0,"2, ",""),IF(BA13=0,"3, ",""),IF(BB13=0,"4, ",""),IF(BC13=0,"5, ",""),IF(BD13=0,"6","")) -> 1, 2, 3, 4, 5, 6 | AL13: =IF(BH13>$AQ$1,"JOINT PLACING!!","") | AM13: =H13+L13+P13+T13+X13+AB13 -> 0 | AN13: =#REF!+AM13 -> #REF! | AQ13: =IF(LEFT(F13,2)="dq",999,IF(LEFT(F13,2)="dn",999,IF(F13="np",999,F13))) -> 999 | AR13: =IF(LEFT(J13,2)="dq",999,IF(LEFT(J13,2)="dn",999,IF(J13="np",999,J13))) -> 999 | AS13: =IF(LEFT(N13,2)="dq",999,IF(LEFT(N13,2)="dn",999,IF(N13="np",999,N13))) -> 999 | AT13: =IF(LEFT(R13,2)="dq",999,IF(LEFT(R13,2)="dn",999,IF(R13="np",999,R13))) -> 999 | AU13: =IF(LEFT(V13,2)="dq",999,IF(LEFT(V13,2)="dn",999,IF(V13="np",999,V13))) -> 999 | AV13: =IF(LEFT(Z13,2)="dq",999,IF(LEFT(Z13,2)="dn",999,IF(Z13="np",999,Z13))) -> 999 | AY13: =G13 -> 0 | AZ13: =K13 -> 0 | BA13: =O13 -> 0 | BB13: =S13 -> 0 | BC13: =W13 -> 0 | BD13: =AA13 -> 0 | BE13: =SUM(6-Instructions!$J$18) -> 0 | BF13: =COUNTIF(AY13:BD13,0)-BE13 -> 6 | BG13: =IF(BF13=$AQ$4,$AQ$1,IF(BF13=$AR$4,$AR$1,IF(BF13=$AS$4,$AS$1,IF(BF13=$AT$4,$AT$1,IF(BF13=$AU$4,$AU$1,IF(BF13=$AV$4,$AV$1,IF(BF13=0,0,"ERROR"))))))) -> 21 | BH13: =SUM(AM13+BG13) -> 21
A14: 5 | B14: 9 yrs | C14: 25m | D14: Freestyle | E14: Open/Male | F14: =Validation!F23 | J14: =Validation!J23 | N14: =Validation!N23 | R14: =Validation!R23 | V14: =Validation!V23 | Z14: =Validation!Z23
F15: np | G15: =IF(AQ15=999,0,RANK(AQ15,$AQ15:$AV15,1)) -> 0 | H15: =HLOOKUP(G15,$AP$3:$AW$4,2,FALSE) -> 0 | I15: =I13+H15 -> 0 | J15: np | K15: =IF(AR15=999,0,RANK(AR15,$AQ15:$AV15,1)) -> 0 | L15: =HLOOKUP(K15,$AP$3:$AW$4,2,FALSE) -> 0 | M15: =M13+L15 -> 0 | N15: np | O15: =IF(AS15=999,0,RANK(AS15,$AQ15:$AV15,1)) -> 0 | P15: =HLOOKUP(O15,$AP$3:$AW$4,2,FALSE) -> 0 | Q15: =Q13+P15 -> 0 | R15: np | S15: =IF(AT15=999,0,RANK(AT15,$AQ15:$AV15,1)) -> 0 | T15: =HLOOKUP(S15,$AP$3:$AW$4,2,FALSE) -> 0 | U15: =U13+T15 -> 0 | V15: np | W15: =IF(AU15=999,0,RANK(AU15,$AQ15:$AV15,1)) -> 0 | X15: =HLOOKUP(W15,$AP$3:$AW$4,2,FALSE) -> 0 | Y15: =Y13+X15 -> 0 | Z15: np | AA15: =IF(AV15=999,0,RANK(AV15,$AQ15:$AV15,1)) -> 0 | AB15: =HLOOKUP(AA15,$AP$3:$AW$4,2,FALSE) -> 0 | AC15: =AC13+AB15 -> 0 | AE15: =IF(BF15>$AR$4,"",MATCH(1,AY15:BD15,0)) | AF15: =IF(Instructions!$J$18>1,IF(BF15>$AS$4,"",MATCH(2,AY15:BD15,0)),"") | AG15: =IF(Instructions!$J$18>2,IF(BF15>$AT$4,"",MATCH(3,AY15:BD15,0)),"") | AH15: =IF(Instructions!$J$18>3,IF(BF15>$AU$4,"",MATCH(4,AY15:BD15,0)),"") | AI15: =IF(Instructions!$J$18>4,IF(BF15>$AV$4,"",MATCH(5,AY15:BD15,0)),"") | AJ15: =IF(Instructions!$J$18>5,IF(BF15>0,"",MATCH(6,AY15:BD15,0)),"") | AK15: =CONCATENATE(IF(AY15=0,"1, ",""),IF(AZ15=0,"2, ",""),IF(BA15=0,"3, ",""),IF(BB15=0,"4, ",""),IF(BC15=0,"5, ",""),IF(BD15=0,"6","")) -> 1, 2, 3, 4, 5, 6 | AL15: =IF(BH15>$AQ$1,"JOINT PLACING!!","") | AM15: =H15+L15+P15+T15+X15+AB15 -> 0 | AN15: =#REF!+AM15 -> #REF! | AQ15: =IF(LEFT(F15,2)="dq",999,IF(LEFT(F15,2)="dn",999,IF(F15="np",999,F15))) -> 999 | AR15: =IF(LEFT(J15,2)="dq",999,IF(LEFT(J15,2)="dn",999,IF(J15="np",999,J15))) -> 999 | AS15: =IF(LEFT(N15,2)="dq",999,IF(LEFT(N15,2)="dn",999,IF(N15="np",999,N15))) -> 999 | AT15: =IF(LEFT(R15,2)="dq",999,IF(LEFT(R15,2)="dn",999,IF(R15="np",999,R15))) -> 999 | AU15: =IF(LEFT(V15,2)="dq",999,IF(LEFT(V15,2)="dn",999,IF(V15="np",999,V15))) -> 999 | AV15: =IF(LEFT(Z15,2)="dq",999,IF(LEFT(Z15,2)="dn",999,IF(Z15="np",999,Z15))) -> 999 | AY15: =G15 -> 0 | AZ15: =K15 -> 0 | BA15: =O15 -> 0 | BB15: =S15 -> 0 | BC15: =W15 -> 0 | BD15: =AA15 -> 0 | BE15: =SUM(6-Instructions!$J$18) -> 0 | BF15: =COUNTIF(AY15:BD15,0)-BE15 -> 6 | BG15: =IF(BF15=$AQ$4,$AQ$1,IF(BF15=$AR$4,$AR$1,IF(BF15=$AS$4,$AS$1,IF(BF15=$AT$4,$AT$1,IF(BF15=$AU$4,$AU$1,IF(BF15=$AV$4,$AV$1,IF(BF15=0,0,"ERROR"))))))) -> 21 | BH15: =SUM(AM15+BG15) -> 21
A16: 6 | B16: 9 yrs | C16: 25m | D16: Freestyle | E16: Female | F16: =Validation!F24 | J16: =Validation!J24 | N16: =Validation!N24 | R16: =Validation!R24 | V16: =Validation!V24 | Z16: =Validation!Z24
F17: np | G17: =IF(AQ17=999,0,RANK(AQ17,$AQ17:$AV17,1)) -> 0 | H17: =HLOOKUP(G17,$AP$3:$AW$4,2,FALSE) -> 0 | I17: =I15+H17 -> 0 | J17: np | K17: =IF(AR17=999,0,RANK(AR17,$AQ17:$AV17,1)) -> 0 | L17: =HLOOKUP(K17,$AP$3:$AW$4,2,FALSE) -> 0 | M17: =M15+L17 -> 0 | N17: np | O17: =IF(AS17=999,0,RANK(AS17,$AQ17:$AV17,1)) -> 0 | P17: =HLOOKUP(O17,$AP$3:$AW$4,2,FALSE) -> 0 | Q17: =Q15+P17 -> 0 | R17: np | S17: =IF(AT17=999,0,RANK(AT17,$AQ17:$AV17,1)) -> 0 | T17: =HLOOKUP(S17,$AP$3:$AW$4,2,FALSE) -> 0 | U17: =U15+T17 -> 0 | V17: np | W17: =IF(AU17=999,0,RANK(AU17,$AQ17:$AV17,1)) -> 0 | X17: =HLOOKUP(W17,$AP$3:$AW$4,2,FALSE) -> 0 | Y17: =Y15+X17 -> 0 | Z17: np | AA17: =IF(AV17=999,0,RANK(AV17,$AQ17:$AV17,1)) -> 0 | AB17: =HLOOKUP(AA17,$AP$3:$AW$4,2,FALSE) -> 0 | AC17: =AC15+AB17 -> 0 | AE17: =IF(BF17>$AR$4,"",MATCH(1,AY17:BD17,0)) | AF17: =IF(Instructions!$J$18>1,IF(BF17>$AS$4,"",MATCH(2,AY17:BD17,0)),"") | AG17: =IF(Instructions!$J$18>2,IF(BF17>$AT$4,"",MATCH(3,AY17:BD17,0)),"") | AH17: =IF(Instructions!$J$18>3,IF(BF17>$AU$4,"",MATCH(4,AY17:BD17,0)),"") | AI17: =IF(Instructions!$J$18>4,IF(BF17>$AV$4,"",MATCH(5,AY17:BD17,0)),"") | AJ17: =IF(Instructions!$J$18>5,IF(BF17>0,"",MATCH(6,AY17:BD17,0)),"") | AK17: =CONCATENATE(IF(AY17=0,"1, ",""),IF(AZ17=0,"2, ",""),IF(BA17=0,"3, ",""),IF(BB17=0,"4, ",""),IF(BC17=0,"5, ",""),IF(BD17=0,"6","")) -> 1, 2, 3, 4, 5, 6 | AL17: =IF(BH17>$AQ$1,"JOINT PLACING!!","") | AM17: =H17+L17+P17+T17+X17+AB17 -> 0 | AN17: =AN15+AM17 -> #REF! | AQ17: =IF(LEFT(F17,2)="dq",999,IF(LEFT(F17,2)="dn",999,IF(F17="np",999,F17))) -> 999 | AR17: =IF(LEFT(J17,2)="dq",999,IF(LEFT(J17,2)="dn",999,IF(J17="np",999,J17))) -> 999 | AS17: =IF(LEFT(N17,2)="dq",999,IF(LEFT(N17,2)="dn",999,IF(N17="np",999,N17))) -> 999 | AT17: =IF(LEFT(R17,2)="dq",999,IF(LEFT(R17,2)="dn",999,IF(R17="np",999,R17))) -> 999 | AU17: =IF(LEFT(V17,2)="dq",999,IF(LEFT(V17,2)="dn",999,IF(V17="np",999,V17))) -> 999 | AV17: =IF(LEFT(Z17,2)="dq",999,IF(LEFT(Z17,2)="dn",999,IF(Z17="np",999,Z17))) -> 999 | AY17: =G17 -> 0 | AZ17: =K17 -> 0 | BA17: =O17 -> 0 | BB17: =S17 -> 0 | BC17: =W17 -> 0 | BD17: =AA17 -> 0 | BE17: =SUM(6-Instructions!$J$18) -> 0 | BF17: =COUNTIF(AY17:BD17,0)-BE17 -> 6 | BG17: =IF(BF17=$AQ$4,$AQ$1,IF(BF17=$AR$4,$AR$1,IF(BF17=$AS$4,$AS$1,IF(BF17=$AT$4,$AT$1,IF(BF17=$AU$4,$AU$1,IF(BF17=$AV$4,$AV$1,IF(BF17=0,0,"ERROR"))))))) -> 21 | BH17: =SUM(AM17+BG17) -> 21
A18: 7 | B18: 10 yrs | C18: 50m | D18: Breaststroke | E18: Open/Male | F18: =Validation!F25 | J18: =Validation!J25 | N18: =Validation!N25 | R18: =Validation!R25 | V18: =Validation!V25 | Z18: =Validation!Z25
F19: np | G19: =IF(AQ19=999,0,RANK(AQ19,$AQ19:$AV19,1)) -> 0 | H19: =HLOOKUP(G19,$AP$3:$AW$4,2,FALSE) -> 0 | I19: =I17+H19 -> 0 | J19: np | K19: =IF(AR19=999,0,RANK(AR19,$AQ19:$AV19,1)) -> 0 | L19: =HLOOKUP(K19,$AP$3:$AW$4,2,FALSE) -> 0 | M19: =M17+L19 -> 0 | N19: np | O19: =IF(AS19=999,0,RANK(AS19,$AQ19:$AV19,1)) -> 0 | P19: =HLOOKUP(O19,$AP$3:$AW$4,2,FALSE) -> 0 | Q19: =Q17+P19 -> 0 | R19: np | S19: =IF(AT19=999,0,RANK(AT19,$AQ19:$AV19,1)) -> 0 | T19: =HLOOKUP(S19,$AP$3:$AW$4,2,FALSE) -> 0 | U19: =U17+T19 -> 0 | V19: np | W19: =IF(AU19=999,0,RANK(AU19,$AQ19:$AV19,1)) -> 0 | X19: =HLOOKUP(W19,$AP$3:$AW$4,2,FALSE) -> 0 | Y19: =Y17+X19 -> 0 | Z19: np | AA19: =IF(AV19=999,0,RANK(AV19,$AQ19:$AV19,1)) -> 0 | AB19: =HLOOKUP(AA19,$AP$3:$AW$4,2,FALSE) -> 0 | AC19: =AC17+AB19 -> 0 | AE19: =IF(BF19>$AR$4,"",MATCH(1,AY19:BD19,0)) | AF19: =IF(Instructions!$J$18>1,IF(BF19>$AS$4,"",MATCH(2,AY19:BD19,0)),"") | AG19: =IF(Instructions!$J$18>2,IF(BF19>$AT$4,"",MATCH(3,AY19:BD19,0)),"") | AH19: =IF(Instructions!$J$18>3,IF(BF19>$AU$4,"",MATCH(4,AY19:BD19,0)),"") | AI19: =IF(Instructions!$J$18>4,IF(BF19>$AV$4,"",MATCH(5,AY19:BD19,0)),"") | AJ19: =IF(Instructions!$J$18>5,IF(BF19>0,"",MATCH(6,AY19:BD19,0)),"") | AK19: =CONCATENATE(IF(AY19=0,"1, ",""),IF(AZ19=0,"2, ",""),IF(BA19=0,"3, ",""),IF(BB19=0,"4, ",""),IF(BC19=0,"5, ",""),IF(BD19=0,"6","")) -> 1, 2, 3, 4, 5, 6 | AL19: =IF(BH19>$AQ$1,"JOINT PLACING!!","") | AM19: =H19+L19+P19+T19+X19+AB19 -> 0 | AN19: =AN17+AM19 -> #REF! | AQ19: =IF(LEFT(F19,2)="dq",999,IF(LEFT(F19,2)="dn",999,IF(F19="np",999,F19))) -> 999 | AR19: =IF(LEFT(J19,2)="dq",999,IF(LEFT(J19,2)="dn",999,IF(J19="np",999,J19))) -> 999 | AS19: =IF(LEFT(N19,2)="dq",999,IF(LEFT(N19,2)="dn",999,IF(N19="np",999,N19))) -> 999 | AT19: =IF(LEFT(R19,2)="dq",999,IF(LEFT(R19,2)="dn",999,IF(R19="np",999,R19))) -> 999 | AU19: =IF(LEFT(V19,2)="dq",999,IF(LEFT(V19,2)="dn",999,IF(V19="np",999,V19))) -> 999 | AV19: =IF(LEFT(Z19,2)="dq",999,IF(LEFT(Z19,2)="dn",999,IF(Z19="np",999,Z19))) -> 999 | AY19: =G19 -> 0 | AZ19: =K19 -> 0 | BA19: =O19 -> 0 | BB19: =S19 -> 0 | BC19: =W19 -> 0 | BD19: =AA19 -> 0 | BE19: =SUM(6-Instructions!$J$18) -> 0 | BF19: =COUNTIF(AY19:BD19,0)-BE19 -> 6 | BG19: =IF(BF19=$AQ$4,$AQ$1,IF(BF19=$AR$4,$AR$1,IF(BF19=$AS$4,$AS$1,IF(BF19=$AT$4,$AT$1,IF(BF19=$AU$4,$AU$1,IF(BF19=$AV$4,$AV$1,IF(BF19=0,0,"ERROR"))))))) -> 21 | BH19: =SUM(AM19+BG19) -> 21
A20: 8 | B20: 10 yrs | C20: 50m | D20: Breaststroke | E20: Female | F20: =Validation!F26 | J20: =Validation!J26 | N20: =Validation!N26 | R20: =Validation!R26 | V20: =Validation!V26 | Z20: =Validation!Z26
